Back to Multiple platform build/check report for BioC 3.22:   simplified   long
ABCDEF[G]HIJKLMNOPQRSTUVWXYZ

This page was generated on 2025-10-04 12:06 -0400 (Sat, 04 Oct 2025).

HostnameOSArch (*)R versionInstalled pkgs
nebbiolo2Linux (Ubuntu 24.04.3 LTS)x86_644.5.1 Patched (2025-08-23 r88802) -- "Great Square Root" 4853
lconwaymacOS 12.7.1 Montereyx86_644.5.1 Patched (2025-09-10 r88807) -- "Great Square Root" 4640
kjohnson3macOS 13.7.7 Venturaarm644.5.1 Patched (2025-09-10 r88807) -- "Great Square Root" 4585
taishanLinux (openEuler 24.03 LTS)aarch644.5.0 (2025-04-11) -- "How About a Twenty-Six" 4576
Click on any hostname to see more info about the system (e.g. compilers)      (*) as reported by 'uname -p', except on Windows and Mac OS X

Package 868/2341HostnameOS / ArchINSTALLBUILDCHECKBUILD BIN
ggkegg 1.7.2  (landing page)
Noriaki Sato
Snapshot Date: 2025-10-03 13:45 -0400 (Fri, 03 Oct 2025)
git_url: https://git.bioconductor.org/packages/ggkegg
git_branch: devel
git_last_commit: 9668270
git_last_commit_date: 2025-09-29 23:09:00 -0400 (Mon, 29 Sep 2025)
nebbiolo2Linux (Ubuntu 24.04.3 LTS) / x86_64  OK    OK    OK  UNNEEDED, same version is already published
lconwaymacOS 12.7.1 Monterey / x86_64  OK    OK    OK    OK  UNNEEDED, same version is already published
kjohnson3macOS 13.7.7 Ventura / arm64  OK    OK    OK    OK  UNNEEDED, same version is already published
taishanLinux (openEuler 24.03 LTS) / aarch64  OK    OK    OK  


CHECK results for ggkegg on kjohnson3

To the developers/maintainers of the ggkegg package:
- Allow up to 24 hours (and sometimes 48 hours) for your latest push to git@git.bioconductor.org:packages/ggkegg.git to reflect on this report. See Troubleshooting Build Report for more information.
- Use the following Renviron settings to reproduce errors and warnings.
- If 'R CMD check' started to fail recently on the Linux builder(s) over a missing dependency, add the missing dependency to 'Suggests:' in your DESCRIPTION file. See Renviron.bioc for more information.

raw results


Summary

Package: ggkegg
Version: 1.7.2
Command: /Library/Frameworks/R.framework/Resources/bin/R CMD check --install=check:ggkegg.install-out.txt --library=/Library/Frameworks/R.framework/Resources/library --no-vignettes --timings ggkegg_1.7.2.tar.gz
StartedAt: 2025-10-03 19:42:04 -0400 (Fri, 03 Oct 2025)
EndedAt: 2025-10-03 19:43:26 -0400 (Fri, 03 Oct 2025)
EllapsedTime: 82.1 seconds
RetCode: 0
Status:   OK  
CheckDir: ggkegg.Rcheck
Warnings: 0

Command output

##############################################################################
##############################################################################
###
### Running command:
###
###   /Library/Frameworks/R.framework/Resources/bin/R CMD check --install=check:ggkegg.install-out.txt --library=/Library/Frameworks/R.framework/Resources/library --no-vignettes --timings ggkegg_1.7.2.tar.gz
###
##############################################################################
##############################################################################


* using log directory ‘/Users/biocbuild/bbs-3.22-bioc/meat/ggkegg.Rcheck’
* using R version 4.5.1 Patched (2025-09-10 r88807)
* using platform: aarch64-apple-darwin20
* R was compiled by
    Apple clang version 16.0.0 (clang-1600.0.26.6)
    GNU Fortran (GCC) 14.2.0
* running under: macOS Ventura 13.7.7
* using session charset: UTF-8
* using option ‘--no-vignettes’
* checking for file ‘ggkegg/DESCRIPTION’ ... OK
* checking extension type ... Package
* this is package ‘ggkegg’ version ‘1.7.2’
* package encoding: UTF-8
* checking package namespace information ... OK
* checking package dependencies ... OK
* checking if this is a source package ... OK
* checking if there is a namespace ... OK
* checking for hidden files and directories ... OK
* checking for portable file names ... OK
* checking for sufficient/correct file permissions ... OK
* checking whether package ‘ggkegg’ can be installed ... OK
* checking installed package size ... OK
* checking package directory ... OK
* checking ‘build’ directory ... OK
* checking DESCRIPTION meta-information ... NOTE
License stub is invalid DCF.
* checking top-level files ... OK
* checking for left-over files ... OK
* checking index information ... OK
* checking package subdirectories ... OK
* checking code files for non-ASCII characters ... OK
* checking R files for syntax errors ... OK
* checking whether the package can be loaded ... OK
* checking whether the package can be loaded with stated dependencies ... OK
* checking whether the package can be unloaded cleanly ... OK
* checking whether the namespace can be loaded with stated dependencies ... OK
* checking whether the namespace can be unloaded cleanly ... OK
* checking dependencies in R code ... OK
* checking S3 generic/method consistency ... OK
* checking replacement functions ... OK
* checking foreign function calls ... OK
* checking R code for possible problems ... NOTE
ggplot_add.add_readable_edge_label: no visible binding for global
  variable ‘x’
ggplot_add.add_readable_edge_label: no visible binding for global
  variable ‘y’
ggplot_add.add_readable_edge_label: no visible binding for global
  variable ‘xend’
ggplot_add.add_readable_edge_label: no visible binding for global
  variable ‘yend’
ggplot_add.add_readable_edge_label: no visible binding for global
  variable ‘group’
ggplot_add.add_readable_edge_label: no visible binding for global
  variable ‘label’
ggplot_add.add_readable_edge_label: no visible binding for global
  variable ‘angle2’
ggplot_add.add_readable_edge_label: no visible binding for global
  variable ‘angle’
ggplot_add.add_readable_edge_label: no visible binding for global
  variable ‘x1’
ggplot_add.add_readable_edge_label: no visible binding for global
  variable ‘y1’
ggplot_add.add_readable_edge_label: no visible binding for global
  variable ‘x2’
ggplot_add.add_readable_edge_label: no visible binding for global
  variable ‘y2’
ggplot_add.add_readable_edge_label: no visible binding for global
  variable ‘mx’
ggplot_add.add_readable_edge_label: no visible binding for global
  variable ‘my’
ggplot_add.add_readable_edge_label: no visible binding for global
  variable ‘ma’
Undefined global functions or variables:
  angle angle2 group label ma mx my x x1 x2 xend y y1 y2 yend
* checking Rd files ... OK
* checking Rd metadata ... OK
* checking Rd cross-references ... OK
* checking for missing documentation entries ... OK
* checking for code/documentation mismatches ... OK
* checking Rd \usage sections ... OK
* checking Rd contents ... OK
* checking for unstated dependencies in examples ... OK
* checking files in ‘vignettes’ ... OK
* checking examples ... OK
Examples with CPU (user + system) or elapsed time > 5s
                   user system elapsed
append_cp         2.380  0.074  10.199
rawMap            0.413  0.026   6.886
pathway_abundance 0.349  0.064  15.546
* checking for unstated dependencies in ‘tests’ ... OK
* checking tests ...
  Running ‘testthat.R’
 OK
* checking for unstated dependencies in vignettes ... OK
* checking package vignettes ... OK
* checking running R code from vignettes ... SKIPPED
* checking re-building of vignette outputs ... SKIPPED
* checking PDF version of manual ... OK
* DONE

Status: 2 NOTEs
See
  ‘/Users/biocbuild/bbs-3.22-bioc/meat/ggkegg.Rcheck/00check.log’
for details.


Installation output

ggkegg.Rcheck/00install.out

##############################################################################
##############################################################################
###
### Running command:
###
###   /Library/Frameworks/R.framework/Resources/bin/R CMD INSTALL ggkegg
###
##############################################################################
##############################################################################


* installing to library ‘/Library/Frameworks/R.framework/Versions/4.5-arm64/Resources/library’
* installing *source* package ‘ggkegg’ ...
** this is package ‘ggkegg’ version ‘1.7.2’
** using staged installation
** R
** inst
** byte-compile and prepare package for lazy loading
** help
*** installing help indices
*** copying figures
** building package indices
** installing vignettes
** testing if installed package can be loaded from temporary location
** testing if installed package can be loaded from final location
** testing if installed package keeps a record of temporary installation path
* DONE (ggkegg)

Tests output

ggkegg.Rcheck/tests/testthat.Rout


R version 4.5.1 Patched (2025-09-10 r88807) -- "Great Square Root"
Copyright (C) 2025 The R Foundation for Statistical Computing
Platform: aarch64-apple-darwin20

R is free software and comes with ABSOLUTELY NO WARRANTY.
You are welcome to redistribute it under certain conditions.
Type 'license()' or 'licence()' for distribution details.

R is a collaborative project with many contributors.
Type 'contributors()' for more information and
'citation()' on how to cite R or R packages in publications.

Type 'demo()' for some demos, 'help()' for on-line help, or
'help.start()' for an HTML browser interface to help.
Type 'q()' to quit R.

> # This file is part of the standard setup for testthat.
> # It is recommended that you do not modify it.
> #
> # Where should you do additional test configuration?
> # Learn more about the roles of various files in:
> # * https://r-pkgs.org/tests.html
> # * https://testthat.r-lib.org/reference/test_package.html#special-files
> 
> library(testthat)
> library(ggkegg)
Loading required package: ggplot2
Loading required package: ggraph
Loading required package: XML
Loading required package: igraph

Attaching package: 'igraph'

The following object is masked from 'package:testthat':

    compare

The following objects are masked from 'package:stats':

    decompose, spectrum

The following object is masked from 'package:base':

    union

Loading required package: tidygraph

Attaching package: 'tidygraph'

The following object is masked from 'package:igraph':

    groups

The following object is masked from 'package:testthat':

    matches

The following object is masked from 'package:stats':

    filter

> 
> test_check("ggkegg")
trying URL 'https://rest.kegg.jp/get/M00004'
downloaded 274 KB

trying URL 'https://rest.kegg.jp/get/N00002'
downloaded 2119 bytes

trying URL 'https://rest.kegg.jp/get/hsa04110/kgml'
downloaded 51 KB

[ FAIL 0 | WARN 5 | SKIP 0 | PASS 20 ]

[ FAIL 0 | WARN 5 | SKIP 0 | PASS 20 ]
> 
> proc.time()
   user  system elapsed 
  1.739   0.119   7.115 

Example timings

ggkegg.Rcheck/ggkegg-Ex.timings

nameusersystemelapsed
add_readable_edge_label0.0710.0020.075
append_cp 2.380 0.07410.199
append_label_position0.0140.0000.014
assign_deseq20.0020.0000.002
carrow000
combine_with_bnlearn0.0280.0020.031
convert_id0.1010.0090.095
create_test_module0.0010.0000.002
create_test_network0.0010.0000.001
create_test_pathway0.0250.0030.027
edge_matrix0.0180.0010.019
edge_numeric0.0030.0000.002
edge_numeric_sum0.0060.0000.006
geom_kegg0.0170.0000.017
geom_node_rect0.0070.0000.007
geom_node_rect_kegg0.0070.0000.007
geom_node_rect_multi0.0210.0000.022
geom_node_shadowtext0.0070.0010.007
ggkegg0.0710.0042.193
ggplot_add.add_readable_edge_label0.0340.0030.037
ggplot_add.geom_kegg0.0180.0020.020
ggplot_add.geom_node_rect_kegg0.0080.0010.008
ggplot_add.geom_node_rect_multi0.0200.0020.023
ggplot_add.overlay_raw_map0.1510.0080.159
ggplot_add.stamp0.0070.0000.007
highlight_entities0.2480.0100.257
highlight_module0.0050.0000.005
highlight_set_edges0.0020.0000.002
highlight_set_nodes0.0030.0000.003
module0.4550.0423.918
module_abundance0.1470.0230.175
module_completeness0.0020.0000.001
module_text0.0010.0000.001
multi_pathway_native0.0720.0020.995
network0.0080.0020.753
network_graph0.0040.0000.004
node_matrix0.0040.0000.003
node_numeric0.0020.0000.002
obtain_sequential_module_definition0.0050.0000.005
output_overlay_image000
overlay_raw_map0.1730.0100.183
pathway0.0470.0040.051
pathway_abundance 0.349 0.06415.546
pathway_info0.0090.0021.190
plot_kegg_network0.0300.0000.031
plot_module_blocks0.0270.0000.028
plot_module_text0.0390.0010.040
process_line0.0040.0000.004
process_reaction0.0030.0000.003
rawMap0.4130.0266.886
rawValue0.0140.0000.014
return_line_compounds0.0050.0000.004
stamp0.0070.0000.007