Back to Multiple platform build/check report for BioC 3.22:   simplified   long
ABCDE[F]GHIJKLMNOPQRSTUVWXYZ

This page was generated on 2025-07-15 12:08 -0400 (Tue, 15 Jul 2025).

HostnameOSArch (*)R versionInstalled pkgs
nebbiolo2Linux (Ubuntu 24.04.2 LTS)x86_644.5.1 (2025-06-13) -- "Great Square Root" 4785
palomino8Windows Server 2022 Datacenterx644.5.1 (2025-06-13 ucrt) -- "Great Square Root" 4524
lconwaymacOS 12.7.1 Montereyx86_644.5.1 (2025-06-13) -- "Great Square Root" 4565
kjohnson3macOS 13.7.1 Venturaarm644.5.1 Patched (2025-06-14 r88325) -- "Great Square Root" 4508
taishanLinux (openEuler 24.03 LTS)aarch644.5.0 (2025-04-11) -- "How About a Twenty-Six" 4509
Click on any hostname to see more info about the system (e.g. compilers)      (*) as reported by 'uname -p', except on Windows and Mac OS X

Package 747/2311HostnameOS / ArchINSTALLBUILDCHECKBUILD BIN
flowPlots 1.57.0  (landing page)
N. Hawkins
Snapshot Date: 2025-07-14 13:25 -0400 (Mon, 14 Jul 2025)
git_url: https://git.bioconductor.org/packages/flowPlots
git_branch: devel
git_last_commit: 8abbb99
git_last_commit_date: 2025-04-15 10:02:28 -0400 (Tue, 15 Apr 2025)
nebbiolo2Linux (Ubuntu 24.04.2 LTS) / x86_64  OK    OK    OK  UNNEEDED, same version is already published
palomino8Windows Server 2022 Datacenter / x64  OK    OK    OK    OK  UNNEEDED, same version is already published
lconwaymacOS 12.7.1 Monterey / x86_64  OK    OK    OK    OK  UNNEEDED, same version is already published
kjohnson3macOS 13.7.1 Ventura / arm64  OK    OK    OK    OK  UNNEEDED, same version is already published
taishanLinux (openEuler 24.03 LTS) / aarch64  OK    OK    OK  


CHECK results for flowPlots on lconway

To the developers/maintainers of the flowPlots package:
- Allow up to 24 hours (and sometimes 48 hours) for your latest push to git@git.bioconductor.org:packages/flowPlots.git to reflect on this report. See Troubleshooting Build Report for more information.
- Use the following Renviron settings to reproduce errors and warnings.
- If 'R CMD check' started to fail recently on the Linux builder(s) over a missing dependency, add the missing dependency to 'Suggests:' in your DESCRIPTION file. See Renviron.bioc for more information.

raw results


Summary

Package: flowPlots
Version: 1.57.0
Command: /Library/Frameworks/R.framework/Resources/bin/R CMD check --install=check:flowPlots.install-out.txt --library=/Library/Frameworks/R.framework/Resources/library --no-vignettes --timings flowPlots_1.57.0.tar.gz
StartedAt: 2025-07-14 20:49:37 -0400 (Mon, 14 Jul 2025)
EndedAt: 2025-07-14 20:50:17 -0400 (Mon, 14 Jul 2025)
EllapsedTime: 39.6 seconds
RetCode: 0
Status:   OK  
CheckDir: flowPlots.Rcheck
Warnings: 0

Command output

##############################################################################
##############################################################################
###
### Running command:
###
###   /Library/Frameworks/R.framework/Resources/bin/R CMD check --install=check:flowPlots.install-out.txt --library=/Library/Frameworks/R.framework/Resources/library --no-vignettes --timings flowPlots_1.57.0.tar.gz
###
##############################################################################
##############################################################################


* using log directory ‘/Users/biocbuild/bbs-3.22-bioc/meat/flowPlots.Rcheck’
* using R version 4.5.1 (2025-06-13)
* using platform: x86_64-apple-darwin20
* R was compiled by
    Apple clang version 14.0.0 (clang-1400.0.29.202)
    GNU Fortran (GCC) 14.2.0
* running under: macOS Monterey 12.7.6
* using session charset: UTF-8
* using option ‘--no-vignettes’
* checking for file ‘flowPlots/DESCRIPTION’ ... OK
* checking extension type ... Package
* this is package ‘flowPlots’ version ‘1.57.0’
* checking package namespace information ... OK
* checking package dependencies ... OK
* checking if this is a source package ... OK
* checking if there is a namespace ... OK
* checking for hidden files and directories ... OK
* checking for portable file names ... OK
* checking for sufficient/correct file permissions ... OK
* checking whether package ‘flowPlots’ can be installed ... OK
* checking installed package size ... OK
* checking package directory ... OK
* checking ‘build’ directory ... OK
* checking DESCRIPTION meta-information ... OK
* checking top-level files ... OK
* checking for left-over files ... OK
* checking index information ... OK
* checking package subdirectories ... OK
* checking code files for non-ASCII characters ... OK
* checking R files for syntax errors ... OK
* checking whether the package can be loaded ... OK
* checking whether the package can be loaded with stated dependencies ... OK
* checking whether the package can be unloaded cleanly ... OK
* checking whether the namespace can be loaded with stated dependencies ... OK
* checking whether the namespace can be unloaded cleanly ... OK
* checking dependencies in R code ... NOTE
Package in Depends field not imported from: ‘methods’
  These packages need to be imported from (in the NAMESPACE file)
  for when this namespace is loaded but not attached.
* checking S3 generic/method consistency ... OK
* checking replacement functions ... OK
* checking foreign function calls ... OK
* checking R code for possible problems ... NOTE
GroupListBoxplot: no visible global function definition for ‘boxplot’
GroupListBoxplot: no visible global function definition for ‘points’
GroupListBoxplot: no visible global function definition for ‘axis’
GroupListBoxplot: no visible global function definition for ‘mtext’
GroupListBoxplot: no visible global function definition for ‘box’
GroupListBoxplot: no visible global function definition for ‘legend’
GroupListBoxplot: no visible global function definition for ‘title’
GroupListBoxplot: no visible global function definition for ‘text’
computePFDGroupStatsList: no visible global function definition for
  ‘sd’
get2GroupPValues: no visible global function definition for
  ‘wilcox.test’
getMultiGroupPValues: no visible global function definition for
  ‘kruskal.test’
readStackedData,character: no visible global function definition for
  ‘read.csv’
Undefined global functions or variables:
  axis box boxplot kruskal.test legend mtext points read.csv sd text
  title wilcox.test
Consider adding
  importFrom("graphics", "axis", "box", "boxplot", "legend", "mtext",
             "points", "text", "title")
  importFrom("stats", "kruskal.test", "sd", "wilcox.test")
  importFrom("utils", "read.csv")
to your NAMESPACE file.
* checking Rd files ... OK
* checking Rd metadata ... OK
* checking Rd cross-references ... OK
* checking for missing documentation entries ... OK
* checking for code/documentation mismatches ... OK
* checking Rd \usage sections ... OK
* checking Rd contents ... OK
* checking for unstated dependencies in examples ... OK
* checking contents of ‘data’ directory ... OK
* checking data for non-ASCII characters ... OK
* checking LazyData ... OK
* checking data for ASCII and uncompressed saves ... OK
* checking sizes of PDF files under ‘inst/doc’ ... OK
* checking files in ‘vignettes’ ... OK
* checking examples ... OK
* checking for unstated dependencies in vignettes ... OK
* checking package vignettes ... OK
* checking running R code from vignettes ... SKIPPED
* checking re-building of vignette outputs ... SKIPPED
* checking PDF version of manual ... OK
* DONE

Status: 2 NOTEs
See
  ‘/Users/biocbuild/bbs-3.22-bioc/meat/flowPlots.Rcheck/00check.log’
for details.


Installation output

flowPlots.Rcheck/00install.out

##############################################################################
##############################################################################
###
### Running command:
###
###   /Library/Frameworks/R.framework/Resources/bin/R CMD INSTALL flowPlots
###
##############################################################################
##############################################################################


* installing to library ‘/Library/Frameworks/R.framework/Versions/4.5-x86_64/Resources/library’
* installing *source* package ‘flowPlots’ ...
** this is package ‘flowPlots’ version ‘1.57.0’
** using staged installation
** R
** data
*** moving datasets to lazyload DB
** inst
** byte-compile and prepare package for lazy loading
** help
*** installing help indices
** building package indices
** installing vignettes
** testing if installed package can be loaded from temporary location
** testing if installed package can be loaded from final location
** testing if installed package keeps a record of temporary installation path
* DONE (flowPlots)

Tests output


Example timings

flowPlots.Rcheck/flowPlots-Ex.timings

nameusersystemelapsed
GroupListBoxplot0.1110.0120.123
StackedData-class3.8820.0533.963
adultsNeonates0.0010.0010.002
computeMarginalData-methods1.0110.0111.031
computeMarkers-methods0.0000.0010.000
computePFDData-methods0.7890.0110.807
computePFDGroupStatsList0.2340.0210.368
computePFDPartsData-methods0.8850.0180.908
computeProfileData-methods0.9390.0130.956
legendPFDStatsGroupNames0.0600.0050.065
makeBarplotData0.0100.0030.012
makeDataList0.0320.0030.035
makeTernaryData0.0430.0030.047
marginalDF0.0010.0010.002
marginalData-methods0.0020.0010.003
markerMatrix0.0010.0010.002
markers-methods0.0010.0010.002
pfdDF0.0010.0010.002
pfdData-methods0.0010.0010.002
pfdPartsData-methods0.0010.0010.002
pfdPartsList0.0000.0010.002
profileDF0.0010.0010.002
profileData-methods0.0010.0010.002
readStackedData-methods0.0280.0020.031
stackedData-methods0.0400.0040.044