Back to Multiple platform build/check report for BioC 3.22:   simplified   long
AB[C]DEFGHIJKLMNOPQRSTUVWXYZ

This page was generated on 2025-10-04 12:03 -0400 (Sat, 04 Oct 2025).

HostnameOSArch (*)R versionInstalled pkgs
nebbiolo2Linux (Ubuntu 24.04.3 LTS)x86_644.5.1 Patched (2025-08-23 r88802) -- "Great Square Root" 4853
lconwaymacOS 12.7.1 Montereyx86_644.5.1 Patched (2025-09-10 r88807) -- "Great Square Root" 4640
kjohnson3macOS 13.7.7 Venturaarm644.5.1 Patched (2025-09-10 r88807) -- "Great Square Root" 4585
taishanLinux (openEuler 24.03 LTS)aarch644.5.0 (2025-04-11) -- "How About a Twenty-Six" 4576
Click on any hostname to see more info about the system (e.g. compilers)      (*) as reported by 'uname -p', except on Windows and Mac OS X

Package 309/2341HostnameOS / ArchINSTALLBUILDCHECKBUILD BIN
cellmigRation 1.17.0  (landing page)
Waldir Leoncio
Snapshot Date: 2025-10-03 13:45 -0400 (Fri, 03 Oct 2025)
git_url: https://git.bioconductor.org/packages/cellmigRation
git_branch: devel
git_last_commit: 2938d5a
git_last_commit_date: 2025-04-15 12:26:19 -0400 (Tue, 15 Apr 2025)
nebbiolo2Linux (Ubuntu 24.04.3 LTS) / x86_64  OK    OK    OK  UNNEEDED, same version is already published
lconwaymacOS 12.7.1 Monterey / x86_64  OK    OK    OK    OK  UNNEEDED, same version is already published
kjohnson3macOS 13.7.7 Ventura / arm64  OK    OK    OK    OK  UNNEEDED, same version is already published
taishanLinux (openEuler 24.03 LTS) / aarch64  OK    OK    OK  


CHECK results for cellmigRation on nebbiolo2

To the developers/maintainers of the cellmigRation package:
- Allow up to 24 hours (and sometimes 48 hours) for your latest push to git@git.bioconductor.org:packages/cellmigRation.git to reflect on this report. See Troubleshooting Build Report for more information.
- Use the following Renviron settings to reproduce errors and warnings.
- If 'R CMD check' started to fail recently on the Linux builder(s) over a missing dependency, add the missing dependency to 'Suggests:' in your DESCRIPTION file. See Renviron.bioc for more information.

raw results


Summary

Package: cellmigRation
Version: 1.17.0
Command: /home/biocbuild/bbs-3.22-bioc/R/bin/R CMD check --install=check:cellmigRation.install-out.txt --library=/home/biocbuild/bbs-3.22-bioc/R/site-library --timings cellmigRation_1.17.0.tar.gz
StartedAt: 2025-10-03 22:02:36 -0400 (Fri, 03 Oct 2025)
EndedAt: 2025-10-03 22:07:35 -0400 (Fri, 03 Oct 2025)
EllapsedTime: 298.3 seconds
RetCode: 0
Status:   OK  
CheckDir: cellmigRation.Rcheck
Warnings: 0

Command output

##############################################################################
##############################################################################
###
### Running command:
###
###   /home/biocbuild/bbs-3.22-bioc/R/bin/R CMD check --install=check:cellmigRation.install-out.txt --library=/home/biocbuild/bbs-3.22-bioc/R/site-library --timings cellmigRation_1.17.0.tar.gz
###
##############################################################################
##############################################################################


* using log directory ‘/home/biocbuild/bbs-3.22-bioc/meat/cellmigRation.Rcheck’
* using R version 4.5.1 Patched (2025-08-23 r88802)
* using platform: x86_64-pc-linux-gnu
* R was compiled by
    gcc (Ubuntu 13.3.0-6ubuntu2~24.04) 13.3.0
    GNU Fortran (Ubuntu 13.3.0-6ubuntu2~24.04) 13.3.0
* running under: Ubuntu 24.04.3 LTS
* using session charset: UTF-8
* checking for file ‘cellmigRation/DESCRIPTION’ ... OK
* checking extension type ... Package
* this is package ‘cellmigRation’ version ‘1.17.0’
* package encoding: UTF-8
* checking package namespace information ... OK
* checking package dependencies ... OK
* checking if this is a source package ... OK
* checking if there is a namespace ... OK
* checking for hidden files and directories ... OK
* checking for portable file names ... OK
* checking for sufficient/correct file permissions ... OK
* checking whether package ‘cellmigRation’ can be installed ... OK
* checking installed package size ... OK
* checking package directory ... OK
* checking ‘build’ directory ... OK
* checking DESCRIPTION meta-information ... OK
* checking top-level files ... OK
* checking for left-over files ... OK
* checking index information ... OK
* checking package subdirectories ... OK
* checking code files for non-ASCII characters ... OK
* checking R files for syntax errors ... OK
* checking whether the package can be loaded ... OK
* checking whether the package can be loaded with stated dependencies ... OK
* checking whether the package can be unloaded cleanly ... OK
* checking whether the namespace can be loaded with stated dependencies ... OK
* checking whether the namespace can be unloaded cleanly ... OK
* checking loading without being on the library search path ... OK
* checking dependencies in R code ... OK
* checking S3 generic/method consistency ... OK
* checking replacement functions ... OK
* checking foreign function calls ... OK
* checking R code for possible problems ... OK
* checking Rd files ... OK
* checking Rd metadata ... OK
* checking Rd cross-references ... OK
* checking for missing documentation entries ... OK
* checking for code/documentation mismatches ... OK
* checking Rd \usage sections ... NOTE
Documented arguments not in \usage in Rd file 'fixDA.Rd':
  ‘object’

Documented arguments not in \usage in Rd file 'fixFM1.Rd':
  ‘object’

Documented arguments not in \usage in Rd file 'fixFM2.Rd':
  ‘object’

Documented arguments not in \usage in Rd file 'fixFM3.Rd':
  ‘object’

Documented arguments not in \usage in Rd file 'fixFM4.Rd':
  ‘object’

Documented arguments not in \usage in Rd file 'fixFM5.Rd':
  ‘object’

Documented arguments not in \usage in Rd file 'fixFM6.Rd':
  ‘object’

Documented arguments not in \usage in Rd file 'fixID2.Rd':
  ‘TimeInterval’

Documented arguments not in \usage in Rd file 'fixID3.Rd':
  ‘TimeInterval’

Documented arguments not in \usage in Rd file 'fixID4.Rd':
  ‘TimeInterval’

Documented arguments not in \usage in Rd file 'fixMSD.Rd':
  ‘object’

Documented arguments not in \usage in Rd file 'fixPER1.Rd':
  ‘x’

Documented arguments not in \usage in Rd file 'fixPER2.Rd':
  ‘x’

Documented arguments not in \usage in Rd file 'innerBondRaster.Rd':
  ‘i’

Functions with \usage entries need to have the appropriate \alias
entries, and all their arguments documented.
The \usage entries must correspond to syntactically valid R code.
See chapter ‘Writing R documentation files’ in the ‘Writing R
Extensions’ manual.
* checking Rd contents ... OK
* checking for unstated dependencies in examples ... OK
* checking contents of ‘data’ directory ... OK
* checking data for non-ASCII characters ... OK
* checking data for ASCII and uncompressed saves ... OK
* checking files in ‘vignettes’ ... OK
* checking examples ... OK
* checking for unstated dependencies in ‘tests’ ... OK
* checking tests ...
  Running ‘runTests.R’
 OK
* checking for unstated dependencies in vignettes ... OK
* checking package vignettes ... OK
* checking re-building of vignette outputs ... OK
* checking PDF version of manual ... OK
* DONE

Status: 1 NOTE
See
  ‘/home/biocbuild/bbs-3.22-bioc/meat/cellmigRation.Rcheck/00check.log’
for details.


Installation output

cellmigRation.Rcheck/00install.out

##############################################################################
##############################################################################
###
### Running command:
###
###   /home/biocbuild/bbs-3.22-bioc/R/bin/R CMD INSTALL cellmigRation
###
##############################################################################
##############################################################################


* installing to library ‘/home/biocbuild/bbs-3.22-bioc/R/site-library’
* installing *source* package ‘cellmigRation’ ...
** this is package ‘cellmigRation’ version ‘1.17.0’
** using staged installation
** R
** data
** inst
** byte-compile and prepare package for lazy loading
** help
*** installing help indices
** building package indices
** installing vignettes
** testing if installed package can be loaded from temporary location
** testing if installed package can be loaded from final location
** testing if installed package keeps a record of temporary installation path
* DONE (cellmigRation)

Tests output

cellmigRation.Rcheck/tests/runTests.Rout


R version 4.5.1 Patched (2025-08-23 r88802) -- "Great Square Root"
Copyright (C) 2025 The R Foundation for Statistical Computing
Platform: x86_64-pc-linux-gnu

R is free software and comes with ABSOLUTELY NO WARRANTY.
You are welcome to redistribute it under certain conditions.
Type 'license()' or 'licence()' for distribution details.

R is a collaborative project with many contributors.
Type 'contributors()' for more information and
'citation()' on how to cite R or R packages in publications.

Type 'demo()' for some demos, 'help()' for on-line help, or
'help.start()' for an HTML browser interface to help.
Type 'q()' to quit R.

> BiocGenerics:::testPackage("cellmigRation")


RUNIT TEST PROTOCOL -- Fri Oct  3 22:05:17 2025 
*********************************************** 
Number of test functions: 7 
Number of errors: 0 
Number of failures: 0 

 
1 Test Suite : 
cellmigRation RUnit Tests - 7 test functions, 0 errors, 0 failures
Number of test functions: 7 
Number of errors: 0 
Number of failures: 0 
> 
> proc.time()
   user  system elapsed 
  4.377   0.295   4.780 

Example timings

cellmigRation.Rcheck/cellmigRation-Ex.timings

nameusersystemelapsed
AddDimension0.0010.0000.001
CellMig-class0.0300.0020.031
CellMigPCA2.2410.0402.578
CellMigPCAclust0.0120.0000.023
CellMigPCAclustALL1.0260.0751.355
CellTracker0.0240.0050.029
CellTrackerMainLoop0.0020.0070.015
CentroidArray0.0230.0030.026
CentroidValidation0.7630.0410.804
ComputeTracksStats0.0370.0040.041
DetectRadii0.0040.0000.003
DiAutoCor2.2170.1092.338
DiRatio0.0270.0000.026
DiRatioPlot0.0420.0060.049
EstimateDiameterRange0.0200.0010.021
FMI0.7940.0450.843
FianlizeOptiParams0.0010.0000.000
FilterTrackedCells0.0020.0010.004
FinRes1.0720.0441.120
ForwardMigration1.5210.0401.633
GenAllCombos0.0020.0010.003
LinearConv20.0210.0010.023
LoadTiff0.0010.0000.001
MSD1.7680.0342.046
MakeHypercube0.0010.0000.001
MigrationStats0.0010.0000.001
NextOdd0.0010.0000.001
NonParallel4OptimizeParams0.0010.0000.001
NonParallelTrackLoop000
OptimizeParams0.0180.0020.030
OptimizeParamsMainLoop0.0020.0060.020
Parallel4OptimizeParams0.0010.0000.001
ParallelTrackLoop0.0000.0000.005
PerAndSpeed0.3240.0080.365
PlotTracksSeparately0.0080.0020.011
PostProcessTracking0.0000.0000.001
Prep4OptimizeParams0.1040.0020.106
ThreeConditions0.0160.0010.017
TrackCellsDataset0.0130.0060.020
TrajectoryDataset0.0240.0030.027
ValidateTrackingArgs0.0010.0000.000
VeAutoCor1.3420.0461.533
VisualizeCntr0.0040.0000.003
VisualizeImg0.0080.0010.008
VisualizeStackCentroids0.0860.0020.087
WSADataset0.0080.0010.009
aggregateFR1.0280.0231.076
aggregateTrackedCells0.0250.0040.030
bpass0.0890.0040.093
circshift0.0000.0000.001
cntrd1.1330.0121.148
fixDA000
fixExpName000
fixFM1000
fixFM2000
fixFM30.0010.0000.001
fixFM4000
fixFM5000
fixFM6000
fixID1000
fixMSD000
fixPER10.0000.0000.001
fixPER20.0000.0010.000
fixPER30.0010.0000.001
getAvailableAggrMetrics1.5390.0191.563
getCellImages0.270.160.43
getCellMigSlot0.3760.0920.468
getCellTrackMeta0.0220.0040.026
getCellTrackStats0.0280.0020.030
getCellTracks0.0210.0040.025
getCellsMeta0.0190.0060.025
getCellsStats0.0220.0060.028
getDACtable3.1460.0613.213
getDiRatio0.0270.0010.027
getFMItable0.7720.0030.776
getForMigtable0.9210.0030.924
getImageCentroids0.0300.0030.034
getImageStacks0.0800.0010.081
getMSDtable4.3890.0074.599
getOptimizedParameters0.0180.0060.024
getOptimizedParams0.0180.0030.021
getPerAndSpeed0.3190.0190.393
getPopulationStats0.0200.0010.020
getProcessedImages0.1640.1290.296
getProcessingStatus0.0180.0010.019
getResults0.8080.0130.877
getTracks0.020.000.02
getVACtable1.2460.0021.283
initializeTrackParams0.0000.0000.001
innerBondRaster0.0010.0000.002
internalPermutation0.0020.0000.001
matfix0.0010.0000.001
nontrivialBondTracking0.0010.0000.001
pkfnd0.8680.0300.990
plot3DAllTracks0.0860.0290.137
plot3DTracks0.0090.0000.009
plotAllTracks0.0210.0000.020
plotSampleTracks0.0160.0010.017
preProcCellMig0.0080.0000.008
rmPreProcessing0.1010.0020.103
runTrackingPermutation0.0010.0010.002
setAnalyticParams0.020.000.02
setCellMigSlot0.0250.0020.027
setCellTracks0.0180.0020.020
setCellsMeta0.0160.0040.020
setExpName0.0270.0000.027
setOptimizedParams0.0480.0030.050
setProcessedImages0.0180.0010.019
setProcessingStatus0.0190.0000.019
setTrackedCellsMeta0.0180.0010.019
setTrackedCentroids0.0170.0020.019
setTrackedPositions0.0190.0010.019
setTrackingStats0.0150.0040.019
sinkAway0.0010.0000.000
subNetworkTracking0.0010.0000.001
track0.0090.0010.010
trackHypercubeBuild0.0000.0000.001
trackSlideProcessing0.0000.0000.001
trackSlideWrapUp0.0000.0000.001
trivialBondRaster0.0010.0000.002
trivialBondTracking000
visualizeCellTracks0.0680.0020.070
visualizeTrcks0.0260.0000.026
warnMessage000
wsaPreProcessing0.0580.0000.059