Back to Multiple platform build/check report for BioC 3.22:   simplified   long
AB[C]DEFGHIJKLMNOPQRSTUVWXYZ

This page was generated on 2025-04-18 11:59 -0400 (Fri, 18 Apr 2025).

HostnameOSArch (*)R versionInstalled pkgs
nebbiolo2Linux (Ubuntu 24.04.1 LTS)x86_644.5.0 beta (2025-04-02 r88102) -- "How About a Twenty-Six" 4798
palomino8Windows Server 2022 Datacenterx644.5.0 RC (2025-04-03 r88103 ucrt) -- "How About a Twenty-Six" 4574
Click on any hostname to see more info about the system (e.g. compilers)      (*) as reported by 'uname -p', except on Windows and Mac OS X

Package 290/2302HostnameOS / ArchINSTALLBUILDCHECKBUILD BIN
ccmap 1.35.0  (landing page)
Alex Pickering
Snapshot Date: 2025-04-17 13:00 -0400 (Thu, 17 Apr 2025)
git_url: https://git.bioconductor.org/packages/ccmap
git_branch: devel
git_last_commit: 67bc5f0
git_last_commit_date: 2025-04-15 11:03:03 -0400 (Tue, 15 Apr 2025)
nebbiolo2Linux (Ubuntu 24.04.1 LTS) / x86_64  OK    OK    WARNINGS  UNNEEDED, same version is already published
palomino8Windows Server 2022 Datacenter / x64  OK    OK    WARNINGS    OK  UNNEEDED, same version is already published


BUILD BIN results for ccmap on palomino8

To the developers/maintainers of the ccmap package:
- Allow up to 24 hours (and sometimes 48 hours) for your latest push to git@git.bioconductor.org:packages/ccmap.git to reflect on this report. See Troubleshooting Build Report for more information.
- Use the following Renviron settings to reproduce errors and warnings.
- If 'R CMD check' started to fail recently on the Linux builder(s) over a missing dependency, add the missing dependency to 'Suggests:' in your DESCRIPTION file. See Renviron.bioc for more information.

raw results


Summary

Package: ccmap
Version: 1.35.0
Command: rm -rf ccmap.buildbin-libdir && mkdir ccmap.buildbin-libdir && F:\biocbuild\bbs-3.22-bioc\R\bin\R.exe CMD INSTALL --build --library=ccmap.buildbin-libdir ccmap_1.35.0.tar.gz
StartedAt: 2025-04-18 09:17:51 -0400 (Fri, 18 Apr 2025)
EndedAt: 2025-04-18 09:18:13 -0400 (Fri, 18 Apr 2025)
EllapsedTime: 22.4 seconds
RetCode: 0
Status:   OK  
PackageFile: ccmap_1.35.0.zip
PackageFileSize: 425.5 KiB

Command output

##############################################################################
##############################################################################
###
### Running command:
###
###   rm -rf ccmap.buildbin-libdir && mkdir ccmap.buildbin-libdir && F:\biocbuild\bbs-3.22-bioc\R\bin\R.exe CMD INSTALL --build --library=ccmap.buildbin-libdir ccmap_1.35.0.tar.gz
###
##############################################################################
##############################################################################


* installing *source* package 'ccmap' ...
** this is package 'ccmap' version '1.35.0'
** using staged installation
** R
** inst
** byte-compile and prepare package for lazy loading
** help
*** installing help indices
** building package indices
** installing vignettes
** testing if installed package can be loaded from temporary location
** testing if installed package can be loaded from final location
** testing if installed package keeps a record of temporary installation path
* MD5 sums
packaged installation of 'ccmap' as ccmap_1.35.0.zip
* DONE (ccmap)