Back to Multiple platform build/check report for BioC 3.22:   simplified   long
A[B]CDEFGHIJKLMNOPQRSTUVWXYZ

This page was generated on 2025-10-04 12:03 -0400 (Sat, 04 Oct 2025).

HostnameOSArch (*)R versionInstalled pkgs
nebbiolo2Linux (Ubuntu 24.04.3 LTS)x86_644.5.1 Patched (2025-08-23 r88802) -- "Great Square Root" 4853
lconwaymacOS 12.7.1 Montereyx86_644.5.1 Patched (2025-09-10 r88807) -- "Great Square Root" 4640
kjohnson3macOS 13.7.7 Venturaarm644.5.1 Patched (2025-09-10 r88807) -- "Great Square Root" 4585
taishanLinux (openEuler 24.03 LTS)aarch644.5.0 (2025-04-11) -- "How About a Twenty-Six" 4576
Click on any hostname to see more info about the system (e.g. compilers)      (*) as reported by 'uname -p', except on Windows and Mac OS X

Package 163/2341HostnameOS / ArchINSTALLBUILDCHECKBUILD BIN
benchdamic 1.15.3  (landing page)
Matteo Calgaro
Snapshot Date: 2025-10-03 13:45 -0400 (Fri, 03 Oct 2025)
git_url: https://git.bioconductor.org/packages/benchdamic
git_branch: devel
git_last_commit: 9cef4f9
git_last_commit_date: 2025-07-29 12:29:48 -0400 (Tue, 29 Jul 2025)
nebbiolo2Linux (Ubuntu 24.04.3 LTS) / x86_64  OK    OK    TIMEOUT  
lconwaymacOS 12.7.1 Monterey / x86_64  OK    OK    ERROR    OK  
kjohnson3macOS 13.7.7 Ventura / arm64  OK    OK    ERROR    OK  
taishanLinux (openEuler 24.03 LTS) / aarch64  OK    OK    ERROR  


CHECK results for benchdamic on nebbiolo2

To the developers/maintainers of the benchdamic package:
- Allow up to 24 hours (and sometimes 48 hours) for your latest push to git@git.bioconductor.org:packages/benchdamic.git to reflect on this report. See Troubleshooting Build Report for more information.
- Use the following Renviron settings to reproduce errors and warnings.
- If 'R CMD check' started to fail recently on the Linux builder(s) over a missing dependency, add the missing dependency to 'Suggests:' in your DESCRIPTION file. See Renviron.bioc for more information.

raw results


Summary

Package: benchdamic
Version: 1.15.3
Command: /home/biocbuild/bbs-3.22-bioc/R/bin/R CMD check --install=check:benchdamic.install-out.txt --library=/home/biocbuild/bbs-3.22-bioc/R/site-library --timings benchdamic_1.15.3.tar.gz
StartedAt: 2025-10-03 21:19:39 -0400 (Fri, 03 Oct 2025)
EndedAt: 2025-10-03 21:59:40 -0400 (Fri, 03 Oct 2025)
EllapsedTime: 2400.4 seconds
RetCode: None
Status:   TIMEOUT  
CheckDir: benchdamic.Rcheck
Warnings: NA

Command output

##############################################################################
##############################################################################
###
### Running command:
###
###   /home/biocbuild/bbs-3.22-bioc/R/bin/R CMD check --install=check:benchdamic.install-out.txt --library=/home/biocbuild/bbs-3.22-bioc/R/site-library --timings benchdamic_1.15.3.tar.gz
###
##############################################################################
##############################################################################


* using log directory ‘/home/biocbuild/bbs-3.22-bioc/meat/benchdamic.Rcheck’
* using R version 4.5.1 Patched (2025-08-23 r88802)
* using platform: x86_64-pc-linux-gnu
* R was compiled by
    gcc (Ubuntu 13.3.0-6ubuntu2~24.04) 13.3.0
    GNU Fortran (Ubuntu 13.3.0-6ubuntu2~24.04) 13.3.0
* running under: Ubuntu 24.04.3 LTS
* using session charset: UTF-8
* checking for file ‘benchdamic/DESCRIPTION’ ... OK
* checking extension type ... Package
* this is package ‘benchdamic’ version ‘1.15.3’
* package encoding: UTF-8
* checking package namespace information ... OK
* checking package dependencies ... INFO
Imports includes 32 non-default packages.
Importing from so many packages makes the package vulnerable to any of
them becoming unavailable.  Move as many as possible to Suggests and
use conditionally.
* checking if this is a source package ... OK
* checking if there is a namespace ... OK
* checking for hidden files and directories ... OK
* checking for portable file names ... OK
* checking for sufficient/correct file permissions ... OK
* checking whether package ‘benchdamic’ can be installed ... OK
* checking installed package size ... OK
* checking package directory ... OK
* checking ‘build’ directory ... OK
* checking DESCRIPTION meta-information ... OK
* checking top-level files ... OK
* checking for left-over files ... OK
* checking index information ... OK
* checking package subdirectories ... OK
* checking code files for non-ASCII characters ... OK
* checking R files for syntax errors ... OK
* checking whether the package can be loaded ... OK
* checking whether the package can be loaded with stated dependencies ... OK
* checking whether the package can be unloaded cleanly ... OK
* checking whether the namespace can be loaded with stated dependencies ... OK
* checking whether the namespace can be unloaded cleanly ... OK
* checking loading without being on the library search path ... OK
* checking dependencies in R code ... NOTE
Namespace in Imports field not imported from: ‘microbiome’
  All declared Imports should be used.
* checking S3 generic/method consistency ... OK
* checking replacement functions ... OK
* checking foreign function calls ... OK
* checking R code for possible problems ... OK
* checking Rd files ... OK
* checking Rd metadata ... OK
* checking Rd cross-references ... NOTE
Non-topic package-anchored link(s) in Rd file 'norm_DESeq2.Rd':
  ‘[DESeq2]{estimateSizeFactors}’

See section 'Cross-references' in the 'Writing R Extensions' manual.
* checking for missing documentation entries ... OK
* checking for code/documentation mismatches ... OK
* checking Rd \usage sections ... OK
* checking Rd contents ... OK
* checking for unstated dependencies in examples ... OK
* checking contents of ‘data’ directory ... OK
* checking data for non-ASCII characters ... OK
* checking LazyData ... OK
* checking data for ASCII and uncompressed saves ... OK
* checking files in ‘vignettes’ ... OK
* checking examples ... OK
Examples with CPU (user + system) or elapsed time > 5s
                   user system elapsed
plotConcordance   5.975  0.129   7.561
createConcordance 5.568  0.162   6.497
plotMD            4.865  0.062   6.094
DA_ALDEx2         4.505  0.314   5.610
* checking for unstated dependencies in ‘tests’ ... OK
* checking tests ...
  Running ‘testthat.R’
 ERROR
Running the tests in ‘tests/testthat.R’ failed.
Last 13 lines of output:
  |------------(25%)----------(50%)----------(75%)----------|
  |------------(25%)----------(50%)----------(75%)----------|
  |------------(25%)----------(50%)----------(75%)----------|
  [ FAIL 1 | WARN 2 | SKIP 0 | PASS 333 ]
  
  ══ Failed tests ════════════════════════════════════════════════════════════════
  ── Failure ('test_getStatistics_getDA_extractDA.R:160:5'): Extract DA features from a list of methods: using threshold_pvalue
      and threshold_logfc ──
  length(unique(t1[[2]]$DA)) not equal to 3.
  1/1 mismatches
  [1] 2 - 3 == -1
  
  [ FAIL 1 | WARN 2 | SKIP 0 | PASS 333 ]
  Error: Test failures
  Execution halted
* checking for unstated dependencies in vignettes ... OK
* checking package vignettes ... OK
* checking re-building of vignette outputs ...

Installation output

benchdamic.Rcheck/00install.out

##############################################################################
##############################################################################
###
### Running command:
###
###   /home/biocbuild/bbs-3.22-bioc/R/bin/R CMD INSTALL benchdamic
###
##############################################################################
##############################################################################


* installing to library ‘/home/biocbuild/bbs-3.22-bioc/R/site-library’
* installing *source* package ‘benchdamic’ ...
** this is package ‘benchdamic’ version ‘1.15.3’
** using staged installation
** R
** data
*** moving datasets to lazyload DB
** inst
** byte-compile and prepare package for lazy loading
Found more than one class "dist" in cache; using the first, from namespace 'BiocGenerics'
Also defined by ‘spam’
** help
*** installing help indices
** building package indices
** installing vignettes
** testing if installed package can be loaded from temporary location
Found more than one class "dist" in cache; using the first, from namespace 'BiocGenerics'
Also defined by ‘spam’
** testing if installed package can be loaded from final location
Found more than one class "dist" in cache; using the first, from namespace 'BiocGenerics'
Also defined by ‘spam’
** testing if installed package keeps a record of temporary installation path
* DONE (benchdamic)

Tests output

benchdamic.Rcheck/tests/testthat.Rout.fail


R version 4.5.1 Patched (2025-08-23 r88802) -- "Great Square Root"
Copyright (C) 2025 The R Foundation for Statistical Computing
Platform: x86_64-pc-linux-gnu

R is free software and comes with ABSOLUTELY NO WARRANTY.
You are welcome to redistribute it under certain conditions.
Type 'license()' or 'licence()' for distribution details.

R is a collaborative project with many contributors.
Type 'contributors()' for more information and
'citation()' on how to cite R or R packages in publications.

Type 'demo()' for some demos, 'help()' for on-line help, or
'help.start()' for an HTML browser interface to help.
Type 'q()' to quit R.

> library(testthat)
> library(benchdamic)
Found more than one class "dist" in cache; using the first, from namespace 'BiocGenerics'
Also defined by 'spam'
> 
> test_check("benchdamic")
|------------(25%)----------(50%)----------(75%)----------|
|------------(25%)----------(50%)----------(75%)----------|
|------------(25%)----------(50%)----------(75%)----------|
|------------(25%)----------(50%)----------(75%)----------|
|------------(25%)----------(50%)----------(75%)----------|
[ FAIL 1 | WARN 2 | SKIP 0 | PASS 333 ]

══ Failed tests ════════════════════════════════════════════════════════════════
── Failure ('test_getStatistics_getDA_extractDA.R:160:5'): Extract DA features from a list of methods: using threshold_pvalue
    and threshold_logfc ──
length(unique(t1[[2]]$DA)) not equal to 3.
1/1 mismatches
[1] 2 - 3 == -1

[ FAIL 1 | WARN 2 | SKIP 0 | PASS 333 ]
Error: Test failures
Execution halted

Example timings

benchdamic.Rcheck/benchdamic-Ex.timings

nameusersystemelapsed
CAT0.0030.0010.006
DA_ALDEx24.5050.3145.610
DA_ANCOM0.9720.0751.435
DA_DESeq23.3910.3283.852
DA_MAST1.6520.1361.808
DA_Maaslin20.3570.0540.462
DA_NOISeq1.3470.2381.931
DA_Seurat2.2130.1892.743
DA_ZicoSeq0.8830.0311.070
DA_basic0.0480.0010.049
DA_corncob0.7360.0351.060
DA_dearseq0.0640.0000.068
DA_edgeR0.2000.0180.354
DA_limma0.0780.0020.137
DA_linda0.0500.0010.078
DA_maaslin30.5820.0170.652
DA_metagenomeSeq0.2710.0020.276
DA_mixMC0.7450.0190.789
RMSE0.0010.0000.001
addKnowledge0.1780.0010.179
areaCAT4.5220.1714.789
checkNormalization000
createColors0.0050.0010.005
createConcordance5.5680.1626.497
createEnrichment0.3710.0070.377
createMocks0.0020.0010.003
createPositives1.1080.0141.475
createSplits0.0350.0000.036
createTIEC3.4720.0273.551
enrichmentTest0.1280.0000.127
extractDA0.1880.0060.194
extractStatistics0.1830.0040.187
fitDM0.0310.0040.035
fitHURDLE0.7080.0220.735
fitModels2.5700.0493.001
fitNB0.0490.0020.051
fitZIG0.0550.0040.059
fitZINB0.4660.0240.595
getDA0.0810.0000.081
getPositives0.0790.0010.080
getStatistics0.0700.0010.071
get_counts_metadata0.1170.0000.117
iterative_ordering0.0080.0010.009
meanDifferences0.0020.0000.002
norm_CSS0.0720.0000.072
norm_DESeq20.4470.0000.676
norm_TSS0.0340.0010.058
norm_edgeR0.0390.0000.074
plotConcordance5.9750.1297.561
plotContingency1.6120.0232.221
plotEnrichment1.5460.0002.290
plotFDR2.9130.0173.203
plotFPR3.1750.0213.996
plotKS3.1250.0203.299
plotLogP3.0220.0083.231
plotMD4.8650.0626.094
plotMutualFindings1.6490.1451.964
plotPositives0.9420.0491.055
plotQQ3.0760.2863.798
plotRMSE3.2710.2503.701
prepareObserved0.0020.0000.001
runDA0.6020.0020.705
runMocks0.7400.0290.834
runNormalizations0.5200.0170.543
runSplits3.9570.1314.364
setNormalizations0.0000.0000.001
set_ALDEx20.0070.0010.009
set_ANCOM0.0090.0000.009
set_DESeq20.0090.0000.008
set_MAST0.0030.0010.004
set_Maaslin20.0040.0010.006
set_NOISeq0.0020.0020.004
set_Seurat0.0070.0010.008
set_ZicoSeq0.0080.0000.008
set_basic0.0030.0000.002
set_corncob0.0050.0000.004
set_dearseq0.0030.0000.002
set_edgeR0.0130.0020.014
set_limma0.0080.0020.010
set_linda0.0060.0000.007
set_maaslin30.0070.0000.008
set_metagenomeSeq0.0060.0000.006
set_mixMC0.0030.0000.003
weights_ZINB0.4840.0180.502