Back to Multiple platform build/check report for BioC 3.22: simplified long |
|
This page was generated on 2025-10-04 12:03 -0400 (Sat, 04 Oct 2025).
Hostname | OS | Arch (*) | R version | Installed pkgs |
---|---|---|---|---|
nebbiolo2 | Linux (Ubuntu 24.04.3 LTS) | x86_64 | 4.5.1 Patched (2025-08-23 r88802) -- "Great Square Root" | 4853 |
lconway | macOS 12.7.1 Monterey | x86_64 | 4.5.1 Patched (2025-09-10 r88807) -- "Great Square Root" | 4640 |
kjohnson3 | macOS 13.7.7 Ventura | arm64 | 4.5.1 Patched (2025-09-10 r88807) -- "Great Square Root" | 4585 |
taishan | Linux (openEuler 24.03 LTS) | aarch64 | 4.5.0 (2025-04-11) -- "How About a Twenty-Six" | 4576 |
Click on any hostname to see more info about the system (e.g. compilers) (*) as reported by 'uname -p', except on Windows and Mac OS X |
Package 117/2341 | Hostname | OS / Arch | INSTALL | BUILD | CHECK | BUILD BIN | ||||||||
autonomics 1.17.16 (landing page) Aditya Bhagwat
| nebbiolo2 | Linux (Ubuntu 24.04.3 LTS) / x86_64 | OK | OK | OK | ![]() | ||||||||
lconway | macOS 12.7.1 Monterey / x86_64 | OK | OK | OK | OK | ![]() | ||||||||
kjohnson3 | macOS 13.7.7 Ventura / arm64 | OK | OK | OK | OK | ![]() | ||||||||
taishan | Linux (openEuler 24.03 LTS) / aarch64 | OK | OK | OK | ||||||||||
To the developers/maintainers of the autonomics package: - Allow up to 24 hours (and sometimes 48 hours) for your latest push to git@git.bioconductor.org:packages/autonomics.git to reflect on this report. See Troubleshooting Build Report for more information. - Use the following Renviron settings to reproduce errors and warnings. - If 'R CMD check' started to fail recently on the Linux builder(s) over a missing dependency, add the missing dependency to 'Suggests:' in your DESCRIPTION file. See Renviron.bioc for more information. |
Package: autonomics |
Version: 1.17.16 |
Command: /home/biocbuild/bbs-3.22-bioc/R/bin/R CMD check --install=check:autonomics.install-out.txt --library=/home/biocbuild/bbs-3.22-bioc/R/site-library --timings autonomics_1.17.16.tar.gz |
StartedAt: 2025-10-03 21:06:38 -0400 (Fri, 03 Oct 2025) |
EndedAt: 2025-10-03 21:30:28 -0400 (Fri, 03 Oct 2025) |
EllapsedTime: 1430.0 seconds |
RetCode: 0 |
Status: OK |
CheckDir: autonomics.Rcheck |
Warnings: 0 |
############################################################################## ############################################################################## ### ### Running command: ### ### /home/biocbuild/bbs-3.22-bioc/R/bin/R CMD check --install=check:autonomics.install-out.txt --library=/home/biocbuild/bbs-3.22-bioc/R/site-library --timings autonomics_1.17.16.tar.gz ### ############################################################################## ############################################################################## * using log directory ‘/home/biocbuild/bbs-3.22-bioc/meat/autonomics.Rcheck’ * using R version 4.5.1 Patched (2025-08-23 r88802) * using platform: x86_64-pc-linux-gnu * R was compiled by gcc (Ubuntu 13.3.0-6ubuntu2~24.04) 13.3.0 GNU Fortran (Ubuntu 13.3.0-6ubuntu2~24.04) 13.3.0 * running under: Ubuntu 24.04.3 LTS * using session charset: UTF-8 * checking for file ‘autonomics/DESCRIPTION’ ... OK * checking extension type ... Package * this is package ‘autonomics’ version ‘1.17.16’ * package encoding: UTF-8 * checking package namespace information ... OK * checking package dependencies ... INFO Imports includes 32 non-default packages. Importing from so many packages makes the package vulnerable to any of them becoming unavailable. Move as many as possible to Suggests and use conditionally. * checking if this is a source package ... OK * checking if there is a namespace ... OK * checking for hidden files and directories ... NOTE Found the following hidden files and directories: .BBSoptions These were most likely included in error. See section ‘Package structure’ in the ‘Writing R Extensions’ manual. * checking for portable file names ... OK * checking for sufficient/correct file permissions ... OK * checking whether package ‘autonomics’ can be installed ... OK * checking installed package size ... OK * checking package directory ... OK * checking ‘build’ directory ... OK * checking DESCRIPTION meta-information ... OK * checking top-level files ... OK * checking for left-over files ... OK * checking index information ... OK * checking package subdirectories ... OK * checking code files for non-ASCII characters ... OK * checking R files for syntax errors ... OK * checking whether the package can be loaded ... OK * checking whether the package can be loaded with stated dependencies ... OK * checking whether the package can be unloaded cleanly ... OK * checking whether the namespace can be loaded with stated dependencies ... OK * checking whether the namespace can be unloaded cleanly ... OK * checking loading without being on the library search path ... OK * checking dependencies in R code ... OK * checking S3 generic/method consistency ... OK * checking replacement functions ... OK * checking foreign function calls ... OK * checking R code for possible problems ... OK * checking Rd files ... OK * checking Rd metadata ... OK * checking Rd cross-references ... NOTE Non-topic package-anchored link(s) in Rd file 'reexports.Rd': ‘[magrittr:compound]{%<>%}’ ‘[magrittr:pipe]{%>%}’ ‘[magrittr:aliases]{extract}’ See section 'Cross-references' in the 'Writing R Extensions' manual. * checking for missing documentation entries ... OK * checking for code/documentation mismatches ... OK * checking Rd \usage sections ... OK * checking Rd contents ... OK * checking for unstated dependencies in examples ... OK * checking files in ‘vignettes’ ... OK * checking examples ... OK Examples with CPU (user + system) or elapsed time > 5s user system elapsed read_diann_proteingroups 374.657 4.660 107.426 write_xl 209.791 5.987 240.305 rm_diann_contaminants 97.177 1.204 22.352 awblinmod 40.198 0.154 38.893 read_rnaseq_counts 37.519 2.563 31.768 ftype 27.404 0.120 8.786 default_formula 26.501 0.374 17.805 LINMOD 25.266 0.584 23.849 plot_exprs 23.321 0.226 19.942 plot_exprs_per_coef 19.428 0.032 19.375 read_somascan 13.657 0.406 13.784 plot_volcano 13.425 0.048 13.434 analyze 13.357 0.079 13.299 plot_summary 12.925 0.057 12.880 read_metabolon 12.063 0.350 12.343 read_olink 12.143 0.061 1.751 plot_densities 11.743 0.094 9.758 plot_contrastogram 11.358 0.119 2.996 fit_survival 10.504 0.025 10.531 explore-transforms 9.682 0.015 9.698 fcluster 9.264 0.009 9.116 read_fragpipe 8.225 0.406 6.815 plot_subgroup_points 7.852 0.095 6.129 plot_detections 7.126 0.024 7.075 biplot_covariates 6.634 0.037 6.649 plot_xy_density 6.235 0.007 6.242 subtract_baseline 5.523 0.050 4.927 log2transform 4.837 0.175 5.012 * checking for unstated dependencies in ‘tests’ ... OK * checking tests ... Running ‘testthat.R’ OK * checking for unstated dependencies in vignettes ... OK * checking package vignettes ... OK * checking re-building of vignette outputs ... OK * checking PDF version of manual ... OK * DONE Status: 2 NOTEs See ‘/home/biocbuild/bbs-3.22-bioc/meat/autonomics.Rcheck/00check.log’ for details.
autonomics.Rcheck/00install.out
############################################################################## ############################################################################## ### ### Running command: ### ### /home/biocbuild/bbs-3.22-bioc/R/bin/R CMD INSTALL autonomics ### ############################################################################## ############################################################################## * installing to library ‘/home/biocbuild/bbs-3.22-bioc/R/site-library’ * installing *source* package ‘autonomics’ ... ** this is package ‘autonomics’ version ‘1.17.16’ ** using staged installation ** R ** inst ** byte-compile and prepare package for lazy loading Note: wrong number of arguments to 'seq_along' Note: wrong number of arguments to 'sqrt' ** help *** installing help indices ** building package indices ** installing vignettes ** testing if installed package can be loaded from temporary location ** testing if installed package can be loaded from final location ** testing if installed package keeps a record of temporary installation path * DONE (autonomics)
autonomics.Rcheck/tests/testthat.Rout
R version 4.5.1 Patched (2025-08-23 r88802) -- "Great Square Root" Copyright (C) 2025 The R Foundation for Statistical Computing Platform: x86_64-pc-linux-gnu R is free software and comes with ABSOLUTELY NO WARRANTY. You are welcome to redistribute it under certain conditions. Type 'license()' or 'licence()' for distribution details. R is a collaborative project with many contributors. Type 'contributors()' for more information and 'citation()' on how to cite R or R packages in publications. Type 'demo()' for some demos, 'help()' for on-line help, or 'help.start()' for an HTML browser interface to help. Type 'q()' to quit R. > library(testthat) > library(autonomics) Attaching package: 'autonomics' The following objects are masked from 'package:stats': biplot, loadings The following object is masked from 'package:base': beta > > test_check("autonomics") [ FAIL 0 | WARN 3 | SKIP 0 | PASS 158 ] [ FAIL 0 | WARN 3 | SKIP 0 | PASS 158 ] > > proc.time() user system elapsed 259.745 7.334 245.463
autonomics.Rcheck/autonomics-Ex.timings
name | user | system | elapsed | |
AUTONOMICS_DATASETS | 0.000 | 0.000 | 0.001 | |
COMPOUNDDISCOVERER_PATTERNS | 0 | 0 | 0 | |
LINMOD | 25.266 | 0.584 | 23.849 | |
LINMODENGINES | 0 | 0 | 0 | |
MAXQUANT_PATTERNS | 0.000 | 0.000 | 0.001 | |
TAXON_TO_ORGNAME | 0 | 0 | 0 | |
TESTS | 0 | 0 | 0 | |
X | 1.155 | 0.012 | 1.145 | |
abstract_fit | 0.971 | 0.011 | 0.962 | |
add_adjusted_pvalues | 0.492 | 0.006 | 0.499 | |
add_assay_means | 0.329 | 0.004 | 0.334 | |
add_facetvars | 1.375 | 0.065 | 1.419 | |
add_opentargets_by_uniprot | 0.365 | 0.009 | 0.374 | |
add_psp | 0.481 | 0.006 | 0.488 | |
add_smiles | 0.473 | 0.011 | 0.447 | |
all_non_numeric | 0.562 | 0.001 | 0.564 | |
analysis | 0.443 | 0.002 | 0.445 | |
analyze | 13.357 | 0.079 | 13.299 | |
annotate_maxquant | 0.865 | 0.034 | 0.900 | |
annotate_uniprot_rest | 1.258 | 0.092 | 2.897 | |
assert_is_valid_sumexp | 0.542 | 0.008 | 0.513 | |
awblinmod | 40.198 | 0.154 | 38.893 | |
biplot | 3.600 | 0.019 | 3.596 | |
biplot_corrections | 3.342 | 0.004 | 3.323 | |
biplot_covariates | 6.634 | 0.037 | 6.649 | |
block2limma | 0.002 | 0.000 | 0.001 | |
block2lm | 0.003 | 0.000 | 0.003 | |
block2lme | 0.002 | 0.000 | 0.002 | |
block2lmer | 0.003 | 0.000 | 0.004 | |
block_has_two_levels | 0.658 | 0.008 | 0.613 | |
center | 1.800 | 0.003 | 1.795 | |
code | 4.573 | 0.010 | 4.543 | |
collapsed_entrezg_to_symbol | 0.846 | 0.047 | 0.893 | |
contrast_subgroup_cols | 0.566 | 0.005 | 0.541 | |
contrastdt | 0.552 | 0.001 | 0.552 | |
count_in | 0.001 | 0.000 | 0.000 | |
counts | 0.329 | 0.001 | 0.330 | |
counts2cpm | 0.290 | 0.000 | 0.289 | |
counts2tpm | 0.277 | 0.000 | 0.278 | |
cpm | 0.322 | 0.001 | 0.323 | |
create_design | 0.677 | 0.003 | 0.659 | |
default_formula | 26.501 | 0.374 | 17.805 | |
default_geom | 0.471 | 0.005 | 0.449 | |
default_sfile | 0.001 | 0.000 | 0.001 | |
demultiplex | 0.013 | 0.000 | 0.013 | |
densities | 0.204 | 0.000 | 0.205 | |
dequantify | 0.002 | 0.001 | 0.003 | |
dequantify_compounddiscoverer | 0.001 | 0.000 | 0.001 | |
dot-coxph | 0.349 | 0.008 | 0.356 | |
dot-merge | 0.019 | 0.000 | 0.018 | |
dot-read_maxquant_proteingroups | 0.111 | 0.001 | 0.112 | |
download_data | 0 | 0 | 0 | |
download_gtf | 0 | 0 | 0 | |
download_mcclain21 | 0 | 0 | 0 | |
dt2mat | 0.003 | 0.000 | 0.003 | |
enrichment | 1.100 | 0.001 | 1.100 | |
entrezg_to_symbol | 0.124 | 0.001 | 0.125 | |
explore-transforms | 9.682 | 0.015 | 9.698 | |
extract_contrast_features | 4.431 | 0.063 | 4.471 | |
extract_rectangle | 0.108 | 0.003 | 0.111 | |
factor.vars | 0.170 | 0.000 | 0.169 | |
factorize | 0.780 | 0.004 | 0.784 | |
fcluster | 9.264 | 0.009 | 9.116 | |
fcor | 1.469 | 0.008 | 1.477 | |
fdata | 0.526 | 0.002 | 0.528 | |
fdr2p | 1.004 | 0.045 | 1.011 | |
filter_exprs_replicated_in_some_subgroup | 1.015 | 0.028 | 0.974 | |
filter_features | 0.511 | 0.003 | 0.492 | |
filter_medoid | 0.554 | 0.001 | 0.555 | |
filter_samples | 0.562 | 0.006 | 0.544 | |
fit_survival | 10.504 | 0.025 | 10.531 | |
fits | 0.303 | 0.000 | 0.302 | |
fix_xlgenes | 0.002 | 0.000 | 0.001 | |
flevels | 0.383 | 0.002 | 0.385 | |
fnames | 0.470 | 0.003 | 0.472 | |
formula2str | 0 | 0 | 0 | |
ftype | 27.404 | 0.120 | 8.786 | |
fvalues | 0.369 | 0.002 | 0.371 | |
fvars | 0.384 | 0.001 | 0.385 | |
genome_to_orgdb | 0.000 | 0.000 | 0.001 | |
group_by_level | 0.001 | 0.000 | 0.001 | |
guess_compounddiscoverer_quantity | 0.001 | 0.000 | 0.001 | |
guess_fitsep | 0.494 | 0.002 | 0.496 | |
guess_maxquant_quantity | 0.004 | 0.001 | 0.005 | |
guess_sep | 0.470 | 0.006 | 0.453 | |
has_multiple_levels | 0.052 | 0.000 | 0.053 | |
hdlproteins | 0.041 | 0.002 | 0.046 | |
impute | 3.300 | 0.002 | 3.302 | |
invert_subgroups | 0.645 | 0.000 | 0.645 | |
is_character_matrix | 0.138 | 0.000 | 0.139 | |
is_collapsed_subset | 0.000 | 0.000 | 0.001 | |
is_compounddiscoverer_output | 1.807 | 0.057 | 0.279 | |
is_correlation_matrix | 0.001 | 0.000 | 0.001 | |
is_diann_report | 3.512 | 0.023 | 0.243 | |
is_fastadt | 0.182 | 0.002 | 0.061 | |
is_file | 0 | 0 | 0 | |
is_fraction | 0.002 | 0.000 | 0.001 | |
is_fragpipe_tsv | 1.440 | 0.008 | 0.113 | |
is_imputed | 0.721 | 0.004 | 0.711 | |
is_maxquant_phosphosites | 1.728 | 0.012 | 0.127 | |
is_maxquant_proteingroups | 1.792 | 0.015 | 0.135 | |
is_positive_number | 0.002 | 0.000 | 0.002 | |
is_scalar_subset | 0.321 | 0.002 | 0.323 | |
is_sig | 1.379 | 0.003 | 1.382 | |
is_valid_formula | 0.043 | 0.000 | 0.044 | |
keep_estimable_features | 0.745 | 0.006 | 0.703 | |
label2index | 0.001 | 0.000 | 0.000 | |
list2mat | 0.001 | 0.000 | 0.000 | |
log2counts | 0.345 | 0.001 | 0.346 | |
log2cpm | 0.306 | 0.001 | 0.307 | |
log2diffs | 0.303 | 0.000 | 0.302 | |
log2proteins | 0.296 | 0.002 | 0.298 | |
log2sites | 0.346 | 0.001 | 0.346 | |
log2tpm | 0.309 | 0.011 | 0.320 | |
log2transform | 4.837 | 0.175 | 5.012 | |
logical2factor | 0.001 | 0.000 | 0.001 | |
make_alpha_palette | 0.496 | 0.015 | 0.487 | |
make_colors | 0.009 | 0.000 | 0.010 | |
make_volcano_dt | 0.814 | 0.016 | 0.830 | |
map_fvalues | 0.350 | 0.003 | 0.354 | |
matrix2sumexp | 1.007 | 0.025 | 1.010 | |
mclust_breaks | 0.513 | 0.037 | 0.550 | |
merge_sample_file | 0.532 | 0.023 | 0.555 | |
merge_sdata | 0.672 | 0.035 | 0.686 | |
message_df | 0.002 | 0.000 | 0.002 | |
model_coefs | 0.774 | 0.039 | 0.786 | |
modelvar | 4.331 | 0.171 | 4.451 | |
object1 | 0.460 | 0.000 | 0.459 | |
order_on_p | 1.286 | 0.031 | 1.295 | |
overall_parameters | 0.028 | 0.000 | 0.029 | |
pca | 3.068 | 0.036 | 3.084 | |
pg_to_canonical | 0.005 | 0.000 | 0.005 | |
plot_coef_densities | 1.274 | 0.009 | 1.262 | |
plot_contrast_venn | 2.493 | 0.058 | 2.495 | |
plot_contrastogram | 11.358 | 0.119 | 2.996 | |
plot_data | 1.615 | 0.047 | 1.641 | |
plot_densities | 11.743 | 0.094 | 9.758 | |
plot_design | 0.683 | 0.003 | 0.686 | |
plot_detections | 7.126 | 0.024 | 7.075 | |
plot_exprs | 23.321 | 0.226 | 19.942 | |
plot_exprs_per_coef | 19.428 | 0.032 | 19.375 | |
plot_fit_summary | 2.433 | 0.008 | 2.368 | |
plot_heatmap | 2.969 | 0.004 | 2.973 | |
plot_matrix | 0.495 | 0.004 | 0.461 | |
plot_subgroup_points | 7.852 | 0.095 | 6.129 | |
plot_summary | 12.925 | 0.057 | 12.880 | |
plot_venn | 0.016 | 0.000 | 0.016 | |
plot_venn_heatmap | 0.019 | 0.001 | 0.020 | |
plot_violins | 4.601 | 0.046 | 4.609 | |
plot_volcano | 13.425 | 0.048 | 13.434 | |
plot_xy_density | 6.235 | 0.007 | 6.242 | |
preprocess_rnaseq_counts | 0.305 | 0.002 | 0.306 | |
pull_columns | 0.002 | 0.000 | 0.002 | |
pvalues_estimable | 0.039 | 0.001 | 0.039 | |
read_affymetrix | 0 | 0 | 0 | |
read_diann_proteingroups | 374.657 | 4.660 | 107.426 | |
read_fragpipe | 8.225 | 0.406 | 6.815 | |
read_maxquant_phosphosites | 1.375 | 0.032 | 1.408 | |
read_maxquant_proteingroups | 1.169 | 0.035 | 1.204 | |
read_metabolon | 12.063 | 0.350 | 12.343 | |
read_msigdt | 0.001 | 0.000 | 0.001 | |
read_olink | 12.143 | 0.061 | 1.751 | |
read_rectangles | 0.162 | 0.006 | 0.169 | |
read_rnaseq_counts | 37.519 | 2.563 | 31.768 | |
read_salmon | 0 | 0 | 0 | |
read_somascan | 13.657 | 0.406 | 13.784 | |
read_uniprotdt | 0.286 | 0.003 | 0.288 | |
reset_fit | 4.700 | 0.016 | 4.655 | |
rm_diann_contaminants | 97.177 | 1.204 | 22.352 | |
rm_missing_in_some_samples | 0.473 | 0.008 | 0.457 | |
rm_unmatched_samples | 0.697 | 0.010 | 0.715 | |
sbind | 4.115 | 0.156 | 4.310 | |
scaledlibsizes | 0.346 | 0.008 | 0.354 | |
scoremat | 0.789 | 0.018 | 0.783 | |
slevels | 0.424 | 0.016 | 0.441 | |
snames | 0.384 | 0.004 | 0.388 | |
split_extract_fixed | 0.515 | 0.007 | 0.512 | |
split_samples | 1.153 | 0.014 | 1.130 | |
stepauc | 0.349 | 0.000 | 0.349 | |
stri_any_regex | 0 | 0 | 0 | |
stri_detect_fixed_in_collapsed | 0.310 | 0.004 | 0.315 | |
subgroup_matrix | 0.575 | 0.010 | 0.571 | |
subtract_baseline | 5.523 | 0.050 | 4.927 | |
sumexp_to_longdt | 1.961 | 0.067 | 1.976 | |
sumexp_to_tsv | 0.451 | 0.002 | 0.453 | |
sumexplist_to_longdt | 1.604 | 0.039 | 1.642 | |
summarize_fit | 1.745 | 0.053 | 1.696 | |
survobj | 0.130 | 0.000 | 0.129 | |
svalues | 0.379 | 0.009 | 0.388 | |
svars | 0.431 | 0.002 | 0.433 | |
systematic_nas | 0.48 | 0.00 | 0.48 | |
tag_features | 0.977 | 0.017 | 0.994 | |
tag_hdlproteins | 0.526 | 0.012 | 0.553 | |
taxon2org | 0.001 | 0.000 | 0.001 | |
tpm | 0.309 | 0.003 | 0.312 | |
uncollapse | 0.027 | 0.001 | 0.028 | |
values | 0.477 | 0.005 | 0.482 | |
varlevels_dont_clash | 0.020 | 0.000 | 0.021 | |
venn_detects | 0.556 | 0.001 | 0.556 | |
weights | 0.354 | 0.000 | 0.354 | |
write_xl | 209.791 | 5.987 | 240.305 | |
zero_to_na | 0.001 | 0.001 | 0.006 | |