Back to Multiple platform build/check report for BioC 3.22: simplified long |
|
This page was generated on 2025-10-04 12:06 -0400 (Sat, 04 Oct 2025).
Hostname | OS | Arch (*) | R version | Installed pkgs |
---|---|---|---|---|
nebbiolo2 | Linux (Ubuntu 24.04.3 LTS) | x86_64 | 4.5.1 Patched (2025-08-23 r88802) -- "Great Square Root" | 4853 |
lconway | macOS 12.7.1 Monterey | x86_64 | 4.5.1 Patched (2025-09-10 r88807) -- "Great Square Root" | 4640 |
kjohnson3 | macOS 13.7.7 Ventura | arm64 | 4.5.1 Patched (2025-09-10 r88807) -- "Great Square Root" | 4585 |
taishan | Linux (openEuler 24.03 LTS) | aarch64 | 4.5.0 (2025-04-11) -- "How About a Twenty-Six" | 4576 |
Click on any hostname to see more info about the system (e.g. compilers) (*) as reported by 'uname -p', except on Windows and Mac OS X |
Package 2039/2341 | Hostname | OS / Arch | INSTALL | BUILD | CHECK | BUILD BIN | ||||||||
SNPhood 1.39.0 (landing page) Christian Arnold
| nebbiolo2 | Linux (Ubuntu 24.04.3 LTS) / x86_64 | OK | OK | OK | ![]() | ||||||||
lconway | macOS 12.7.1 Monterey / x86_64 | OK | OK | OK | OK | ![]() | ||||||||
kjohnson3 | macOS 13.7.7 Ventura / arm64 | OK | OK | OK | OK | ![]() | ||||||||
taishan | Linux (openEuler 24.03 LTS) / aarch64 | OK | OK | OK | ||||||||||
To the developers/maintainers of the SNPhood package: - Allow up to 24 hours (and sometimes 48 hours) for your latest push to git@git.bioconductor.org:packages/SNPhood.git to reflect on this report. See Troubleshooting Build Report for more information. - Use the following Renviron settings to reproduce errors and warnings. - If 'R CMD check' started to fail recently on the Linux builder(s) over a missing dependency, add the missing dependency to 'Suggests:' in your DESCRIPTION file. See Renviron.bioc for more information. |
Package: SNPhood |
Version: 1.39.0 |
Command: /Library/Frameworks/R.framework/Resources/bin/R CMD check --install=check:SNPhood.install-out.txt --library=/Library/Frameworks/R.framework/Resources/library --no-vignettes --timings SNPhood_1.39.0.tar.gz |
StartedAt: 2025-10-03 21:49:04 -0400 (Fri, 03 Oct 2025) |
EndedAt: 2025-10-03 21:53:01 -0400 (Fri, 03 Oct 2025) |
EllapsedTime: 237.7 seconds |
RetCode: 0 |
Status: OK |
CheckDir: SNPhood.Rcheck |
Warnings: 0 |
############################################################################## ############################################################################## ### ### Running command: ### ### /Library/Frameworks/R.framework/Resources/bin/R CMD check --install=check:SNPhood.install-out.txt --library=/Library/Frameworks/R.framework/Resources/library --no-vignettes --timings SNPhood_1.39.0.tar.gz ### ############################################################################## ############################################################################## * using log directory ‘/Users/biocbuild/bbs-3.22-bioc/meat/SNPhood.Rcheck’ * using R version 4.5.1 Patched (2025-09-10 r88807) * using platform: aarch64-apple-darwin20 * R was compiled by Apple clang version 16.0.0 (clang-1600.0.26.6) GNU Fortran (GCC) 14.2.0 * running under: macOS Ventura 13.7.7 * using session charset: UTF-8 * using option ‘--no-vignettes’ * checking for file ‘SNPhood/DESCRIPTION’ ... OK * this is package ‘SNPhood’ version ‘1.39.0’ * checking package namespace information ... OK * checking package dependencies ... OK * checking if this is a source package ... OK * checking if there is a namespace ... OK * checking for hidden files and directories ... OK * checking for portable file names ... OK * checking for sufficient/correct file permissions ... OK * checking whether package ‘SNPhood’ can be installed ... OK * checking installed package size ... OK * checking package directory ... OK * checking ‘build’ directory ... OK * checking DESCRIPTION meta-information ... NOTE BugReports field is not a suitable URL but contains an email address: use the Contact field instead * checking top-level files ... OK * checking for left-over files ... OK * checking index information ... OK * checking package subdirectories ... OK * checking code files for non-ASCII characters ... OK * checking R files for syntax errors ... OK * checking whether the package can be loaded ... OK * checking whether the package can be loaded with stated dependencies ... OK * checking whether the package can be unloaded cleanly ... OK * checking whether the namespace can be loaded with stated dependencies ... OK * checking whether the namespace can be unloaded cleanly ... OK * checking whether startup messages can be suppressed ... OK * checking dependencies in R code ... OK * checking S3 generic/method consistency ... OK * checking replacement functions ... OK * checking foreign function calls ... OK * checking R code for possible problems ... NOTE .calcBinomTestVector: no visible binding for global variable ‘pp’ Undefined global functions or variables: pp * checking Rd files ... OK * checking Rd metadata ... OK * checking Rd cross-references ... NOTE Found the following Rd file(s) with Rd \link{} targets missing package anchors: analyzeSNPhood.Rd: BamFile-class, BamFileList-class collectFiles.Rd: BamFile-class, BamFileList-class Please provide package anchors for all Rd \link{} targets not in the package itself and the base packages. * checking for missing documentation entries ... OK * checking for code/documentation mismatches ... OK * checking Rd \usage sections ... OK * checking Rd contents ... OK * checking for unstated dependencies in examples ... OK * checking contents of ‘data’ directory ... OK * checking data for non-ASCII characters ... OK * checking LazyData ... OK * checking data for ASCII and uncompressed saves ... OK * checking files in ‘vignettes’ ... OK * checking examples ... OK Examples with CPU (user + system) or elapsed time > 5s user system elapsed analyzeSNPhood 39.782 0.711 40.728 plotAllelicBiasResults 11.686 0.195 11.959 plotAndSummarizeAllelicBiasTest 10.735 0.141 10.925 testForAllelicBiases 10.608 0.134 10.815 plotFDRResults 10.551 0.129 10.711 * checking for unstated dependencies in vignettes ... OK * checking package vignettes ... OK * checking running R code from vignettes ... SKIPPED * checking re-building of vignette outputs ... SKIPPED * checking PDF version of manual ... OK * DONE Status: 3 NOTEs See ‘/Users/biocbuild/bbs-3.22-bioc/meat/SNPhood.Rcheck/00check.log’ for details.
SNPhood.Rcheck/00install.out
############################################################################## ############################################################################## ### ### Running command: ### ### /Library/Frameworks/R.framework/Resources/bin/R CMD INSTALL SNPhood ### ############################################################################## ############################################################################## * installing to library ‘/Library/Frameworks/R.framework/Versions/4.5-arm64/Resources/library’ * installing *source* package ‘SNPhood’ ... ** this is package ‘SNPhood’ version ‘1.39.0’ ** using staged installation ** R ** data *** moving datasets to lazyload DB ** byte-compile and prepare package for lazy loading ** help *** installing help indices ** building package indices ** installing vignettes ** testing if installed package can be loaded from temporary location ** testing if installed package can be loaded from final location ** testing if installed package keeps a record of temporary installation path * DONE (SNPhood)
SNPhood.Rcheck/SNPhood-Ex.timings
name | user | system | elapsed | |
analyzeSNPhood | 39.782 | 0.711 | 40.728 | |
annotation-methods | 0.072 | 0.026 | 0.100 | |
annotationBins | 0.046 | 0.008 | 0.054 | |
annotationBins2 | 4.488 | 0.015 | 4.587 | |
annotationDatasets | 0.042 | 0.008 | 0.055 | |
annotationReadGroups | 0.045 | 0.013 | 0.057 | |
annotationRegions | 0.050 | 0.008 | 0.059 | |
associateGenotypes | 1.810 | 0.065 | 2.087 | |
bins-methods | 0.043 | 0.011 | 0.054 | |
changeObjectIntegrityChecking | 0.052 | 0.013 | 0.070 | |
collectFiles | 0.011 | 0.001 | 0.013 | |
convertToAllelicFractions | 0.060 | 0.005 | 0.067 | |
counts-method | 0.505 | 0.027 | 0.543 | |
datasets-methods | 0.045 | 0.010 | 0.056 | |
deleteDatasets | 0.055 | 0.010 | 0.065 | |
deleteReadGroups | 0.056 | 0.016 | 0.072 | |
deleteRegions | 0.488 | 0.024 | 0.514 | |
enrichment-methods | 0.052 | 0.013 | 0.077 | |
getDefaultParameterList | 0 | 0 | 0 | |
mergeReadGroups | 0.067 | 0.012 | 0.078 | |
parameters-methods | 0.051 | 0.010 | 0.061 | |
plotAllelicBiasResults | 11.686 | 0.195 | 11.959 | |
plotAllelicBiasResultsOverview | 0.366 | 0.011 | 0.377 | |
plotAndCalculateCorrelationDatasets | 0.591 | 0.023 | 0.616 | |
plotAndCalculateWeakAndStrongGenotype | 0.224 | 0.018 | 0.244 | |
plotAndClusterMatrix | 0.220 | 0.034 | 0.273 | |
plotAndSummarizeAllelicBiasTest | 10.735 | 0.141 | 10.925 | |
plotBinCounts | 0.514 | 0.015 | 0.529 | |
plotClusterAverage | 0.253 | 0.016 | 0.269 | |
plotFDRResults | 10.551 | 0.129 | 10.711 | |
plotGenotypesPerCluster | 0.180 | 0.026 | 0.207 | |
plotGenotypesPerSNP | 0.135 | 0.016 | 0.151 | |
plotRegionCounts | 0.620 | 0.018 | 0.638 | |
readGroups-methods | 0.080 | 0.022 | 0.101 | |
regions-methods | 0.046 | 0.012 | 0.058 | |
renameBins | 0.501 | 0.022 | 0.522 | |
renameDatasets | 0.047 | 0.010 | 0.056 | |
renameReadGroups | 0.051 | 0.012 | 0.063 | |
renameRegions | 0.639 | 0.031 | 0.669 | |
results | 0.671 | 2.264 | 2.982 | |
testForAllelicBiases | 10.608 | 0.134 | 10.815 | |