Back to Multiple platform build/check report for BioC 3.22:   simplified   long
ABCDEFGHIJKLMNOPQ[R]STUVWXYZ

This page was generated on 2025-10-04 12:04 -0400 (Sat, 04 Oct 2025).

HostnameOSArch (*)R versionInstalled pkgs
nebbiolo2Linux (Ubuntu 24.04.3 LTS)x86_644.5.1 Patched (2025-08-23 r88802) -- "Great Square Root" 4853
lconwaymacOS 12.7.1 Montereyx86_644.5.1 Patched (2025-09-10 r88807) -- "Great Square Root" 4640
kjohnson3macOS 13.7.7 Venturaarm644.5.1 Patched (2025-09-10 r88807) -- "Great Square Root" 4585
taishanLinux (openEuler 24.03 LTS)aarch644.5.0 (2025-04-11) -- "How About a Twenty-Six" 4576
Click on any hostname to see more info about the system (e.g. compilers)      (*) as reported by 'uname -p', except on Windows and Mac OS X

Package 1717/2341HostnameOS / ArchINSTALLBUILDCHECKBUILD BIN
Rcpi 1.45.0  (landing page)
Nan Xiao
Snapshot Date: 2025-10-03 13:45 -0400 (Fri, 03 Oct 2025)
git_url: https://git.bioconductor.org/packages/Rcpi
git_branch: devel
git_last_commit: dba81ab
git_last_commit_date: 2025-04-15 10:29:42 -0400 (Tue, 15 Apr 2025)
nebbiolo2Linux (Ubuntu 24.04.3 LTS) / x86_64  OK    OK    OK  UNNEEDED, same version is already published
lconwaymacOS 12.7.1 Monterey / x86_64  OK    OK    OK    OK  UNNEEDED, same version is already published
kjohnson3macOS 13.7.7 Ventura / arm64  OK    OK    OK    OK  UNNEEDED, same version is already published
taishanLinux (openEuler 24.03 LTS) / aarch64  OK    OK    OK  


CHECK results for Rcpi on nebbiolo2

To the developers/maintainers of the Rcpi package:
- Allow up to 24 hours (and sometimes 48 hours) for your latest push to git@git.bioconductor.org:packages/Rcpi.git to reflect on this report. See Troubleshooting Build Report for more information.
- Use the following Renviron settings to reproduce errors and warnings.
- If 'R CMD check' started to fail recently on the Linux builder(s) over a missing dependency, add the missing dependency to 'Suggests:' in your DESCRIPTION file. See Renviron.bioc for more information.

raw results


Summary

Package: Rcpi
Version: 1.45.0
Command: /home/biocbuild/bbs-3.22-bioc/R/bin/R CMD check --install=check:Rcpi.install-out.txt --library=/home/biocbuild/bbs-3.22-bioc/R/site-library --timings Rcpi_1.45.0.tar.gz
StartedAt: 2025-10-04 03:17:19 -0400 (Sat, 04 Oct 2025)
EndedAt: 2025-10-04 03:19:12 -0400 (Sat, 04 Oct 2025)
EllapsedTime: 113.1 seconds
RetCode: 0
Status:   OK  
CheckDir: Rcpi.Rcheck
Warnings: 0

Command output

##############################################################################
##############################################################################
###
### Running command:
###
###   /home/biocbuild/bbs-3.22-bioc/R/bin/R CMD check --install=check:Rcpi.install-out.txt --library=/home/biocbuild/bbs-3.22-bioc/R/site-library --timings Rcpi_1.45.0.tar.gz
###
##############################################################################
##############################################################################


* using log directory ‘/home/biocbuild/bbs-3.22-bioc/meat/Rcpi.Rcheck’
* using R version 4.5.1 Patched (2025-08-23 r88802)
* using platform: x86_64-pc-linux-gnu
* R was compiled by
    gcc (Ubuntu 13.3.0-6ubuntu2~24.04) 13.3.0
    GNU Fortran (Ubuntu 13.3.0-6ubuntu2~24.04) 13.3.0
* running under: Ubuntu 24.04.3 LTS
* using session charset: UTF-8
* checking for file ‘Rcpi/DESCRIPTION’ ... OK
* checking extension type ... Package
* this is package ‘Rcpi’ version ‘1.45.0’
* package encoding: UTF-8
* checking package namespace information ... OK
* checking package dependencies ... OK
* checking if this is a source package ... OK
* checking if there is a namespace ... OK
* checking for hidden files and directories ... OK
* checking for portable file names ... OK
* checking for sufficient/correct file permissions ... OK
* checking whether package ‘Rcpi’ can be installed ... OK
* checking installed package size ... OK
* checking package directory ... OK
* checking ‘build’ directory ... OK
* checking DESCRIPTION meta-information ... OK
* checking top-level files ... OK
* checking for left-over files ... OK
* checking index information ... OK
* checking package subdirectories ... OK
* checking code files for non-ASCII characters ... OK
* checking R files for syntax errors ... OK
* checking whether the package can be loaded ... OK
* checking whether the package can be loaded with stated dependencies ... OK
* checking whether the package can be unloaded cleanly ... OK
* checking whether the namespace can be loaded with stated dependencies ... OK
* checking whether the namespace can be unloaded cleanly ... OK
* checking loading without being on the library search path ... OK
* checking dependencies in R code ... OK
* checking S3 generic/method consistency ... OK
* checking replacement functions ... OK
* checking foreign function calls ... OK
* checking R code for possible problems ... OK
* checking Rd files ... OK
* checking Rd metadata ... OK
* checking Rd cross-references ... OK
* checking for missing documentation entries ... OK
* checking for code/documentation mismatches ... OK
* checking Rd \usage sections ... OK
* checking Rd contents ... OK
* checking for unstated dependencies in examples ... OK
* checking contents of ‘data’ directory ... OK
* checking data for non-ASCII characters ... OK
* checking LazyData ... OK
* checking data for ASCII and uncompressed saves ... OK
* checking files in ‘vignettes’ ... OK
* checking examples ... OK
* checking for unstated dependencies in ‘tests’ ... OK
* checking tests ...
  Running ‘testthat.R’
 OK
* checking for unstated dependencies in vignettes ... OK
* checking package vignettes ... OK
* checking re-building of vignette outputs ... OK
* checking PDF version of manual ... OK
* DONE

Status: OK


Installation output

Rcpi.Rcheck/00install.out

##############################################################################
##############################################################################
###
### Running command:
###
###   /home/biocbuild/bbs-3.22-bioc/R/bin/R CMD INSTALL Rcpi
###
##############################################################################
##############################################################################


* installing to library ‘/home/biocbuild/bbs-3.22-bioc/R/site-library’
* installing *source* package ‘Rcpi’ ...
** this is package ‘Rcpi’ version ‘1.45.0’
** using staged installation
** R
** data
*** moving datasets to lazyload DB
** inst
** byte-compile and prepare package for lazy loading
** help
*** installing help indices
*** copying figures
** building package indices
** installing vignettes
** testing if installed package can be loaded from temporary location
** testing if installed package can be loaded from final location
** testing if installed package keeps a record of temporary installation path
* DONE (Rcpi)

Tests output

Rcpi.Rcheck/tests/testthat.Rout


R version 4.5.1 Patched (2025-08-23 r88802) -- "Great Square Root"
Copyright (C) 2025 The R Foundation for Statistical Computing
Platform: x86_64-pc-linux-gnu

R is free software and comes with ABSOLUTELY NO WARRANTY.
You are welcome to redistribute it under certain conditions.
Type 'license()' or 'licence()' for distribution details.

R is a collaborative project with many contributors.
Type 'contributors()' for more information and
'citation()' on how to cite R or R packages in publications.

Type 'demo()' for some demos, 'help()' for on-line help, or
'help.start()' for an HTML browser interface to help.
Type 'q()' to quit R.

> library(testthat)
> library(Rcpi)

> 
> test_check("Rcpi")
[ FAIL 0 | WARN 0 | SKIP 5 | PASS 17 ]

══ Skipped tests (5) ═══════════════════════════════════════════════════════════
• {rcdk} is not installed (5): 'test_extractDrugALOGP.R:2:5',
  'test_extractDrugECI.R:2:5', 'test_extractDrugRuleOfFive.R:2:5',
  'test_extractDrugTPSA.R:2:5', 'test_extractDrugXLogP.R:2:5'

[ FAIL 0 | WARN 0 | SKIP 5 | PASS 17 ]
> 
> proc.time()
   user  system elapsed 
  4.135   0.258   4.380 

Example timings

Rcpi.Rcheck/Rcpi-Ex.timings

nameusersystemelapsed
AA2DACOR0.0010.0000.001
AA3DMoRSE0.0010.0000.001
AAACF000
AABLOSUM1000.0000.0010.001
AABLOSUM45000
AABLOSUM50000
AABLOSUM62000
AABLOSUM80000
AABurden000
AACPSA0.0010.0000.000
AAConn0.0000.0000.001
AAConst0.0010.0000.001
AADescAll0.0010.0000.001
AAEdgeAdj0.0010.0000.001
AAEigIdx0.0010.0000.001
AAFGC0.0000.0010.001
AAGETAWAY0.0000.0010.001
AAGeom0.0000.0010.001
AAInfo0.0000.0010.001
AAMOE2D000
AAMOE3D000
AAMetaInfo000
AAMolProp000
AAPAM1200.0010.0000.000
AAPAM2500.0010.0000.001
AAPAM300.0010.0000.001
AAPAM400.0010.0000.001
AAPAM700.0010.0000.001
AARDF0.0010.0000.001
AARandic0.0000.0010.001
AATopo0.0000.0010.001
AATopoChg000
AAWHIM000
AAWalk000
AAindex000
OptAA3d000
acc0.0060.0000.007
calcDrugFPSim000
calcDrugMCSSim0.0030.0060.010
calcParProtGOSim000
calcParProtSeqSim0.0050.0000.006
calcTwoProtGOSim000
calcTwoProtSeqSim0.0020.0000.001
checkProt0.0010.0000.001
convMolFormat0.0010.0000.000
extractDrugAIO0.0010.0000.000
extractDrugALOGP0.0010.0000.000
extractDrugAminoAcidCount0.0010.0000.000
extractDrugApol0.0010.0000.000
extractDrugAromaticAtomsCount0.0010.0000.000
extractDrugAromaticBondsCount0.0010.0000.000
extractDrugAtomCount0.0010.0000.000
extractDrugAutocorrelationCharge0.0010.0000.000
extractDrugAutocorrelationMass0.0010.0000.001
extractDrugAutocorrelationPolarizability0.0010.0000.001
extractDrugBCUT0.0000.0000.001
extractDrugBPol0.0000.0000.001
extractDrugBondCount0.0000.0000.001
extractDrugCPSA0.0000.0000.001
extractDrugCarbonTypes0.0000.0000.001
extractDrugChiChain0.0000.0000.001
extractDrugChiCluster0.0000.0000.001
extractDrugChiPath0.0010.0000.001
extractDrugChiPathCluster0.0000.0010.001
extractDrugDescOB0.0120.0050.016
extractDrugECI0.0010.0000.000
extractDrugEstate0.0010.0000.000
extractDrugEstateComplete0.0010.0000.000
extractDrugExtended0.0010.0000.000
extractDrugExtendedComplete0.0010.0000.000
extractDrugFMF0.0010.0000.000
extractDrugFragmentComplexity0.0010.0000.000
extractDrugGraph0.0010.0000.000
extractDrugGraphComplete0.0010.0000.000
extractDrugGravitationalIndex0.0010.0000.001
extractDrugHBondAcceptorCount0.0000.0000.001
extractDrugHBondDonorCount0.0000.0000.001
extractDrugHybridization0.0000.0000.001
extractDrugHybridizationComplete0.0000.0000.001
extractDrugHybridizationRatio0.0000.0000.001
extractDrugIPMolecularLearning0.0000.0000.001
extractDrugKR0.0000.0000.001
extractDrugKRComplete0.0000.0000.001
extractDrugKappaShapeIndices0.0000.0000.001
extractDrugKierHallSmarts0.0000.0000.001
extractDrugLargestChain0.0010.0000.001
extractDrugLargestPiSystem0.0000.0010.001
extractDrugLengthOverBreadth0.0010.0000.001
extractDrugLongestAliphaticChain0.0010.0000.000
extractDrugMACCS0.0010.0000.000
extractDrugMACCSComplete0.0010.0000.000
extractDrugMDE0.0010.0000.000
extractDrugMannholdLogP0.0010.0000.000
extractDrugMomentOfInertia0.0010.0000.000
extractDrugOBFP20.0720.0090.082
extractDrugOBFP30.0060.0040.009
extractDrugOBFP40.0130.0070.019
extractDrugOBMACCS0.0090.0060.014
extractDrugPetitjeanNumber0.0000.0000.001
extractDrugPetitjeanShapeIndex0.0010.0000.001
extractDrugPubChem0.0010.0000.001
extractDrugPubChemComplete0.0010.0000.001
extractDrugRotatableBondsCount0.0000.0000.001
extractDrugRuleOfFive0.0000.0000.001
extractDrugShortestPath0.0000.0000.001
extractDrugShortestPathComplete0.0000.0000.001
extractDrugStandard0.0000.0000.001
extractDrugStandardComplete0.0000.0000.001
extractDrugTPSA0.0000.0000.001
extractDrugVABC0.0000.0000.001
extractDrugVAdjMa0.0000.0000.001
extractDrugWHIM0.0000.0010.001
extractDrugWeight0.0000.0000.001
extractDrugWeightedPath0.0010.0000.001
extractDrugWienerNumbers0.0010.0000.001
extractDrugXLogP0.0010.0000.001
extractDrugZagrebIndex0.0010.0000.001
extractPCMBLOSUM0.0080.0000.008
extractPCMDescScales0.0090.0000.010
extractPCMFAScales0.0130.0000.013
extractPCMMDSScales0.0070.0000.008
extractPCMPropScales0.0140.0010.016
extractPCMScales0.0120.0010.013
extractProtAAC0.0020.0000.002
extractProtAPAAC0.7040.0010.706
extractProtCTDC0.0020.0000.002
extractProtCTDD0.0040.0000.003
extractProtCTDT0.0040.0000.004
extractProtCTriad0.0810.0040.085
extractProtDC0.0020.0010.004
extractProtGeary0.0970.0040.101
extractProtMoran0.0940.0040.098
extractProtMoreauBroto0.0870.0020.090
extractProtPAAC0.3410.0000.341
extractProtPSSM0.0010.0000.001
extractProtPSSMAcc0.0010.0000.001
extractProtPSSMFeature0.0000.0010.001
extractProtQSO0.5980.0050.603
extractProtSOCN0.6540.0010.655
extractProtTC0.0200.0060.027
getCPI0.0010.0010.002
getDrug000
getFASTAFromKEGG000
getFASTAFromUniProt000
getMolFromCAS000
getMolFromChEMBL000
getMolFromDrugBank000
getMolFromKEGG000
getMolFromPubChem000
getPDBFromRCSBPDB000
getPPI0.0020.0000.002
getProt000
getSeqFromKEGG000
getSeqFromRCSBPDB000
getSeqFromUniProt000
getSmiFromChEMBL000
getSmiFromDrugBank000
getSmiFromKEGG000
getSmiFromPubChem000
readFASTA0.0000.0010.001
readMolFromSDF0.0020.0000.001
readMolFromSmi0.0010.0000.000
readPDB0.9400.0040.943
searchDrug0.0010.0000.001
segProt0.0010.0000.002