Back to Multiple platform build/check report for BioC 3.22:   simplified   long
ABCDEFGHIJKLMNOPQ[R]STUVWXYZ

This page was generated on 2025-10-04 12:07 -0400 (Sat, 04 Oct 2025).

HostnameOSArch (*)R versionInstalled pkgs
nebbiolo2Linux (Ubuntu 24.04.3 LTS)x86_644.5.1 Patched (2025-08-23 r88802) -- "Great Square Root" 4853
lconwaymacOS 12.7.1 Montereyx86_644.5.1 Patched (2025-09-10 r88807) -- "Great Square Root" 4640
kjohnson3macOS 13.7.7 Venturaarm644.5.1 Patched (2025-09-10 r88807) -- "Great Square Root" 4585
taishanLinux (openEuler 24.03 LTS)aarch644.5.0 (2025-04-11) -- "How About a Twenty-Six" 4576
Click on any hostname to see more info about the system (e.g. compilers)      (*) as reported by 'uname -p', except on Windows and Mac OS X

Package 1721/2341HostnameOS / ArchINSTALLBUILDCHECKBUILD BIN
RCX 1.13.1  (landing page)
Florian Auer
Snapshot Date: 2025-10-03 13:45 -0400 (Fri, 03 Oct 2025)
git_url: https://git.bioconductor.org/packages/RCX
git_branch: devel
git_last_commit: 996b128
git_last_commit_date: 2025-09-06 08:48:09 -0400 (Sat, 06 Sep 2025)
nebbiolo2Linux (Ubuntu 24.04.3 LTS) / x86_64  OK    OK    OK  UNNEEDED, same version is already published
lconwaymacOS 12.7.1 Monterey / x86_64  OK    OK    OK    OK  UNNEEDED, same version is already published
kjohnson3macOS 13.7.7 Ventura / arm64  OK    OK    OK    OK  UNNEEDED, same version is already published
taishanLinux (openEuler 24.03 LTS) / aarch64  OK    OK    OK  


CHECK results for RCX on taishan

To the developers/maintainers of the RCX package:
- Allow up to 24 hours (and sometimes 48 hours) for your latest push to git@git.bioconductor.org:packages/RCX.git to reflect on this report. See Troubleshooting Build Report for more information.
- Use the following Renviron settings to reproduce errors and warnings.
- If 'R CMD check' started to fail recently on the Linux builder(s) over a missing dependency, add the missing dependency to 'Suggests:' in your DESCRIPTION file. See Renviron.bioc for more information.
- See Martin Grigorov's blog post for how to debug Linux ARM64 related issues on a x86_64 host.

raw results


Summary

Package: RCX
Version: 1.13.1
Command: /home/biocbuild/R/R/bin/R CMD check --install=check:RCX.install-out.txt --library=/home/biocbuild/R/R/site-library --no-vignettes --timings RCX_1.13.1.tar.gz
StartedAt: 2025-10-03 10:37:43 -0000 (Fri, 03 Oct 2025)
EndedAt: 2025-10-03 10:38:41 -0000 (Fri, 03 Oct 2025)
EllapsedTime: 57.1 seconds
RetCode: 0
Status:   OK  
CheckDir: RCX.Rcheck
Warnings: 0

Command output

##############################################################################
##############################################################################
###
### Running command:
###
###   /home/biocbuild/R/R/bin/R CMD check --install=check:RCX.install-out.txt --library=/home/biocbuild/R/R/site-library --no-vignettes --timings RCX_1.13.1.tar.gz
###
##############################################################################
##############################################################################


* using log directory ‘/home/biocbuild/bbs-3.22-bioc/meat/RCX.Rcheck’
* using R version 4.5.0 (2025-04-11)
* using platform: aarch64-unknown-linux-gnu
* R was compiled by
    aarch64-unknown-linux-gnu-gcc (GCC) 14.2.0
    GNU Fortran (GCC) 14.2.0
* running under: openEuler 24.03 (LTS)
* using session charset: UTF-8
* using option ‘--no-vignettes’
* checking for file ‘RCX/DESCRIPTION’ ... OK
* checking extension type ... Package
* this is package ‘RCX’ version ‘1.13.1’
* package encoding: UTF-8
* checking package namespace information ... OK
* checking package dependencies ... OK
* checking if this is a source package ... OK
* checking if there is a namespace ... OK
* checking for hidden files and directories ... OK
* checking for portable file names ... OK
* checking for sufficient/correct file permissions ... OK
* checking whether package ‘RCX’ can be installed ... OK
* checking installed package size ... OK
* checking package directory ... OK
* checking ‘build’ directory ... OK
* checking DESCRIPTION meta-information ... NOTE
License stub is invalid DCF.
* checking top-level files ... OK
* checking for left-over files ... OK
* checking index information ... OK
* checking package subdirectories ... NOTE
Problems with news in ‘NEWS.md’:
No news entries found.
* checking code files for non-ASCII characters ... OK
* checking R files for syntax errors ... OK
* checking whether the package can be loaded ... OK
* checking whether the package can be loaded with stated dependencies ... OK
* checking whether the package can be unloaded cleanly ... OK
* checking whether the namespace can be loaded with stated dependencies ... OK
* checking whether the namespace can be unloaded cleanly ... OK
* checking loading without being on the library search path ... OK
* checking whether startup messages can be suppressed ... OK
* checking dependencies in R code ... OK
* checking S3 generic/method consistency ... OK
* checking replacement functions ... OK
* checking foreign function calls ... OK
* checking R code for possible problems ... OK
* checking Rd files ... OK
* checking Rd metadata ... OK
* checking Rd cross-references ... NOTE
Non-topic package-anchored link(s) in Rd file 'Igraph.Rd':
  ‘[igraph:aaa-igraph-package]{igraph}’

See section 'Cross-references' in the 'Writing R Extensions' manual.

Found the following Rd file(s) with Rd \link{} targets missing package
anchors:
  jsonToRCX.Rd: jsonlite
  readCX.Rd: jsonlite
Please provide package anchors for all Rd \link{} targets not in the
package itself and the base packages.
* checking for missing documentation entries ... OK
* checking for code/documentation mismatches ... OK
* checking Rd \usage sections ... NOTE
Documented arguments not in \usage in Rd file 'dot-format.Rd':
  ‘.log’

Functions with \usage entries need to have the appropriate \alias
entries, and all their arguments documented.
The \usage entries must correspond to syntactically valid R code.
See chapter ‘Writing R documentation files’ in the ‘Writing R
Extensions’ manual.
* checking Rd contents ... OK
* checking for unstated dependencies in examples ... OK
* checking R/sysdata.rda ... OK
* checking files in ‘vignettes’ ... OK
* checking examples ... OK
* checking for unstated dependencies in ‘tests’ ... OK
* checking tests ...
  Running ‘testthat.R’
 OK
* checking for unstated dependencies in vignettes ... OK
* checking package vignettes ... OK
* checking running R code from vignettes ... SKIPPED
* checking re-building of vignette outputs ... SKIPPED
* checking PDF version of manual ... OK
* DONE

Status: 4 NOTEs
See
  ‘/home/biocbuild/bbs-3.22-bioc/meat/RCX.Rcheck/00check.log’
for details.


Installation output

RCX.Rcheck/00install.out

##############################################################################
##############################################################################
###
### Running command:
###
###   /home/biocbuild/R/R/bin/R CMD INSTALL RCX
###
##############################################################################
##############################################################################


* installing to library ‘/home/biocbuild/R/R-4.5.0/site-library’
* installing *source* package ‘RCX’ ...
** this is package ‘RCX’ version ‘1.13.1’
** using staged installation
** R
** inst
** byte-compile and prepare package for lazy loading
** help
*** installing help indices
** building package indices
** installing vignettes
** testing if installed package can be loaded from temporary location
** testing if installed package can be loaded from final location
** testing if installed package keeps a record of temporary installation path
* DONE (RCX)

Tests output

RCX.Rcheck/tests/testthat.Rout


R version 4.5.0 (2025-04-11) -- "How About a Twenty-Six"
Copyright (C) 2025 The R Foundation for Statistical Computing
Platform: aarch64-unknown-linux-gnu

R is free software and comes with ABSOLUTELY NO WARRANTY.
You are welcome to redistribute it under certain conditions.
Type 'license()' or 'licence()' for distribution details.

R is a collaborative project with many contributors.
Type 'contributors()' for more information and
'citation()' on how to cite R or R packages in publications.

Type 'demo()' for some demos, 'help()' for on-line help, or
'help.start()' for an HTML browser interface to help.
Type 'q()' to quit R.

> library(testthat)
> library(RCX)
> 
> test_check("RCX")
[ FAIL 0 | WARN 0 | SKIP 0 | PASS 60 ]
> 
> proc.time()
   user  system elapsed 
  3.465   0.097   3.561 

Example timings

RCX.Rcheck/RCX-Ex.timings

nameusersystemelapsed
CartesianLayout0.0050.0000.005
Convert-Names-and-Classes0.0000.0000.001
CyGroups0.0060.0000.005
CyHiddenAttributes0.1580.0000.159
CyNetworkRelations0.0020.0000.002
CySubNetworks0.0030.0000.003
CyTableColumn0.0060.0000.007
CyVisualProperties0.0200.0000.021
CyVisualProperty0.0140.0000.014
CyVisualPropertyDependencies0.0050.0000.004
CyVisualPropertyMappings0.0050.0000.005
CyVisualPropertyProperties0.0080.0000.008
EdgeAttributes0.0190.0000.020
Edges0.0020.0000.002
Igraph3.4490.0763.538
Meta-data0.0320.0040.037
NetworkAttributes0.0130.0000.012
NodeAttributes0.020.000.02
Nodes0.0020.0000.003
RCX-object0.3340.0000.335
aspectClasses0.0010.0000.000
checks000
convert-data-types-and-values0.0020.0000.001
convert2json000
countElements0.0110.0000.012
custom-print0.0120.0000.012
dot-addAspectNameToJson000
dot-addAttributeData000
dot-aspectClass000
dot-convertRawList0.0000.0010.000
dot-createAttributeAspect000
dot-createCyVpPorD000
dot-filterBy0.0000.0010.001
dot-format0.0000.0000.001
dot-infer000
dot-json2RDataType000
dot-jsonL0.0000.0000.001
dot-jsonV0.0010.0000.001
dot-log0.0000.0010.000
dot-mergeAttributesAspect000
dot-mergeIdAspect000
dot-modClass0.0000.0000.001
dot-pasteC000
dot-renameDF0.0020.0010.002
dot-stop000
dot-summaryAspect0.0020.0000.002
dot-transformListLength-set0.0030.0000.003
dot-transformVLD0.0020.0040.006
getCyVisualProperty0.0110.0000.011
graphNEL3.8400.0283.879
hasIds0.0020.0000.001
idProperty0.0010.0000.001
jsonToRCX0.0030.0000.003
markAttributeColumn0.0010.0000.002
markRefColumn0.0010.0000.002
maxId0.0010.0000.001
rcxToJson0.0020.0000.002
readCX0.8660.0280.897
referredBy0.0130.0000.014
refersTo0.0010.0000.001
setExtension000
summary0.0180.0000.018
toCX0.020.000.02
updateCartesianLayout0.0560.0000.057
updateCyGroups0.0390.0000.040
updateCyHiddenAttributes0.0620.0080.071
updateCyNetworkRelations0.0580.0080.066
updateCySubNetworks0.0360.0040.041
updateCyTableColumn0.0680.0000.068
updateCyVisualProperties0.3350.0120.347
updateCyVisualProperty0.0820.0000.082
updateEdgeAttributes0.0660.0000.067
updateEdges0.0290.0000.029
updateMetaDataProperties0.0310.0000.031
updateNetworkAttributes0.0590.0000.059
updateNodeAttributes0.0750.0040.079
updateNodes0.0180.0040.022
validate0.3900.0080.399
visualize0.0110.0000.011
writeCX000
writeHTML0.0670.0150.090