Back to Multiple platform build/check report for BioC 3.22:   simplified   long
ABCDEFGHIJKLMNO[P]QRSTUVWXYZ

This page was generated on 2025-10-04 12:05 -0400 (Sat, 04 Oct 2025).

HostnameOSArch (*)R versionInstalled pkgs
nebbiolo2Linux (Ubuntu 24.04.3 LTS)x86_644.5.1 Patched (2025-08-23 r88802) -- "Great Square Root" 4853
lconwaymacOS 12.7.1 Montereyx86_644.5.1 Patched (2025-09-10 r88807) -- "Great Square Root" 4640
kjohnson3macOS 13.7.7 Venturaarm644.5.1 Patched (2025-09-10 r88807) -- "Great Square Root" 4585
taishanLinux (openEuler 24.03 LTS)aarch644.5.0 (2025-04-11) -- "How About a Twenty-Six" 4576
Click on any hostname to see more info about the system (e.g. compilers)      (*) as reported by 'uname -p', except on Windows and Mac OS X

Package 1580/2341HostnameOS / ArchINSTALLBUILDCHECKBUILD BIN
PhyloProfile 2.1.10  (landing page)
Vinh Tran
Snapshot Date: 2025-10-03 13:45 -0400 (Fri, 03 Oct 2025)
git_url: https://git.bioconductor.org/packages/PhyloProfile
git_branch: devel
git_last_commit: 50ee663
git_last_commit_date: 2025-09-30 07:38:24 -0400 (Tue, 30 Sep 2025)
nebbiolo2Linux (Ubuntu 24.04.3 LTS) / x86_64  OK    OK    OK  UNNEEDED, same version is already published
lconwaymacOS 12.7.1 Monterey / x86_64  OK    OK    OK    OK  UNNEEDED, same version is already published
kjohnson3macOS 13.7.7 Ventura / arm64  OK    OK    OK    OK  UNNEEDED, same version is already published
taishanLinux (openEuler 24.03 LTS) / aarch64  OK    OK    OK  


CHECK results for PhyloProfile on lconway

To the developers/maintainers of the PhyloProfile package:
- Allow up to 24 hours (and sometimes 48 hours) for your latest push to git@git.bioconductor.org:packages/PhyloProfile.git to reflect on this report. See Troubleshooting Build Report for more information.
- Use the following Renviron settings to reproduce errors and warnings.
- If 'R CMD check' started to fail recently on the Linux builder(s) over a missing dependency, add the missing dependency to 'Suggests:' in your DESCRIPTION file. See Renviron.bioc for more information.

raw results


Summary

Package: PhyloProfile
Version: 2.1.10
Command: /Library/Frameworks/R.framework/Resources/bin/R CMD check --install=check:PhyloProfile.install-out.txt --library=/Library/Frameworks/R.framework/Resources/library --no-vignettes --timings PhyloProfile_2.1.10.tar.gz
StartedAt: 2025-10-03 23:43:25 -0400 (Fri, 03 Oct 2025)
EndedAt: 2025-10-03 23:46:57 -0400 (Fri, 03 Oct 2025)
EllapsedTime: 211.8 seconds
RetCode: 0
Status:   OK  
CheckDir: PhyloProfile.Rcheck
Warnings: 0

Command output

##############################################################################
##############################################################################
###
### Running command:
###
###   /Library/Frameworks/R.framework/Resources/bin/R CMD check --install=check:PhyloProfile.install-out.txt --library=/Library/Frameworks/R.framework/Resources/library --no-vignettes --timings PhyloProfile_2.1.10.tar.gz
###
##############################################################################
##############################################################################


* using log directory ‘/Users/biocbuild/bbs-3.22-bioc/meat/PhyloProfile.Rcheck’
* using R version 4.5.1 Patched (2025-09-10 r88807)
* using platform: x86_64-apple-darwin20
* R was compiled by
    Apple clang version 14.0.0 (clang-1400.0.29.202)
    GNU Fortran (GCC) 14.2.0
* running under: macOS Monterey 12.7.6
* using session charset: UTF-8
* using option ‘--no-vignettes’
* checking for file ‘PhyloProfile/DESCRIPTION’ ... OK
* this is package ‘PhyloProfile’ version ‘2.1.10’
* package encoding: UTF-8
* checking package namespace information ... OK
* checking package dependencies ... INFO
Imports includes 31 non-default packages.
Importing from so many packages makes the package vulnerable to any of
them becoming unavailable.  Move as many as possible to Suggests and
use conditionally.
* checking if this is a source package ... OK
* checking if there is a namespace ... OK
* checking for hidden files and directories ... OK
* checking for portable file names ... OK
* checking for sufficient/correct file permissions ... OK
* checking whether package ‘PhyloProfile’ can be installed ... OK
* checking installed package size ... OK
* checking package directory ... OK
* checking ‘build’ directory ... OK
* checking DESCRIPTION meta-information ... OK
* checking top-level files ... OK
* checking for left-over files ... OK
* checking index information ... OK
* checking package subdirectories ... OK
* checking code files for non-ASCII characters ... OK
* checking R files for syntax errors ... OK
* checking whether the package can be loaded ... OK
* checking whether the package can be loaded with stated dependencies ... OK
* checking whether the package can be unloaded cleanly ... OK
* checking whether the namespace can be loaded with stated dependencies ... OK
* checking whether the namespace can be unloaded cleanly ... OK
* checking dependencies in R code ... OK
* checking S3 generic/method consistency ... OK
* checking replacement functions ... OK
* checking foreign function calls ... OK
* checking R code for possible problems ... OK
* checking Rd files ... OK
* checking Rd metadata ... OK
* checking Rd cross-references ... OK
* checking for missing documentation entries ... OK
* checking for code/documentation mismatches ... OK
* checking Rd \usage sections ... OK
* checking Rd contents ... OK
* checking for unstated dependencies in examples ... OK
* checking contents of ‘data’ directory ... OK
* checking data for non-ASCII characters ... OK
* checking data for ASCII and uncompressed saves ... OK
* checking files in ‘vignettes’ ... OK
* checking examples ... OK
Examples with CPU (user + system) or elapsed time > 5s
                     user system elapsed
heatmapPlottingFast 4.914  0.228    4.93
* checking for unstated dependencies in ‘tests’ ... OK
* checking tests ...
  Running ‘testthat.R’
 OK
* checking for unstated dependencies in vignettes ... OK
* checking package vignettes ... OK
* checking running R code from vignettes ... SKIPPED
* checking re-building of vignette outputs ... SKIPPED
* checking PDF version of manual ... OK
* DONE

Status: OK


Installation output

PhyloProfile.Rcheck/00install.out

##############################################################################
##############################################################################
###
### Running command:
###
###   /Library/Frameworks/R.framework/Resources/bin/R CMD INSTALL PhyloProfile
###
##############################################################################
##############################################################################


* installing to library ‘/Library/Frameworks/R.framework/Versions/4.5-x86_64/Resources/library’
* installing *source* package ‘PhyloProfile’ ...
** this is package ‘PhyloProfile’ version ‘2.1.10’
** using staged installation
** R
** data
** inst
** byte-compile and prepare package for lazy loading
** help
*** installing help indices
** building package indices
** installing vignettes
** testing if installed package can be loaded from temporary location
** testing if installed package can be loaded from final location
** testing if installed package keeps a record of temporary installation path
* DONE (PhyloProfile)

Tests output

PhyloProfile.Rcheck/tests/testthat.Rout


R version 4.5.1 Patched (2025-09-10 r88807) -- "Great Square Root"
Copyright (C) 2025 The R Foundation for Statistical Computing
Platform: x86_64-apple-darwin20

R is free software and comes with ABSOLUTELY NO WARRANTY.
You are welcome to redistribute it under certain conditions.
Type 'license()' or 'licence()' for distribution details.

R is a collaborative project with many contributors.
Type 'contributors()' for more information and
'citation()' on how to cite R or R packages in publications.

Type 'demo()' for some demos, 'help()' for on-line help, or
'help.start()' for an HTML browser interface to help.
Type 'q()' to quit R.

> library(testthat)
> library(PhyloProfile)
> 
> test_check("PhyloProfile")
[ FAIL 0 | WARN 0 | SKIP 0 | PASS 22 ]
> 
> proc.time()
   user  system elapsed 
  8.546   0.640   9.247 

Example timings

PhyloProfile.Rcheck/PhyloProfile-Ex.timings

nameusersystemelapsed
addDimRedTaxaColors0.8590.0460.916
addFeatureColors0.0330.0050.040
addRankDivisionPlot1.2060.0261.238
calcPresSpec0.0420.0040.046
checkColorPalette0.0010.0000.002
checkInputValidity0.0040.0020.008
checkNewick0.0020.0010.004
checkOmaID000
checkOverlapDomains0.0170.0020.019
clusterDataDend0.0220.0030.025
compareMedianTaxonGroups0.0270.0060.032
compareTaxonGroups0.6070.0080.617
createArchiPlot2.5980.0402.678
createDimRedPlotData0.7300.0250.759
createGeneAgePlot0.3620.0030.368
createLongMatrix0.0150.0070.022
createPercentageDistributionData0.0930.0170.110
createProfileFromOma0.0000.0000.001
createUnrootedTree0.0160.0010.017
createVarDistPlot0.3230.0030.328
createVariableDistributionData0.0080.0040.013
createVariableDistributionDataSubset0.0060.0010.008
dataCustomizedPlot0.0310.0020.034
dataFeatureTaxGroup0.0150.0020.017
dataMainPlot0.0410.0080.049
dataVarDistTaxGroup0.0050.0020.008
dimReduction0.6990.0110.715
estimateGeneAge0.1440.0130.159
fastaParser0.0380.0020.041
featureDistTaxPlot0.3880.0050.396
filterProfileData0.1350.0270.163
fromInputToProfile0.1770.0110.189
geneAgePlotDf0.0090.0010.009
generateSinglePlot0.6210.0070.631
getAllDomainsOma0.0000.0010.000
getAllFastaOma000
getCommonAncestor0.0300.0040.034
getCoreGene0.1160.0140.134
getDataClustering0.0160.0020.018
getDataForOneOma000
getDendrogram0.0480.0020.051
getDistanceMatrix0.0190.0010.020
getDomainFolder0.0010.0000.001
getFastaFromFasInput0.0150.0020.016
getFastaFromFile0.0130.0020.015
getFastaFromFolder0.0080.0010.009
getIDsRank0.0190.0030.022
getInputTaxaID0.0020.0010.003
getInputTaxaName0.0100.0020.013
getNameList0.0190.0180.037
getOmaDataForOneOrtholog000
getOmaDomainFromURL000
getOmaMembers000
getQualColForVector0.0000.0010.000
getSelectedFastaOma0.0000.0000.001
getSelectedTaxonNames0.0160.0040.020
getTaxHierarchy0.0160.0020.018
getTaxonomyInfo0.0130.0010.015
getTaxonomyMatrix0.0990.0910.191
getTaxonomyRanks0.0000.0010.000
gridArrangeSharedLegend0.0000.0010.000
groupLabelDimRedData0.0620.0070.070
heatmapPlotting0.5180.0040.526
heatmapPlottingFast4.9140.2284.930
highlightProfilePlot0.5880.0360.633
id2name0.0050.0020.006
joinPlotMergeLegends1.0360.0111.056
linearizeArchitecture0.0080.0010.008
mainTaxonomyRank0.0000.0000.001
modifyFeatureName0.0160.0130.029
pairDomainPlotting0.7170.0070.731
parseDomainInput0.0180.0150.033
parseInfoProfile0.1270.0100.138
plotDimRed1.3230.0191.354
plotDimRed3D1.0750.0531.135
prepareDimRedData0.0610.0070.069
processNcbiTaxonomy000
processOrthoID0.1460.0880.316
qualitativeColours0.0010.0000.000
rankIndexing0.0490.0020.051
reduceProfile0.0680.0040.072
resolveOverlapFeatures0.0190.0010.020
runPhyloProfile000
singleDomainPlotting0.2990.0030.304
sortDomains0.0100.0010.011
sortDomainsByList0.0090.0010.009
sortInputTaxa0.0310.0070.037
sortTaxaFromTree0.0110.0010.012
taxonomyTableCreator0.1030.0040.108
varDistTaxPlot1.3840.0101.402
wideToLong0.0130.0080.020
xmlParser0.0180.0030.021