Back to Multiple platform build/check report for BioC 3.22:   simplified   long
ABCDEFGHIJKLMNO[P]QRSTUVWXYZ

This page was generated on 2025-10-04 12:04 -0400 (Sat, 04 Oct 2025).

HostnameOSArch (*)R versionInstalled pkgs
nebbiolo2Linux (Ubuntu 24.04.3 LTS)x86_644.5.1 Patched (2025-08-23 r88802) -- "Great Square Root" 4853
lconwaymacOS 12.7.1 Montereyx86_644.5.1 Patched (2025-09-10 r88807) -- "Great Square Root" 4640
kjohnson3macOS 13.7.7 Venturaarm644.5.1 Patched (2025-09-10 r88807) -- "Great Square Root" 4585
taishanLinux (openEuler 24.03 LTS)aarch644.5.0 (2025-04-11) -- "How About a Twenty-Six" 4576
Click on any hostname to see more info about the system (e.g. compilers)      (*) as reported by 'uname -p', except on Windows and Mac OS X

Package 1637/2341HostnameOS / ArchINSTALLBUILDCHECKBUILD BIN
PRONE 1.3.2  (landing page)
Lis Arend
Snapshot Date: 2025-10-03 13:45 -0400 (Fri, 03 Oct 2025)
git_url: https://git.bioconductor.org/packages/PRONE
git_branch: devel
git_last_commit: a875b50
git_last_commit_date: 2025-09-25 06:07:44 -0400 (Thu, 25 Sep 2025)
nebbiolo2Linux (Ubuntu 24.04.3 LTS) / x86_64  OK    OK    OK  UNNEEDED, same version is already published
lconwaymacOS 12.7.1 Monterey / x86_64  OK    OK    OK    OK  UNNEEDED, same version is already published
kjohnson3macOS 13.7.7 Ventura / arm64  OK    OK    OK    OK  UNNEEDED, same version is already published
taishanLinux (openEuler 24.03 LTS) / aarch64  OK    OK    OK  


CHECK results for PRONE on nebbiolo2

To the developers/maintainers of the PRONE package:
- Allow up to 24 hours (and sometimes 48 hours) for your latest push to git@git.bioconductor.org:packages/PRONE.git to reflect on this report. See Troubleshooting Build Report for more information.
- Use the following Renviron settings to reproduce errors and warnings.
- If 'R CMD check' started to fail recently on the Linux builder(s) over a missing dependency, add the missing dependency to 'Suggests:' in your DESCRIPTION file. See Renviron.bioc for more information.

raw results


Summary

Package: PRONE
Version: 1.3.2
Command: /home/biocbuild/bbs-3.22-bioc/R/bin/R CMD check --install=check:PRONE.install-out.txt --library=/home/biocbuild/bbs-3.22-bioc/R/site-library --timings PRONE_1.3.2.tar.gz
StartedAt: 2025-10-04 03:03:20 -0400 (Sat, 04 Oct 2025)
EndedAt: 2025-10-04 03:11:26 -0400 (Sat, 04 Oct 2025)
EllapsedTime: 486.4 seconds
RetCode: 0
Status:   OK  
CheckDir: PRONE.Rcheck
Warnings: 0

Command output

##############################################################################
##############################################################################
###
### Running command:
###
###   /home/biocbuild/bbs-3.22-bioc/R/bin/R CMD check --install=check:PRONE.install-out.txt --library=/home/biocbuild/bbs-3.22-bioc/R/site-library --timings PRONE_1.3.2.tar.gz
###
##############################################################################
##############################################################################


* using log directory ‘/home/biocbuild/bbs-3.22-bioc/meat/PRONE.Rcheck’
* using R version 4.5.1 Patched (2025-08-23 r88802)
* using platform: x86_64-pc-linux-gnu
* R was compiled by
    gcc (Ubuntu 13.3.0-6ubuntu2~24.04) 13.3.0
    GNU Fortran (Ubuntu 13.3.0-6ubuntu2~24.04) 13.3.0
* running under: Ubuntu 24.04.3 LTS
* using session charset: UTF-8
* checking for file ‘PRONE/DESCRIPTION’ ... OK
* checking extension type ... Package
* this is package ‘PRONE’ version ‘1.3.2’
* package encoding: UTF-8
* checking package namespace information ... OK
* checking package dependencies ... INFO
Imports includes 34 non-default packages.
Importing from so many packages makes the package vulnerable to any of
them becoming unavailable.  Move as many as possible to Suggests and
use conditionally.
* checking if this is a source package ... OK
* checking if there is a namespace ... OK
* checking for hidden files and directories ... OK
* checking for portable file names ... OK
* checking for sufficient/correct file permissions ... OK
* checking whether package ‘PRONE’ can be installed ... OK
* checking installed package size ... OK
* checking package directory ... OK
* checking ‘build’ directory ... OK
* checking DESCRIPTION meta-information ... OK
* checking top-level files ... OK
* checking for left-over files ... OK
* checking index information ... OK
* checking package subdirectories ... OK
* checking code files for non-ASCII characters ... OK
* checking R files for syntax errors ... OK
* checking whether the package can be loaded ... OK
* checking whether the package can be loaded with stated dependencies ... OK
* checking whether the package can be unloaded cleanly ... OK
* checking whether the namespace can be loaded with stated dependencies ... OK
* checking whether the namespace can be unloaded cleanly ... OK
* checking loading without being on the library search path ... OK
* checking dependencies in R code ... NOTE
Unexported objects imported by ':::' calls:
  ‘NormalyzerDE:::calculateAvgMadMem’
  ‘NormalyzerDE:::calculateAvgReplicateVariation’
  ‘NormalyzerDE:::calculatePercentageAvgDiffInMat’
  ‘NormalyzerDE:::calculateReplicateCV’
  ‘NormalyzerDE:::calculateSummarizedCorrelationVector’
  See the note in ?`:::` about the use of this operator.
* checking S3 generic/method consistency ... OK
* checking replacement functions ... OK
* checking foreign function calls ... OK
* checking R code for possible problems ... NOTE
plot_upset_DE: no visible global function definition for
  ‘packageVersion’
Undefined global functions or variables:
  packageVersion
Consider adding
  importFrom("utils", "packageVersion")
to your NAMESPACE file.
* checking Rd files ... OK
* checking Rd metadata ... OK
* checking Rd cross-references ... OK
* checking for missing documentation entries ... OK
* checking for code/documentation mismatches ... OK
* checking Rd \usage sections ... OK
* checking Rd contents ... OK
* checking for unstated dependencies in examples ... OK
* checking contents of ‘data’ directory ... OK
* checking data for non-ASCII characters ... OK
* checking data for ASCII and uncompressed saves ... OK
* checking files in ‘vignettes’ ... OK
* checking examples ... OK
Examples with CPU (user + system) or elapsed time > 5s
               user system elapsed
plot_boxplots 5.022  0.014   4.678
* checking for unstated dependencies in vignettes ... OK
* checking package vignettes ... OK
* checking re-building of vignette outputs ... OK
* checking PDF version of manual ... OK
* DONE

Status: 2 NOTEs
See
  ‘/home/biocbuild/bbs-3.22-bioc/meat/PRONE.Rcheck/00check.log’
for details.


Installation output

PRONE.Rcheck/00install.out

##############################################################################
##############################################################################
###
### Running command:
###
###   /home/biocbuild/bbs-3.22-bioc/R/bin/R CMD INSTALL PRONE
###
##############################################################################
##############################################################################


* installing to library ‘/home/biocbuild/bbs-3.22-bioc/R/site-library’
* installing *source* package ‘PRONE’ ...
** this is package ‘PRONE’ version ‘1.3.2’
** using staged installation
** R
** data
** inst
** byte-compile and prepare package for lazy loading
** help
*** installing help indices
*** copying figures
** building package indices
** installing vignettes
** testing if installed package can be loaded from temporary location
** testing if installed package can be loaded from final location
** testing if installed package keeps a record of temporary installation path
* DONE (PRONE)

Tests output


Example timings

PRONE.Rcheck/PRONE-Ex.timings

nameusersystemelapsed
apply_thresholds0.0300.0030.033
detect_outliers_POMA1.8470.0821.929
eigenMSNorm0.6150.0690.684
export_data0.0270.0010.028
extract_consensus_DE_candidates0.0830.0010.084
filter_out_NA_proteins_by_threshold0.2350.0010.202
filter_out_complete_NA_proteins0.0520.0010.053
filter_out_proteins_by_ID0.1560.0010.157
filter_out_proteins_by_value0.1570.0000.157
get_NA_overview0.0340.0030.038
get_normalization_methods0.0010.0000.000
get_overview_DE0.0430.0000.042
get_proteins_by_value0.1740.0160.189
get_spiked_stats_DE0.0880.0010.088
globalIntNorm0.1280.0000.128
globalMeanNorm0.1270.0010.128
globalMedianNorm0.1310.0030.134
impute_se0.9450.0180.709
irsNorm0.0590.0000.058
limmaNorm0.0690.0000.069
load_data0.0490.0010.051
load_spike_data0.0410.0000.042
loessCycNorm0.1240.0060.131
loessFNorm0.0870.0000.087
meanNorm0.0430.0010.044
medianAbsDevNorm0.0970.0030.100
medianNorm0.0630.0000.062
normalize_se3.5000.0943.593
normalize_se_combination4.3740.1834.556
normalize_se_single3.2590.0623.321
normicsNorm3.1360.0203.157
plot_NA_density0.4520.0030.413
plot_NA_frequency0.2690.0020.229
plot_NA_heatmap1.3350.0261.361
plot_PCA1.3620.0011.363
plot_ROC_AUC_spiked1.2950.0071.232
plot_TP_FP_spiked_bar0.3440.0130.357
plot_TP_FP_spiked_box0.4170.0160.432
plot_TP_FP_spiked_scatter0.4320.0040.436
plot_boxplots5.0220.0144.678
plot_condition_overview0.2530.0000.254
plot_densities3.0030.0012.667
plot_fold_changes_spiked0.6380.0010.563
plot_heatmap3.6520.0043.657
plot_heatmap_DE1.2520.0051.257
plot_histogram_spiked0.4770.0010.394
plot_identified_spiked_proteins0.4580.0050.463
plot_intersection_enrichment0.9040.0102.639
plot_intragroup_PCV0.7580.0050.764
plot_intragroup_PEV0.4400.0020.442
plot_intragroup_PMAD0.4540.0170.471
plot_intragroup_correlation0.4460.0330.479
plot_jaccard_heatmap0.3190.0240.322
plot_logFC_thresholds_spiked0.7450.0680.812
plot_markers_boxplots0.8600.0270.850
plot_nr_prot_samples0.2970.0210.318
plot_overview_DE_bar0.4280.0330.461
plot_overview_DE_tile0.2470.0070.255
plot_profiles_spiked0.9450.0890.911
plot_pvalues_spiked0.5090.0220.530
plot_stats_spiked_heatmap0.4000.0280.429
plot_tot_int_samples0.3560.0130.368
plot_upset0.8340.0100.843
plot_upset_DE0.0290.0030.032
plot_volcano_DE4.3000.1634.462
quantileNorm0.0400.0060.046
readPRONE_example0.0010.0000.001
remove_POMA_outliers0.6400.0050.646
remove_assays_from_SE0.0480.0010.050
remove_reference_samples0.0480.0020.050
remove_samples_manually0.0480.0000.048
rlrMACycNorm0.5810.0140.595
rlrMANorm0.1040.0030.107
rlrNorm0.1920.0120.205
robnormNorm0.0860.0000.087
run_DE2.4240.0192.356
specify_comparisons0.0460.0010.031
subset_SE_by_norm0.0810.0000.081
tmmNorm0.1340.0010.135
vsnNorm0.0720.0000.072