Back to Multiple platform build/check report for BioC 3.22:   simplified   long
ABCDEFGHIJKL[M]NOPQRSTUVWXYZ

This page was generated on 2025-10-04 12:07 -0400 (Sat, 04 Oct 2025).

HostnameOSArch (*)R versionInstalled pkgs
nebbiolo2Linux (Ubuntu 24.04.3 LTS)x86_644.5.1 Patched (2025-08-23 r88802) -- "Great Square Root" 4853
lconwaymacOS 12.7.1 Montereyx86_644.5.1 Patched (2025-09-10 r88807) -- "Great Square Root" 4640
kjohnson3macOS 13.7.7 Venturaarm644.5.1 Patched (2025-09-10 r88807) -- "Great Square Root" 4585
taishanLinux (openEuler 24.03 LTS)aarch644.5.0 (2025-04-11) -- "How About a Twenty-Six" 4576
Click on any hostname to see more info about the system (e.g. compilers)      (*) as reported by 'uname -p', except on Windows and Mac OS X

Package 1363/2341HostnameOS / ArchINSTALLBUILDCHECKBUILD BIN
MSA2dist 1.13.0  (landing page)
Kristian K Ullrich
Snapshot Date: 2025-10-03 13:45 -0400 (Fri, 03 Oct 2025)
git_url: https://git.bioconductor.org/packages/MSA2dist
git_branch: devel
git_last_commit: 2328f45
git_last_commit_date: 2025-04-15 12:44:47 -0400 (Tue, 15 Apr 2025)
nebbiolo2Linux (Ubuntu 24.04.3 LTS) / x86_64  OK    OK    OK  UNNEEDED, same version is already published
lconwaymacOS 12.7.1 Monterey / x86_64  OK    OK    OK    OK  UNNEEDED, same version is already published
kjohnson3macOS 13.7.7 Ventura / arm64  OK    OK    OK    OK  UNNEEDED, same version is already published
taishanLinux (openEuler 24.03 LTS) / aarch64  OK    OK    OK  


CHECK results for MSA2dist on taishan

To the developers/maintainers of the MSA2dist package:
- Allow up to 24 hours (and sometimes 48 hours) for your latest push to git@git.bioconductor.org:packages/MSA2dist.git to reflect on this report. See Troubleshooting Build Report for more information.
- Use the following Renviron settings to reproduce errors and warnings.
- If 'R CMD check' started to fail recently on the Linux builder(s) over a missing dependency, add the missing dependency to 'Suggests:' in your DESCRIPTION file. See Renviron.bioc for more information.
- See Martin Grigorov's blog post for how to debug Linux ARM64 related issues on a x86_64 host.

raw results


Summary

Package: MSA2dist
Version: 1.13.0
Command: /home/biocbuild/R/R/bin/R CMD check --install=check:MSA2dist.install-out.txt --library=/home/biocbuild/R/R/site-library --no-vignettes --timings MSA2dist_1.13.0.tar.gz
StartedAt: 2025-10-03 09:19:04 -0000 (Fri, 03 Oct 2025)
EndedAt: 2025-10-03 09:24:16 -0000 (Fri, 03 Oct 2025)
EllapsedTime: 312.5 seconds
RetCode: 0
Status:   OK  
CheckDir: MSA2dist.Rcheck
Warnings: 0

Command output

##############################################################################
##############################################################################
###
### Running command:
###
###   /home/biocbuild/R/R/bin/R CMD check --install=check:MSA2dist.install-out.txt --library=/home/biocbuild/R/R/site-library --no-vignettes --timings MSA2dist_1.13.0.tar.gz
###
##############################################################################
##############################################################################


* using log directory ‘/home/biocbuild/bbs-3.22-bioc/meat/MSA2dist.Rcheck’
* using R version 4.5.0 (2025-04-11)
* using platform: aarch64-unknown-linux-gnu
* R was compiled by
    aarch64-unknown-linux-gnu-gcc (GCC) 14.2.0
    GNU Fortran (GCC) 14.2.0
* running under: openEuler 24.03 (LTS)
* using session charset: UTF-8
* using option ‘--no-vignettes’
* checking for file ‘MSA2dist/DESCRIPTION’ ... OK
* checking extension type ... Package
* this is package ‘MSA2dist’ version ‘1.13.0’
* package encoding: UTF-8
* checking package namespace information ... OK
* checking package dependencies ... OK
* checking if this is a source package ... OK
* checking if there is a namespace ... OK
* checking for hidden files and directories ... OK
* checking for portable file names ... OK
* checking for sufficient/correct file permissions ... OK
* checking whether package ‘MSA2dist’ can be installed ... OK
* used C++ compiler: ‘aarch64-unknown-linux-gnu-g++ (GCC) 14.2.0’
* checking C++ specification ... NOTE
  Specified C++11: please drop specification unless essential
* checking installed package size ... INFO
  installed size is  9.3Mb
  sub-directories of 1Mb or more:
    libs   8.7Mb
* checking package directory ... OK
* checking ‘build’ directory ... OK
* checking DESCRIPTION meta-information ... OK
* checking top-level files ... OK
* checking for left-over files ... OK
* checking index information ... OK
* checking package subdirectories ... OK
* checking code files for non-ASCII characters ... OK
* checking R files for syntax errors ... OK
* checking whether the package can be loaded ... OK
* checking whether the package can be loaded with stated dependencies ... OK
* checking whether the package can be unloaded cleanly ... OK
* checking whether the namespace can be loaded with stated dependencies ... OK
* checking whether the namespace can be unloaded cleanly ... OK
* checking loading without being on the library search path ... OK
* checking dependencies in R code ... OK
* checking S3 generic/method consistency ... OK
* checking replacement functions ... OK
* checking foreign function calls ... OK
* checking R code for possible problems ... OK
* checking Rd files ... OK
* checking Rd metadata ... OK
* checking Rd cross-references ... OK
* checking for missing documentation entries ... OK
* checking for code/documentation mismatches ... OK
* checking Rd \usage sections ... OK
* checking Rd contents ... OK
* checking for unstated dependencies in examples ... OK
* checking contents of ‘data’ directory ... OK
* checking data for non-ASCII characters ... OK
* checking data for ASCII and uncompressed saves ... OK
* checking line endings in C/C++/Fortran sources/headers ... OK
* checking compiled code ... NOTE
Note: information on .o files is not available
* checking files in ‘vignettes’ ... OK
* checking examples ... OK
Examples with CPU (user + system) or elapsed time > 5s
             user system elapsed
codonmat2xy 7.136  0.971  17.404
* checking for unstated dependencies in ‘tests’ ... OK
* checking tests ...
  Running ‘testthat.R’
 OK
* checking for unstated dependencies in vignettes ... OK
* checking package vignettes ... OK
* checking running R code from vignettes ... SKIPPED
* checking re-building of vignette outputs ... SKIPPED
* checking PDF version of manual ... OK
* DONE

Status: 2 NOTEs
See
  ‘/home/biocbuild/bbs-3.22-bioc/meat/MSA2dist.Rcheck/00check.log’
for details.


Installation output

MSA2dist.Rcheck/00install.out

##############################################################################
##############################################################################
###
### Running command:
###
###   /home/biocbuild/R/R/bin/R CMD INSTALL MSA2dist
###
##############################################################################
##############################################################################


* installing to library ‘/home/biocbuild/R/R-4.5.0/site-library’
* installing *source* package ‘MSA2dist’ ...
** this is package ‘MSA2dist’ version ‘1.13.0’
** using staged installation
** libs
using C++ compiler: ‘aarch64-unknown-linux-gnu-g++ (GCC) 14.2.0’
using C++11
/opt/ohpc/pub/compiler/gcc/14.2.0/bin/aarch64-unknown-linux-gnu-g++ -std=gnu++11 -I"/home/biocbuild/R/R-4.5.0/include" -DNDEBUG  -I'/home/biocbuild/R/R-4.5.0/site-library/Rcpp/include' -I'/home/biocbuild/R/R-4.5.0/site-library/RcppThread/include' -I/usr/local/include    -fPIC  -g -O2  -Wall -Werror=format-security  -c GY94.cpp -o GY94.o
/opt/ohpc/pub/compiler/gcc/14.2.0/bin/aarch64-unknown-linux-gnu-g++ -std=gnu++11 -I"/home/biocbuild/R/R-4.5.0/include" -DNDEBUG  -I'/home/biocbuild/R/R-4.5.0/site-library/Rcpp/include' -I'/home/biocbuild/R/R-4.5.0/site-library/RcppThread/include' -I/usr/local/include    -fPIC  -g -O2  -Wall -Werror=format-security  -c KaKs.cpp -o KaKs.o
/opt/ohpc/pub/compiler/gcc/14.2.0/bin/aarch64-unknown-linux-gnu-g++ -std=gnu++11 -I"/home/biocbuild/R/R-4.5.0/include" -DNDEBUG  -I'/home/biocbuild/R/R-4.5.0/site-library/Rcpp/include' -I'/home/biocbuild/R/R-4.5.0/site-library/RcppThread/include' -I/usr/local/include    -fPIC  -g -O2  -Wall -Werror=format-security  -c LPB93.cpp -o LPB93.o
/opt/ohpc/pub/compiler/gcc/14.2.0/bin/aarch64-unknown-linux-gnu-g++ -std=gnu++11 -I"/home/biocbuild/R/R-4.5.0/include" -DNDEBUG  -I'/home/biocbuild/R/R-4.5.0/site-library/Rcpp/include' -I'/home/biocbuild/R/R-4.5.0/site-library/RcppThread/include' -I/usr/local/include    -fPIC  -g -O2  -Wall -Werror=format-security  -c LWL85.cpp -o LWL85.o
/opt/ohpc/pub/compiler/gcc/14.2.0/bin/aarch64-unknown-linux-gnu-g++ -std=gnu++11 -I"/home/biocbuild/R/R-4.5.0/include" -DNDEBUG  -I'/home/biocbuild/R/R-4.5.0/site-library/Rcpp/include' -I'/home/biocbuild/R/R-4.5.0/site-library/RcppThread/include' -I/usr/local/include    -fPIC  -g -O2  -Wall -Werror=format-security  -c MSMA.cpp -o MSMA.o
/opt/ohpc/pub/compiler/gcc/14.2.0/bin/aarch64-unknown-linux-gnu-g++ -std=gnu++11 -I"/home/biocbuild/R/R-4.5.0/include" -DNDEBUG  -I'/home/biocbuild/R/R-4.5.0/site-library/Rcpp/include' -I'/home/biocbuild/R/R-4.5.0/site-library/RcppThread/include' -I/usr/local/include    -fPIC  -g -O2  -Wall -Werror=format-security  -c MYN.cpp -o MYN.o
/opt/ohpc/pub/compiler/gcc/14.2.0/bin/aarch64-unknown-linux-gnu-g++ -std=gnu++11 -I"/home/biocbuild/R/R-4.5.0/include" -DNDEBUG  -I'/home/biocbuild/R/R-4.5.0/site-library/Rcpp/include' -I'/home/biocbuild/R/R-4.5.0/site-library/RcppThread/include' -I/usr/local/include    -fPIC  -g -O2  -Wall -Werror=format-security  -c NG86.cpp -o NG86.o
/opt/ohpc/pub/compiler/gcc/14.2.0/bin/aarch64-unknown-linux-gnu-g++ -std=gnu++11 -I"/home/biocbuild/R/R-4.5.0/include" -DNDEBUG  -I'/home/biocbuild/R/R-4.5.0/site-library/Rcpp/include' -I'/home/biocbuild/R/R-4.5.0/site-library/RcppThread/include' -I/usr/local/include    -fPIC  -g -O2  -Wall -Werror=format-security  -c RcppExports.cpp -o RcppExports.o
/opt/ohpc/pub/compiler/gcc/14.2.0/bin/aarch64-unknown-linux-gnu-g++ -std=gnu++11 -I"/home/biocbuild/R/R-4.5.0/include" -DNDEBUG  -I'/home/biocbuild/R/R-4.5.0/site-library/Rcpp/include' -I'/home/biocbuild/R/R-4.5.0/site-library/RcppThread/include' -I/usr/local/include    -fPIC  -g -O2  -Wall -Werror=format-security  -c YN00.cpp -o YN00.o
/opt/ohpc/pub/compiler/gcc/14.2.0/bin/aarch64-unknown-linux-gnu-g++ -std=gnu++11 -I"/home/biocbuild/R/R-4.5.0/include" -DNDEBUG  -I'/home/biocbuild/R/R-4.5.0/site-library/Rcpp/include' -I'/home/biocbuild/R/R-4.5.0/site-library/RcppThread/include' -I/usr/local/include    -fPIC  -g -O2  -Wall -Werror=format-security  -c base.cpp -o base.o
/opt/ohpc/pub/compiler/gcc/14.2.0/bin/aarch64-unknown-linux-gnu-g++ -std=gnu++11 -I"/home/biocbuild/R/R-4.5.0/include" -DNDEBUG  -I'/home/biocbuild/R/R-4.5.0/site-library/Rcpp/include' -I'/home/biocbuild/R/R-4.5.0/site-library/RcppThread/include' -I/usr/local/include    -fPIC  -g -O2  -Wall -Werror=format-security  -c rcpp_KaKs.cpp -o rcpp_KaKs.o
/opt/ohpc/pub/compiler/gcc/14.2.0/bin/aarch64-unknown-linux-gnu-g++ -std=gnu++11 -I"/home/biocbuild/R/R-4.5.0/include" -DNDEBUG  -I'/home/biocbuild/R/R-4.5.0/site-library/Rcpp/include' -I'/home/biocbuild/R/R-4.5.0/site-library/RcppThread/include' -I/usr/local/include    -fPIC  -g -O2  -Wall -Werror=format-security  -c rcpp_distSTRING.cpp -o rcpp_distSTRING.o
/opt/ohpc/pub/compiler/gcc/14.2.0/bin/aarch64-unknown-linux-gnu-g++ -std=gnu++11 -I"/home/biocbuild/R/R-4.5.0/include" -DNDEBUG  -I'/home/biocbuild/R/R-4.5.0/site-library/Rcpp/include' -I'/home/biocbuild/R/R-4.5.0/site-library/RcppThread/include' -I/usr/local/include    -fPIC  -g -O2  -Wall -Werror=format-security  -c rcpp_pairwiseDeletionAA.cpp -o rcpp_pairwiseDeletionAA.o
/opt/ohpc/pub/compiler/gcc/14.2.0/bin/aarch64-unknown-linux-gnu-g++ -std=gnu++11 -I"/home/biocbuild/R/R-4.5.0/include" -DNDEBUG  -I'/home/biocbuild/R/R-4.5.0/site-library/Rcpp/include' -I'/home/biocbuild/R/R-4.5.0/site-library/RcppThread/include' -I/usr/local/include    -fPIC  -g -O2  -Wall -Werror=format-security  -c rcpp_pairwiseDeletionDNA.cpp -o rcpp_pairwiseDeletionDNA.o
/opt/ohpc/pub/compiler/gcc/14.2.0/bin/aarch64-unknown-linux-gnu-g++ -std=gnu++11 -shared -L/home/biocbuild/R/R-4.5.0/lib -L/usr/local/lib -o MSA2dist.so GY94.o KaKs.o LPB93.o LWL85.o MSMA.o MYN.o NG86.o RcppExports.o YN00.o base.o rcpp_KaKs.o rcpp_distSTRING.o rcpp_pairwiseDeletionAA.o rcpp_pairwiseDeletionDNA.o -L/home/biocbuild/R/R-4.5.0/lib -lR
installing to /home/biocbuild/R/R-4.5.0/site-library/00LOCK-MSA2dist/00new/MSA2dist/libs
** R
** data
** byte-compile and prepare package for lazy loading
** help
*** installing help indices
*** copying figures
** building package indices
** installing vignettes
** testing if installed package can be loaded from temporary location
** checking absolute paths in shared objects and dynamic libraries
** testing if installed package can be loaded from final location
** testing if installed package keeps a record of temporary installation path
* DONE (MSA2dist)

Tests output

MSA2dist.Rcheck/tests/testthat.Rout


R version 4.5.0 (2025-04-11) -- "How About a Twenty-Six"
Copyright (C) 2025 The R Foundation for Statistical Computing
Platform: aarch64-unknown-linux-gnu

R is free software and comes with ABSOLUTELY NO WARRANTY.
You are welcome to redistribute it under certain conditions.
Type 'license()' or 'licence()' for distribution details.

R is a collaborative project with many contributors.
Type 'contributors()' for more information and
'citation()' on how to cite R or R packages in publications.

Type 'demo()' for some demos, 'help()' for on-line help, or
'help.start()' for an HTML browser interface to help.
Type 'q()' to quit R.

> library(testthat)
> library(MSA2dist)
> 
> test_check("MSA2dist")

Computing: [========================================] 100% (done)                         

Computing: [========================================] 100% (done)                         

Computing: [========================================] 100% (done)                         

Computing: [========================================] 100% (done)                         

Computing: [========================================] 100% (done)                         

Computing: [========================================] 100% (done)                         

Computing: [========================================] 100% (done)                         

Computing: [========================================] 100% (done)                         

Computing: [========================================] 100% (done)                         

Computing: [========================================] 100% (done)                         

Computing: [========================================] 100% (done)                         

Computing: [========================================] 100% (done)                         

Computing: [========================================] 100% (done)                         

Computing: [========================================] 100% (done)                         

Computing: [========================================] 100% (done)                         

Computing: [========================================] 100% (done)                         

Computing: [========================================] 100% (done)                         

Computing: [========================================] 100% (done)                         

Computing: [========================================] 100% (done)                         

Computing: [========================================] 100% (done)                         

Computing: [========================================] 100% (done)                         

Computing: [========================================] 100% (done)                         

Computing: [========================================] 100% (done)                         
[ FAIL 0 | WARN 0 | SKIP 0 | PASS 177 ]
> 
> proc.time()
   user  system elapsed 
101.594  12.584 134.481 

Example timings

MSA2dist.Rcheck/MSA2dist-Ex.timings

nameusersystemelapsed
AAMatrix-data0.0030.0000.004
GENETIC_CODE_TCAG0.0050.0000.005
aa2selfscore0.3510.0280.455
aabin2aastring0.0570.0000.059
aastring2aabin0.3210.0040.328
aastring2aln0.1950.0000.197
aastring2dist1.2340.0201.995
addmask2string0.5670.0160.590
addpop2string0.2290.0040.235
addpos2string0.0940.0020.098
addregion2string0.5300.0040.846
aln2aastring0.1920.0280.222
aln2dnastring0.0240.0040.029
cds2aa0.8150.0310.883
cds2codonaln0.5960.0070.835
cdsstring2codonaln0.3280.0080.339
codon2numberAMBIG0.0010.0000.001
codon2numberTCAG000
codonmat2pnps0.0450.0040.049
codonmat2xy 7.136 0.97117.404
compareCodons0.0650.0040.070
dnabin2dnastring0.0300.0120.042
dnastring2aln0.0180.0040.023
dnastring2codonmat0.0590.0070.066
dnastring2dist0.2210.0490.458
dnastring2dnabin0.0220.0000.046
dnastring2kaks1.8710.7013.353
getmask0.2380.0370.282
getpos0.0580.0090.068
globalDeletion0.0250.0040.029
globalDeletionAA0.2650.0120.280
granthamMatrix0.0020.0000.002
hiv-data0.0300.0040.034
indices2kaks1.8520.7482.851
iupac-data0.0450.0070.058
iupacMatrix0.0010.0010.001
makePostalignedSeqs1.2830.1661.591
pal2nal0.9650.0441.108
popinteger0.2440.0040.501
popnames0.2320.0080.371
rcpp_KaKs0.050.000.05
rcpp_distSTRING0.0280.0040.039
rcpp_pairwiseDeletionAA0.2110.0140.347
rcpp_pairwiseDeletionDNA0.0170.0010.035
region0.2430.0250.539
regionused0.2420.0020.496
string2region0.6620.0000.839
subString0.0250.0000.026
uptriidx0.0010.0000.001