Back to Multiple platform build/check report for BioC 3.22: simplified long |
|
This page was generated on 2025-10-04 12:07 -0400 (Sat, 04 Oct 2025).
Hostname | OS | Arch (*) | R version | Installed pkgs |
---|---|---|---|---|
nebbiolo2 | Linux (Ubuntu 24.04.3 LTS) | x86_64 | 4.5.1 Patched (2025-08-23 r88802) -- "Great Square Root" | 4853 |
lconway | macOS 12.7.1 Monterey | x86_64 | 4.5.1 Patched (2025-09-10 r88807) -- "Great Square Root" | 4640 |
kjohnson3 | macOS 13.7.7 Ventura | arm64 | 4.5.1 Patched (2025-09-10 r88807) -- "Great Square Root" | 4585 |
taishan | Linux (openEuler 24.03 LTS) | aarch64 | 4.5.0 (2025-04-11) -- "How About a Twenty-Six" | 4576 |
Click on any hostname to see more info about the system (e.g. compilers) (*) as reported by 'uname -p', except on Windows and Mac OS X |
Package 1215/2341 | Hostname | OS / Arch | INSTALL | BUILD | CHECK | BUILD BIN | ||||||||
MEDIPS 1.61.0 (landing page) Lukas Chavez
| nebbiolo2 | Linux (Ubuntu 24.04.3 LTS) / x86_64 | OK | OK | OK | ![]() | ||||||||
lconway | macOS 12.7.1 Monterey / x86_64 | OK | OK | OK | OK | ![]() | ||||||||
kjohnson3 | macOS 13.7.7 Ventura / arm64 | OK | OK | OK | OK | ![]() | ||||||||
taishan | Linux (openEuler 24.03 LTS) / aarch64 | OK | OK | OK | ||||||||||
To the developers/maintainers of the MEDIPS package: - Allow up to 24 hours (and sometimes 48 hours) for your latest push to git@git.bioconductor.org:packages/MEDIPS.git to reflect on this report. See Troubleshooting Build Report for more information. - Use the following Renviron settings to reproduce errors and warnings. - If 'R CMD check' started to fail recently on the Linux builder(s) over a missing dependency, add the missing dependency to 'Suggests:' in your DESCRIPTION file. See Renviron.bioc for more information. - See Martin Grigorov's blog post for how to debug Linux ARM64 related issues on a x86_64 host. |
Package: MEDIPS |
Version: 1.61.0 |
Command: /home/biocbuild/R/R/bin/R CMD check --install=check:MEDIPS.install-out.txt --library=/home/biocbuild/R/R/site-library --no-vignettes --timings MEDIPS_1.61.0.tar.gz |
StartedAt: 2025-10-03 08:44:14 -0000 (Fri, 03 Oct 2025) |
EndedAt: 2025-10-03 08:51:24 -0000 (Fri, 03 Oct 2025) |
EllapsedTime: 429.6 seconds |
RetCode: 0 |
Status: OK |
CheckDir: MEDIPS.Rcheck |
Warnings: 0 |
############################################################################## ############################################################################## ### ### Running command: ### ### /home/biocbuild/R/R/bin/R CMD check --install=check:MEDIPS.install-out.txt --library=/home/biocbuild/R/R/site-library --no-vignettes --timings MEDIPS_1.61.0.tar.gz ### ############################################################################## ############################################################################## * using log directory ‘/home/biocbuild/bbs-3.22-bioc/meat/MEDIPS.Rcheck’ * using R version 4.5.0 (2025-04-11) * using platform: aarch64-unknown-linux-gnu * R was compiled by aarch64-unknown-linux-gnu-gcc (GCC) 14.2.0 GNU Fortran (GCC) 14.2.0 * running under: openEuler 24.03 (LTS) * using session charset: UTF-8 * using option ‘--no-vignettes’ * checking for file ‘MEDIPS/DESCRIPTION’ ... OK * checking extension type ... Package * this is package ‘MEDIPS’ version ‘1.61.0’ * checking package namespace information ... OK * checking package dependencies ... OK * checking if this is a source package ... OK * checking if there is a namespace ... OK * checking for hidden files and directories ... OK * checking for portable file names ... OK * checking for sufficient/correct file permissions ... OK * checking whether package ‘MEDIPS’ can be installed ... OK * checking installed package size ... OK * checking package directory ... OK * checking ‘build’ directory ... OK * checking DESCRIPTION meta-information ... OK * checking top-level files ... OK * checking for left-over files ... OK * checking index information ... OK * checking package subdirectories ... OK * checking code files for non-ASCII characters ... OK * checking R files for syntax errors ... OK * checking whether the package can be loaded ... OK * checking whether the package can be loaded with stated dependencies ... OK * checking whether the package can be unloaded cleanly ... OK * checking whether the namespace can be loaded with stated dependencies ... OK * checking whether the namespace can be unloaded cleanly ... OK * checking loading without being on the library search path ... OK * checking dependencies in R code ... OK * checking S3 generic/method consistency ... OK * checking replacement functions ... OK * checking foreign function calls ... OK * checking R code for possible problems ... NOTE MEDIPS.CpGenrich: no visible global function definition for ‘seqlevels’ MEDIPS.CpGenrich: no visible global function definition for ‘seqlengths’ MEDIPS.CpGenrich: no visible global function definition for ‘GRangesList’ MEDIPS.CpGenrich : <anonymous>: no visible global function definition for ‘seqnames’ MEDIPS.CpGenrich: no visible global function definition for ‘new’ MEDIPS.addCNV: no visible global function definition for ‘seqnames’ MEDIPS.correlation: no visible global function definition for ‘pdf’ MEDIPS.correlation: no visible global function definition for ‘dev.off’ MEDIPS.couplingVector: no visible global function definition for ‘new’ MEDIPS.createROIset: no visible global function definition for ‘seqnames’ MEDIPS.createROIset: no visible global function definition for ‘seqlengths’ MEDIPS.createROIset: no visible global function definition for ‘new’ MEDIPS.createSet: no visible global function definition for ‘seqnames’ MEDIPS.createSet: no visible global function definition for ‘seqlengths’ MEDIPS.createSet: no visible global function definition for ‘seqlevels’ MEDIPS.createSet: no visible global function definition for ‘new’ MEDIPS.diffMeth: no visible global function definition for ‘p.adjust’ MEDIPS.exportWIG: no visible global function definition for ‘seqnames’ MEDIPS.mergeSets: no visible global function definition for ‘new’ MEDIPS.meth: no visible global function definition for ‘seqnames’ MEDIPS.plotCalibrationPlot: no visible global function definition for ‘seqnames’ MEDIPS.plotCalibrationPlot: no visible global function definition for ‘points’ MEDIPS.plotSeqCoverage: no visible global function definition for ‘pie’ MEDIPS.plotSeqCoverage: no visible global function definition for ‘hist’ MEDIPS.saturation: no visible global function definition for ‘seqlevels’ MEDIPS.saturation: no visible global function definition for ‘seqlengths’ MEDIPS.selectROIs: no visible global function definition for ‘elementMetadata<-’ MEDIPS.selectROIs: no visible global function definition for ‘elementMetadata’ MEDIPS.selectROIs: no visible global function definition for ‘findOverlaps’ MEDIPS.selectROIs: no visible global function definition for ‘values’ MEDIPS.selectROIs: no visible global function definition for ‘seqnames’ MEDIPS.seqCoverage: no visible global function definition for ‘seqlevels’ MEDIPS.seqCoverage: no visible global function definition for ‘seqlengths’ MEDIPS.setAnnotation: no visible global function definition for ‘findOverlaps’ MEDIPS.setAnnotation: no visible global function definition for ‘values’ getGRange: no visible global function definition for ‘qpois’ getGRange: no visible global function definition for ‘seqlengths’ getGRange: no visible global function definition for ‘countMatches’ getGRange: no visible global function definition for ‘strand<-’ getMObjectFromWIG: no visible global function definition for ‘seqlengths’ getMObjectFromWIG: no visible global function definition for ‘values’ getMObjectFromWIG: no visible global function definition for ‘runLength’ getMObjectFromWIG: no visible global function definition for ‘seqnames’ getMObjectFromWIG: no visible global function definition for ‘runValue’ getMObjectFromWIG: no visible global function definition for ‘new’ getPairedGRange: no visible global function definition for ‘sd’ getPairedGRange: no visible global function definition for ‘qpois’ getPairedGRange: no visible global function definition for ‘seqlengths’ getPairedGRange: no visible global function definition for ‘countMatches’ getPairedGRange: no visible global function definition for ‘strand<-’ matSd: no visible binding for global variable ‘sd’ matTtest: no visible binding for global variable ‘sd’ matTtest: no visible global function definition for ‘pt’ Undefined global functions or variables: GRangesList countMatches dev.off elementMetadata elementMetadata<- findOverlaps hist new p.adjust pdf pie points pt qpois runLength runValue sd seqlengths seqlevels seqnames strand<- values Consider adding importFrom("grDevices", "dev.off", "pdf") importFrom("graphics", "hist", "pie", "points") importFrom("methods", "new") importFrom("stats", "p.adjust", "pt", "qpois", "sd") to your NAMESPACE file (and ensure that your DESCRIPTION Imports field contains 'methods'). * checking Rd files ... OK * checking Rd metadata ... OK * checking Rd cross-references ... OK * checking for missing documentation entries ... OK * checking for code/documentation mismatches ... OK * checking Rd \usage sections ... OK * checking Rd contents ... OK * checking for unstated dependencies in examples ... OK * checking files in ‘vignettes’ ... OK * checking examples ... OK Examples with CPU (user + system) or elapsed time > 5s user system elapsed MEDIPS.meth 41.521 0.199 41.904 MEDIPS.addCNV 28.999 0.542 29.617 MEDIPS.plotSaturation 11.966 0.036 12.052 MEDIPS.saturation 10.703 0.013 10.750 * checking for unstated dependencies in vignettes ... OK * checking package vignettes ... OK * checking running R code from vignettes ... SKIPPED * checking re-building of vignette outputs ... SKIPPED * checking PDF version of manual ... OK * DONE Status: 1 NOTE See ‘/home/biocbuild/bbs-3.22-bioc/meat/MEDIPS.Rcheck/00check.log’ for details.
MEDIPS.Rcheck/00install.out
############################################################################## ############################################################################## ### ### Running command: ### ### /home/biocbuild/R/R/bin/R CMD INSTALL MEDIPS ### ############################################################################## ############################################################################## * installing to library ‘/home/biocbuild/R/R-4.5.0/site-library’ * installing *source* package ‘MEDIPS’ ... ** this is package ‘MEDIPS’ version ‘1.61.0’ ** using staged installation ** R ** inst ** byte-compile and prepare package for lazy loading No methods found in package ‘IRanges’ for request: ‘values’ when loading ‘MEDIPS’ ** help *** installing help indices ** building package indices ** installing vignettes ** testing if installed package can be loaded from temporary location No methods found in package ‘IRanges’ for request: ‘values’ when loading ‘MEDIPS’ ** testing if installed package can be loaded from final location No methods found in package ‘IRanges’ for request: ‘values’ when loading ‘MEDIPS’ ** testing if installed package keeps a record of temporary installation path * DONE (MEDIPS)
MEDIPS.Rcheck/MEDIPS-Ex.timings
name | user | system | elapsed | |
COUPLINGset-class | 0.000 | 0.002 | 0.001 | |
MEDIPS.CpGenrich | 0.079 | 0.012 | 0.095 | |
MEDIPS.addCNV | 28.999 | 0.542 | 29.617 | |
MEDIPS.correlation | 1.863 | 0.008 | 1.879 | |
MEDIPS.couplingVector | 3.230 | 0.008 | 3.254 | |
MEDIPS.createROIset | 1.166 | 0.068 | 1.241 | |
MEDIPS.createSet | 1.247 | 0.004 | 1.254 | |
MEDIPS.exportWIG | 2.215 | 0.000 | 2.220 | |
MEDIPS.getAnnotation | 0 | 0 | 0 | |
MEDIPS.mergeFrames | 0.005 | 0.000 | 0.004 | |
MEDIPS.mergeSets | 0.799 | 0.000 | 0.804 | |
MEDIPS.meth | 41.521 | 0.199 | 41.904 | |
MEDIPS.plotCalibrationPlot | 3.070 | 0.012 | 3.089 | |
MEDIPS.plotSaturation | 11.966 | 0.036 | 12.052 | |
MEDIPS.plotSeqCoverage | 3.033 | 0.008 | 3.050 | |
MEDIPS.saturation | 10.703 | 0.013 | 10.750 | |
MEDIPS.selectROIs | 1.298 | 0.000 | 1.304 | |
MEDIPS.selectSig | 2.109 | 0.028 | 2.145 | |
MEDIPS.seqCoverage | 2.872 | 0.023 | 2.957 | |
MEDIPS.setAnnotation | 2.111 | 0.008 | 2.123 | |
MEDIPSroiSet-class | 0.001 | 0.000 | 0.000 | |
MEDIPSset-class | 0.001 | 0.000 | 0.000 | |