Back to Multiple platform build/check report for BioC 3.22:   simplified   long
ABCDEFGHIJKL[M]NOPQRSTUVWXYZ

This page was generated on 2025-08-15 12:07 -0400 (Fri, 15 Aug 2025).

HostnameOSArch (*)R versionInstalled pkgs
nebbiolo2Linux (Ubuntu 24.04.3 LTS)x86_644.5.1 (2025-06-13) -- "Great Square Root" 4818
palomino8Windows Server 2022 Datacenterx644.5.1 (2025-06-13 ucrt) -- "Great Square Root" 4554
lconwaymacOS 12.7.1 Montereyx86_644.5.1 (2025-06-13) -- "Great Square Root" 4595
kjohnson3macOS 13.7.7 Venturaarm644.5.1 Patched (2025-06-14 r88325) -- "Great Square Root" 4537
taishanLinux (openEuler 24.03 LTS)aarch644.5.0 (2025-04-11) -- "How About a Twenty-Six" 4535
Click on any hostname to see more info about the system (e.g. compilers)      (*) as reported by 'uname -p', except on Windows and Mac OS X

Package 1161/2317HostnameOS / ArchINSTALLBUILDCHECKBUILD BIN
MANOR 1.81.0  (landing page)
Pierre Neuvial
Snapshot Date: 2025-08-14 13:45 -0400 (Thu, 14 Aug 2025)
git_url: https://git.bioconductor.org/packages/MANOR
git_branch: devel
git_last_commit: a00850e
git_last_commit_date: 2025-04-15 09:37:25 -0400 (Tue, 15 Apr 2025)
nebbiolo2Linux (Ubuntu 24.04.3 LTS) / x86_64  OK    OK    OK  UNNEEDED, same version is already published
palomino8Windows Server 2022 Datacenter / x64  OK    OK    OK    OK  UNNEEDED, same version is already published
lconwaymacOS 12.7.1 Monterey / x86_64  OK    OK    OK    OK  UNNEEDED, same version is already published
kjohnson3macOS 13.7.7 Ventura / arm64  OK    OK    OK    OK  UNNEEDED, same version is already published
taishanLinux (openEuler 24.03 LTS) / aarch64  OK    OK    OK  


CHECK results for MANOR on palomino8

To the developers/maintainers of the MANOR package:
- Allow up to 24 hours (and sometimes 48 hours) for your latest push to git@git.bioconductor.org:packages/MANOR.git to reflect on this report. See Troubleshooting Build Report for more information.
- Use the following Renviron settings to reproduce errors and warnings.
- If 'R CMD check' started to fail recently on the Linux builder(s) over a missing dependency, add the missing dependency to 'Suggests:' in your DESCRIPTION file. See Renviron.bioc for more information.

raw results


Summary

Package: MANOR
Version: 1.81.0
Command: F:\biocbuild\bbs-3.22-bioc\R\bin\R.exe CMD check --no-multiarch --install=check:MANOR.install-out.txt --library=F:\biocbuild\bbs-3.22-bioc\R\library --no-vignettes --timings MANOR_1.81.0.tar.gz
StartedAt: 2025-08-15 04:44:19 -0400 (Fri, 15 Aug 2025)
EndedAt: 2025-08-15 04:45:07 -0400 (Fri, 15 Aug 2025)
EllapsedTime: 48.5 seconds
RetCode: 0
Status:   OK  
CheckDir: MANOR.Rcheck
Warnings: 0

Command output

##############################################################################
##############################################################################
###
### Running command:
###
###   F:\biocbuild\bbs-3.22-bioc\R\bin\R.exe CMD check --no-multiarch --install=check:MANOR.install-out.txt --library=F:\biocbuild\bbs-3.22-bioc\R\library --no-vignettes --timings MANOR_1.81.0.tar.gz
###
##############################################################################
##############################################################################


* using log directory 'F:/biocbuild/bbs-3.22-bioc/meat/MANOR.Rcheck'
* using R version 4.5.1 (2025-06-13 ucrt)
* using platform: x86_64-w64-mingw32
* R was compiled by
    gcc.exe (GCC) 14.2.0
    GNU Fortran (GCC) 14.2.0
* running under: Windows Server 2022 x64 (build 20348)
* using session charset: UTF-8
* using option '--no-vignettes'
* checking for file 'MANOR/DESCRIPTION' ... OK
* this is package 'MANOR' version '1.81.0'
* package encoding: UTF-8
* checking package namespace information ... OK
* checking package dependencies ... OK
* checking if this is a source package ... OK
* checking if there is a namespace ... OK
* checking for hidden files and directories ... OK
* checking for portable file names ... OK
* checking whether package 'MANOR' can be installed ... OK
* used C compiler: 'gcc.exe (GCC) 14.2.0'
* checking installed package size ... OK
* checking package directory ... OK
* checking 'build' directory ... OK
* checking DESCRIPTION meta-information ... OK
* checking top-level files ... OK
* checking for left-over files ... OK
* checking index information ... OK
* checking package subdirectories ... OK
* checking code files for non-ASCII characters ... OK
* checking R files for syntax errors ... OK
* checking whether the package can be loaded ... OK
* checking whether the package can be loaded with stated dependencies ... OK
* checking whether the package can be unloaded cleanly ... OK
* checking whether the namespace can be loaded with stated dependencies ... OK
* checking whether the namespace can be unloaded cleanly ... OK
* checking dependencies in R code ... OK
* checking S3 generic/method consistency ... OK
* checking replacement functions ... OK
* checking foreign function calls ... OK
* checking R code for possible problems ... OK
* checking Rd files ... OK
* checking Rd metadata ... OK
* checking Rd cross-references ... OK
* checking for missing documentation entries ... OK
* checking for code/documentation mismatches ... OK
* checking Rd \usage sections ... OK
* checking Rd contents ... OK
* checking for unstated dependencies in examples ... OK
* checking contents of 'data' directory ... OK
* checking data for non-ASCII characters ... OK
* checking data for ASCII and uncompressed saves ... OK
* checking line endings in C/C++/Fortran sources/headers ... OK
* checking compiled code ... NOTE
Note: information on .o files for x64 is not available
File 'F:/biocbuild/bbs-3.22-bioc/R/library/MANOR/libs/x64/MANOR.dll':
  Found '_exit', possibly from '_exit' (C)
  Found 'abort', possibly from 'abort' (C), 'runtime' (Fortran)

Compiled code should not call entry points which might terminate R nor
write to stdout/stderr instead of to the console, nor use Fortran I/O
nor system RNGs nor [v]sprintf. The detected symbols are linked into
the code but might come from libraries and not actually be called.

See 'Writing portable packages' in the 'Writing R Extensions' manual.
* checking files in 'vignettes' ... OK
* checking examples ... OK
Examples with CPU (user + system) or elapsed time > 5s
     user system elapsed
norm 5.19   0.06    5.25
* checking for unstated dependencies in vignettes ... OK
* checking package vignettes ... OK
* checking running R code from vignettes ... SKIPPED
* checking re-building of vignette outputs ... SKIPPED
* checking PDF version of manual ... OK
* DONE

Status: 1 NOTE
See
  'F:/biocbuild/bbs-3.22-bioc/meat/MANOR.Rcheck/00check.log'
for details.


Installation output

MANOR.Rcheck/00install.out

##############################################################################
##############################################################################
###
### Running command:
###
###   F:\biocbuild\bbs-3.22-bioc\R\bin\R.exe CMD INSTALL MANOR
###
##############################################################################
##############################################################################


* installing to library 'F:/biocbuild/bbs-3.22-bioc/R/library'
* installing *source* package 'MANOR' ...
** this is package 'MANOR' version '1.81.0'
** using staged installation
** libs
using C compiler: 'gcc.exe (GCC) 14.2.0'
gcc  -I"F:/biocbuild/bbs-3.22-bioc/R/include" -DNDEBUG     -I"C:/rtools45/x86_64-w64-mingw32.static.posix/include"      -O2 -Wall -std=gnu2x  -mfpmath=sse -msse2 -mstackrealign   -c Rnem_arg.c -o Rnem_arg.o
gcc  -I"F:/biocbuild/bbs-3.22-bioc/R/include" -DNDEBUG     -I"C:/rtools45/x86_64-w64-mingw32.static.posix/include"      -O2 -Wall -std=gnu2x  -mfpmath=sse -msse2 -mstackrealign   -c Rnem_exe.c -o Rnem_exe.o
gcc  -I"F:/biocbuild/bbs-3.22-bioc/R/include" -DNDEBUG     -I"C:/rtools45/x86_64-w64-mingw32.static.posix/include"      -O2 -Wall -std=gnu2x  -mfpmath=sse -msse2 -mstackrealign   -c exememo.c -o exememo.o
gcc  -I"F:/biocbuild/bbs-3.22-bioc/R/include" -DNDEBUG     -I"C:/rtools45/x86_64-w64-mingw32.static.posix/include"      -O2 -Wall -std=gnu2x  -mfpmath=sse -msse2 -mstackrealign   -c nem_alg.c -o nem_alg.o
gcc  -I"F:/biocbuild/bbs-3.22-bioc/R/include" -DNDEBUG     -I"C:/rtools45/x86_64-w64-mingw32.static.posix/include"      -O2 -Wall -std=gnu2x  -mfpmath=sse -msse2 -mstackrealign   -c nem_hlp.c -o nem_hlp.o
gcc  -I"F:/biocbuild/bbs-3.22-bioc/R/include" -DNDEBUG     -I"C:/rtools45/x86_64-w64-mingw32.static.posix/include"      -O2 -Wall -std=gnu2x  -mfpmath=sse -msse2 -mstackrealign   -c nem_mod.c -o nem_mod.o
gcc  -I"F:/biocbuild/bbs-3.22-bioc/R/include" -DNDEBUG     -I"C:/rtools45/x86_64-w64-mingw32.static.posix/include"      -O2 -Wall -std=gnu2x  -mfpmath=sse -msse2 -mstackrealign   -c nem_nei.c -o nem_nei.o
gcc  -I"F:/biocbuild/bbs-3.22-bioc/R/include" -DNDEBUG     -I"C:/rtools45/x86_64-w64-mingw32.static.posix/include"      -O2 -Wall -std=gnu2x  -mfpmath=sse -msse2 -mstackrealign   -c nem_rnd.c -o nem_rnd.o
gcc  -I"F:/biocbuild/bbs-3.22-bioc/R/include" -DNDEBUG     -I"C:/rtools45/x86_64-w64-mingw32.static.posix/include"      -O2 -Wall -std=gnu2x  -mfpmath=sse -msse2 -mstackrealign   -c nem_ver.c -o nem_ver.o
gcc  -I"F:/biocbuild/bbs-3.22-bioc/R/include" -DNDEBUG     -I"C:/rtools45/x86_64-w64-mingw32.static.posix/include"      -O2 -Wall -std=gnu2x  -mfpmath=sse -msse2 -mstackrealign   -c registerDynamicSymbols.c -o registerDynamicSymbols.o
gcc -shared -s -static-libgcc -o MANOR.dll tmp.def Rnem_arg.o Rnem_exe.o exememo.o nem_alg.o nem_hlp.o nem_mod.o nem_nei.o nem_rnd.o nem_ver.o registerDynamicSymbols.o -LC:/rtools45/x86_64-w64-mingw32.static.posix/lib/x64 -LC:/rtools45/x86_64-w64-mingw32.static.posix/lib -LF:/biocbuild/bbs-3.22-bioc/R/bin/x64 -lR
installing to F:/biocbuild/bbs-3.22-bioc/R/library/00LOCK-MANOR/00new/MANOR/libs/x64
** R
** data
** inst
** byte-compile and prepare package for lazy loading
** help
*** installing help indices
** building package indices
** installing vignettes
** testing if installed package can be loaded from temporary location
** testing if installed package can be loaded from final location
** testing if installed package keeps a record of temporary installation path
* DONE (MANOR)

Tests output


Example timings

MANOR.Rcheck/MANOR-Ex.timings

nameusersystemelapsed
arrayTrend0.290.020.31
detectSB0.300.020.31
flag.arrayCGH1.000.031.03
flag.summary0.070.010.07
flags0.060.020.08
genome.plot0.290.010.32
import0.110.020.12
nem2.110.032.14
norm5.190.065.25
qscore.arrayCGH0.060.020.08
qscore.summary0.320.030.34
qscores0.290.050.35
report.plot1.020.011.03
sort0.390.000.39
spatial0.260.020.28
to.flag0.410.000.41