Back to Multiple platform build/check report for BioC 3.22:   simplified   long
ABCDEFGH[I]JKLMNOPQRSTUVWXYZ

This page was generated on 2025-10-06 12:03 -0400 (Mon, 06 Oct 2025).

HostnameOSArch (*)R versionInstalled pkgs
nebbiolo2Linux (Ubuntu 24.04.3 LTS)x86_644.5.1 Patched (2025-08-23 r88802) -- "Great Square Root" 4853
lconwaymacOS 12.7.1 Montereyx86_644.5.1 Patched (2025-09-10 r88807) -- "Great Square Root" 4640
kjohnson3macOS 13.7.7 Venturaarm644.5.1 Patched (2025-09-10 r88807) -- "Great Square Root" 4585
taishanLinux (openEuler 24.03 LTS)aarch644.5.0 (2025-04-11) -- "How About a Twenty-Six" 4576
Click on any hostname to see more info about the system (e.g. compilers)      (*) as reported by 'uname -p', except on Windows and Mac OS X

Package 1072/2341HostnameOS / ArchINSTALLBUILDCHECKBUILD BIN
ISAnalytics 1.19.3  (landing page)
Francesco Gazzo
Snapshot Date: 2025-10-05 13:45 -0400 (Sun, 05 Oct 2025)
git_url: https://git.bioconductor.org/packages/ISAnalytics
git_branch: devel
git_last_commit: 923672f
git_last_commit_date: 2025-07-21 09:31:21 -0400 (Mon, 21 Jul 2025)
nebbiolo2Linux (Ubuntu 24.04.3 LTS) / x86_64  OK    OK    OK  UNNEEDED, same version is already published
lconwaymacOS 12.7.1 Monterey / x86_64  OK    OK    OK    OK  UNNEEDED, same version is already published
kjohnson3macOS 13.7.7 Ventura / arm64  OK    OK    OK    OK  UNNEEDED, same version is already published
taishanLinux (openEuler 24.03 LTS) / aarch64  OK    OK    OK  


CHECK results for ISAnalytics on nebbiolo2

To the developers/maintainers of the ISAnalytics package:
- Allow up to 24 hours (and sometimes 48 hours) for your latest push to git@git.bioconductor.org:packages/ISAnalytics.git to reflect on this report. See Troubleshooting Build Report for more information.
- Use the following Renviron settings to reproduce errors and warnings.
- If 'R CMD check' started to fail recently on the Linux builder(s) over a missing dependency, add the missing dependency to 'Suggests:' in your DESCRIPTION file. See Renviron.bioc for more information.

raw results


Summary

Package: ISAnalytics
Version: 1.19.3
Command: /home/biocbuild/bbs-3.22-bioc/R/bin/R CMD check --install=check:ISAnalytics.install-out.txt --library=/home/biocbuild/bbs-3.22-bioc/R/site-library --timings ISAnalytics_1.19.3.tar.gz
StartedAt: 2025-10-06 01:01:21 -0400 (Mon, 06 Oct 2025)
EndedAt: 2025-10-06 01:10:09 -0400 (Mon, 06 Oct 2025)
EllapsedTime: 528.6 seconds
RetCode: 0
Status:   OK  
CheckDir: ISAnalytics.Rcheck
Warnings: 0

Command output

##############################################################################
##############################################################################
###
### Running command:
###
###   /home/biocbuild/bbs-3.22-bioc/R/bin/R CMD check --install=check:ISAnalytics.install-out.txt --library=/home/biocbuild/bbs-3.22-bioc/R/site-library --timings ISAnalytics_1.19.3.tar.gz
###
##############################################################################
##############################################################################


* using log directory ‘/home/biocbuild/bbs-3.22-bioc/meat/ISAnalytics.Rcheck’
* using R version 4.5.1 Patched (2025-08-23 r88802)
* using platform: x86_64-pc-linux-gnu
* R was compiled by
    gcc (Ubuntu 13.3.0-6ubuntu2~24.04) 13.3.0
    GNU Fortran (Ubuntu 13.3.0-6ubuntu2~24.04) 13.3.0
* running under: Ubuntu 24.04.3 LTS
* using session charset: UTF-8
* checking for file ‘ISAnalytics/DESCRIPTION’ ... OK
* this is package ‘ISAnalytics’ version ‘1.19.3’
* package encoding: UTF-8
* checking package namespace information ... OK
* checking package dependencies ... INFO
Imports includes 22 non-default packages.
Importing from so many packages makes the package vulnerable to any of
them becoming unavailable.  Move as many as possible to Suggests and
use conditionally.
* checking if this is a source package ... OK
* checking if there is a namespace ... OK
* checking for hidden files and directories ... OK
* checking for portable file names ... OK
* checking for sufficient/correct file permissions ... OK
* checking whether package ‘ISAnalytics’ can be installed ... OK
* checking installed package size ... INFO
  installed size is  8.3Mb
  sub-directories of 1Mb or more:
    data   5.8Mb
* checking package directory ... OK
* checking ‘build’ directory ... OK
* checking DESCRIPTION meta-information ... OK
* checking top-level files ... OK
* checking for left-over files ... OK
* checking index information ... OK
* checking package subdirectories ... OK
* checking code files for non-ASCII characters ... OK
* checking R files for syntax errors ... OK
* checking whether the package can be loaded ... OK
* checking whether the package can be loaded with stated dependencies ... OK
* checking whether the package can be unloaded cleanly ... OK
* checking whether the namespace can be loaded with stated dependencies ... OK
* checking whether the namespace can be unloaded cleanly ... OK
* checking loading without being on the library search path ... OK
* checking whether startup messages can be suppressed ... OK
* checking dependencies in R code ... OK
* checking S3 generic/method consistency ... OK
* checking replacement functions ... OK
* checking foreign function calls ... OK
* checking R code for possible problems ... OK
* checking Rd files ... NOTE
checkRd: (-1) refGenes_hg19.Rd:21: Lost braces; missing escapes or markup?
    21 | \item Download from {http://hgdownload.soe.ucsc.edu/goldenPath/hg19/database/}
       |                     ^
* checking Rd metadata ... OK
* checking Rd cross-references ... OK
* checking for missing documentation entries ... OK
* checking for code/documentation mismatches ... OK
* checking Rd \usage sections ... OK
* checking Rd contents ... OK
* checking for unstated dependencies in examples ... OK
* checking contents of ‘data’ directory ... OK
* checking data for non-ASCII characters ... OK
* checking data for ASCII and uncompressed saves ... OK
* checking files in ‘vignettes’ ... OK
* checking examples ... OK
Examples with CPU (user + system) or elapsed time > 5s
                                user system elapsed
sharing_venn                   4.789  0.487  33.838
integration_alluvial_plot      3.743  0.292   9.060
import_parallel_Vispa2Matrices 3.409  0.357  13.316
sharing_heatmap                2.649  0.215  10.121
top_cis_overtime_heatmap       2.282  0.217  10.014
import_Vispa2_stats            1.991  0.277   6.277
is_sharing                     1.731  0.190   7.160
CIS_grubbs_overtime            1.726  0.158   7.188
realign_after_collisions       1.685  0.145   5.844
iss_source                     1.631  0.096   8.342
remove_collisions              1.594  0.024   5.557
* checking for unstated dependencies in ‘tests’ ... OK
* checking tests ...
  Running ‘testthat.R’
 OK
* checking for unstated dependencies in vignettes ... OK
* checking package vignettes ... OK
* checking re-building of vignette outputs ... OK
* checking PDF version of manual ... OK
* DONE

Status: 1 NOTE
See
  ‘/home/biocbuild/bbs-3.22-bioc/meat/ISAnalytics.Rcheck/00check.log’
for details.


Installation output

ISAnalytics.Rcheck/00install.out

##############################################################################
##############################################################################
###
### Running command:
###
###   /home/biocbuild/bbs-3.22-bioc/R/bin/R CMD INSTALL ISAnalytics
###
##############################################################################
##############################################################################


* installing to library ‘/home/biocbuild/bbs-3.22-bioc/R/site-library’
* installing *source* package ‘ISAnalytics’ ...
** this is package ‘ISAnalytics’ version ‘1.19.3’
** using staged installation
** R
** data
** inst
** byte-compile and prepare package for lazy loading
** help
*** installing help indices
*** copying figures
** building package indices
** installing vignettes
** testing if installed package can be loaded from temporary location
** testing if installed package can be loaded from final location
** testing if installed package keeps a record of temporary installation path
* DONE (ISAnalytics)

Tests output

ISAnalytics.Rcheck/tests/testthat.Rout


R version 4.5.1 Patched (2025-08-23 r88802) -- "Great Square Root"
Copyright (C) 2025 The R Foundation for Statistical Computing
Platform: x86_64-pc-linux-gnu

R is free software and comes with ABSOLUTELY NO WARRANTY.
You are welcome to redistribute it under certain conditions.
Type 'license()' or 'licence()' for distribution details.

R is a collaborative project with many contributors.
Type 'contributors()' for more information and
'citation()' on how to cite R or R packages in publications.

Type 'demo()' for some demos, 'help()' for on-line help, or
'help.start()' for an HTML browser interface to help.
Type 'q()' to quit R.

> library(testthat)
> library(ISAnalytics)
> 
> test_check("ISAnalytics")
Loading required namespace: plotly
Loading required namespace: rmarkdown
Report correctly saved
i Report saved to: /tmp/RtmplJHccW/filea28b84e0ec095/2025-10-06_collision_removal_report.html
Report correctly saved
i Report saved to: /tmp/RtmplJHccW/filea28b87a8aedfa/2025-10-06_outlier_test_pool_fragments_report.html
[ FAIL 0 | WARN 0 | SKIP 0 | PASS 834 ]
> 
> proc.time()
   user  system elapsed 
116.270   7.770 241.093 

Example timings

ISAnalytics.Rcheck/ISAnalytics-Ex.timings

nameusersystemelapsed
CIS_grubbs0.7830.0360.819
CIS_grubbs_overtime1.7260.1587.188
CIS_volcano_plot1.4440.0851.529
HSC_population_plot1.5470.0244.570
HSC_population_size_estimate1.2430.2434.361
NGSdataExplorer000
aggregate_metadata0.1200.0010.122
aggregate_values_by_key0.0760.0010.077
annotation_issues0.0300.0000.031
as_sparse_matrix0.0550.0000.055
available_outlier_tests000
available_tags0.0230.0010.023
blood_lineages_default0.0310.0000.031
circos_genomic_density000
clinical_relevant_suspicious_genes0.0130.0000.013
comparison_matrix0.0290.0000.029
compute_abundance0.0360.0030.038
compute_near_integrations1.1890.2334.262
cumulative_count_union000
cumulative_is0.1520.0000.152
date_formats000
default_af_transform0.0000.0000.001
default_iss_file_prefixes000
default_meta_agg0.0150.0000.016
default_rec_agg_lambdas0.0000.0000.001
default_report_path0.0070.0000.007
default_stats1.1040.0641.169
enable_progress_bars0.0130.0000.015
export_ISA_settings0.0600.0130.073
fisher_scatterplot1.1100.0831.193
gene_frequency_fisher0.8660.0440.910
generate_Vispa2_launch_AF0.1810.0080.188
generate_blank_association_file0.0120.0000.012
generate_default_folder_structure0.3370.0970.434
import_ISA_settings0.0630.0040.068
import_Vispa2_stats1.9910.2776.277
import_association_file0.5740.1230.696
import_parallel_Vispa2Matrices 3.409 0.35713.316
import_single_Vispa2Matrix0.8360.1030.939
inspect_tags0.0140.0010.015
integration_alluvial_plot3.7430.2929.060
is_sharing1.7310.1907.160
iss_source1.6310.0968.342
known_clinical_oncogenes0.0110.0000.011
mandatory_IS_vars0.0930.0080.102
matching_options000
outlier_filter0.1470.0150.162
outliers_by_pool_fragments0.1520.0180.171
pcr_id_column0.0190.0010.021
purity_filter0.3420.0290.371
quantification_types000
realign_after_collisions1.6850.1455.844
reduced_AF_columns0.0440.0000.044
refGene_table_cols0.0010.0000.000
remove_collisions1.5940.0245.557
reset_mandatory_IS_vars0.0040.0000.005
sample_statistics0.2930.0030.297
separate_quant_matrices0.0150.0010.016
set_mandatory_IS_vars0.0900.0040.093
set_matrix_file_suffixes0.020.000.02
sharing_heatmap 2.649 0.21510.121
sharing_venn 4.789 0.48733.838
threshold_filter0.0010.0000.001
top_abund_tableGrob0.6410.0330.674
top_cis_overtime_heatmap 2.282 0.21710.014
top_integrations0.0330.0030.036
top_targeted_genes0.470.040.51
transform_columns0.0180.0030.022