Back to Multiple platform build/check report for BioC 3.22:   simplified   long
ABCDEF[G]HIJKLMNOPQRSTUVWXYZ

This page was generated on 2025-10-04 12:07 -0400 (Sat, 04 Oct 2025).

HostnameOSArch (*)R versionInstalled pkgs
nebbiolo2Linux (Ubuntu 24.04.3 LTS)x86_644.5.1 Patched (2025-08-23 r88802) -- "Great Square Root" 4853
lconwaymacOS 12.7.1 Montereyx86_644.5.1 Patched (2025-09-10 r88807) -- "Great Square Root" 4640
kjohnson3macOS 13.7.7 Venturaarm644.5.1 Patched (2025-09-10 r88807) -- "Great Square Root" 4585
taishanLinux (openEuler 24.03 LTS)aarch644.5.0 (2025-04-11) -- "How About a Twenty-Six" 4576
Click on any hostname to see more info about the system (e.g. compilers)      (*) as reported by 'uname -p', except on Windows and Mac OS X

Package 883/2341HostnameOS / ArchINSTALLBUILDCHECKBUILD BIN
GladiaTOX 1.25.3  (landing page)
PMP S.A. R Support
Snapshot Date: 2025-10-03 13:45 -0400 (Fri, 03 Oct 2025)
git_url: https://git.bioconductor.org/packages/GladiaTOX
git_branch: devel
git_last_commit: ec9e027
git_last_commit_date: 2025-09-24 13:05:49 -0400 (Wed, 24 Sep 2025)
nebbiolo2Linux (Ubuntu 24.04.3 LTS) / x86_64  OK    OK    OK  UNNEEDED, same version is already published
lconwaymacOS 12.7.1 Monterey / x86_64  OK    OK    OK    OK  UNNEEDED, same version is already published
kjohnson3macOS 13.7.7 Ventura / arm64  OK    OK    OK    OK  UNNEEDED, same version is already published
taishanLinux (openEuler 24.03 LTS) / aarch64  OK    OK    OK  


CHECK results for GladiaTOX on taishan

To the developers/maintainers of the GladiaTOX package:
- Allow up to 24 hours (and sometimes 48 hours) for your latest push to git@git.bioconductor.org:packages/GladiaTOX.git to reflect on this report. See Troubleshooting Build Report for more information.
- Use the following Renviron settings to reproduce errors and warnings.
- If 'R CMD check' started to fail recently on the Linux builder(s) over a missing dependency, add the missing dependency to 'Suggests:' in your DESCRIPTION file. See Renviron.bioc for more information.
- See Martin Grigorov's blog post for how to debug Linux ARM64 related issues on a x86_64 host.

raw results


Summary

Package: GladiaTOX
Version: 1.25.3
Command: /home/biocbuild/R/R/bin/R CMD check --install=check:GladiaTOX.install-out.txt --library=/home/biocbuild/R/R/site-library --no-vignettes --timings GladiaTOX_1.25.3.tar.gz
StartedAt: 2025-10-03 07:39:30 -0000 (Fri, 03 Oct 2025)
EndedAt: 2025-10-03 07:42:11 -0000 (Fri, 03 Oct 2025)
EllapsedTime: 161.2 seconds
RetCode: 0
Status:   OK  
CheckDir: GladiaTOX.Rcheck
Warnings: 0

Command output

##############################################################################
##############################################################################
###
### Running command:
###
###   /home/biocbuild/R/R/bin/R CMD check --install=check:GladiaTOX.install-out.txt --library=/home/biocbuild/R/R/site-library --no-vignettes --timings GladiaTOX_1.25.3.tar.gz
###
##############################################################################
##############################################################################


* using log directory ‘/home/biocbuild/bbs-3.22-bioc/meat/GladiaTOX.Rcheck’
* using R version 4.5.0 (2025-04-11)
* using platform: aarch64-unknown-linux-gnu
* R was compiled by
    aarch64-unknown-linux-gnu-gcc (GCC) 14.2.0
    GNU Fortran (GCC) 14.2.0
* running under: openEuler 24.03 (LTS)
* using session charset: UTF-8
* using option ‘--no-vignettes’
* checking for file ‘GladiaTOX/DESCRIPTION’ ... OK
* checking extension type ... Package
* this is package ‘GladiaTOX’ version ‘1.25.3’
* checking package namespace information ... OK
* checking package dependencies ... OK
* checking if this is a source package ... OK
* checking if there is a namespace ... OK
* checking for hidden files and directories ... OK
* checking for portable file names ... OK
* checking for sufficient/correct file permissions ... OK
* checking whether package ‘GladiaTOX’ can be installed ... OK
* checking installed package size ... INFO
  installed size is  5.3Mb
  sub-directories of 1Mb or more:
    sql   3.8Mb
* checking package directory ... OK
* checking ‘build’ directory ... OK
* checking DESCRIPTION meta-information ... OK
* checking top-level files ... OK
* checking for left-over files ... OK
* checking index information ... OK
* checking package subdirectories ... OK
* checking code files for non-ASCII characters ... OK
* checking R files for syntax errors ... OK
* checking whether the package can be loaded ... OK
* checking whether the package can be loaded with stated dependencies ... OK
* checking whether the package can be unloaded cleanly ... OK
* checking whether the namespace can be loaded with stated dependencies ... OK
* checking whether the namespace can be unloaded cleanly ... OK
* checking loading without being on the library search path ... OK
* checking whether startup messages can be suppressed ... OK
* checking dependencies in R code ... OK
* checking S3 generic/method consistency ... OK
* checking replacement functions ... OK
* checking foreign function calls ... OK
* checking R code for possible problems ... NOTE
glCheckInput: no visible global function definition for ‘read.csv’
glLoadInput: no visible global function definition for ‘read.csv’
glPlotPosCtrlMEC: no visible binding for global variable ‘aenm_wrap’
glPlotPosCtrlMEC: no visible binding for global variable ‘modl_acc’
Undefined global functions or variables:
  aenm_wrap modl_acc read.csv
Consider adding
  importFrom("utils", "read.csv")
to your NAMESPACE file.
* checking Rd files ... OK
* checking Rd metadata ... OK
* checking Rd cross-references ... NOTE
Found the following Rd file(s) with Rd \link{} targets missing package
anchors:
  gtoxLoadData.Rd: data.table
  gtoxLoadUnit.Rd: data.table
Please provide package anchors for all Rd \link{} targets not in the
package itself and the base packages.
* checking for missing documentation entries ... OK
* checking for code/documentation mismatches ... OK
* checking Rd \usage sections ... OK
* checking Rd contents ... OK
* checking for unstated dependencies in examples ... OK
* checking files in ‘vignettes’ ... OK
* checking examples ... OK
Examples with CPU (user + system) or elapsed time > 5s
                     user system elapsed
gtoxRun            22.644 10.467  16.359
assignDefaultMthds 23.595  7.666  16.394
* checking for unstated dependencies in ‘tests’ ... OK
* checking tests ...
  Running ‘testthat.R’
 OK
* checking for unstated dependencies in vignettes ... OK
* checking package vignettes ... OK
* checking running R code from vignettes ... SKIPPED
* checking re-building of vignette outputs ... SKIPPED
* checking PDF version of manual ... OK
* DONE

Status: 2 NOTEs
See
  ‘/home/biocbuild/bbs-3.22-bioc/meat/GladiaTOX.Rcheck/00check.log’
for details.


Installation output

GladiaTOX.Rcheck/00install.out

##############################################################################
##############################################################################
###
### Running command:
###
###   /home/biocbuild/R/R/bin/R CMD INSTALL GladiaTOX
###
##############################################################################
##############################################################################


* installing to library ‘/home/biocbuild/R/R-4.5.0/site-library’
* installing *source* package ‘GladiaTOX’ ...
** this is package ‘GladiaTOX’ version ‘1.25.3’
** using staged installation
** R
** inst
** byte-compile and prepare package for lazy loading
** help
*** installing help indices
** building package indices
** installing vignettes
** testing if installed package can be loaded from temporary location
** testing if installed package can be loaded from final location
** testing if installed package keeps a record of temporary installation path
* DONE (GladiaTOX)

Tests output

GladiaTOX.Rcheck/tests/testthat.Rout


R version 4.5.0 (2025-04-11) -- "How About a Twenty-Six"
Copyright (C) 2025 The R Foundation for Statistical Computing
Platform: aarch64-unknown-linux-gnu

R is free software and comes with ABSOLUTELY NO WARRANTY.
You are welcome to redistribute it under certain conditions.
Type 'license()' or 'licence()' for distribution details.

R is a collaborative project with many contributors.
Type 'contributors()' for more information and
'citation()' on how to cite R or R packages in publications.

Type 'demo()' for some demos, 'help()' for on-line help, or
'help.start()' for an HTML browser interface to help.
Type 'q()' to quit R.

> library(testthat)
> library(GladiaTOX)
Loading required package: data.table
GladiaTOX (v1.25.3) loaded with the following settings:
  TCPL_DB:    /home/biocbuild/R/R-4.5.0/site-library/GladiaTOX/sql/gladiatoxdb.sqlite
  TCPL_USER:  NA
  TCPL_HOST:  NA
  TCPL_DRVR:  SQLite
Default settings stored in gtox config file. See ?gtoxConf for more information.
> 
> options(testthat.junit.output_file="tests-out.xml")
> test_dir("testthat")
✔ | F W  S  OK | Context

⠏ |          0 | assignDefaultMthds                                             
⠋ |          1 | assignDefaultMthds                                             
✔ |          1 | assignDefaultMthds [1.0s]

⠏ |          0 | exportResultTable                                              
⠙ |          2 | exportResultTable                                              
✔ |          2 | exportResultTable

⠏ |          0 | getsplit                                                       
⠏ |          0 | getsplit                                                       
✔ |          1 | getsplit

⠏ |          0 | glComputeToxInd                                                
⠋ |          1 | glComputeToxInd                                                
✔ |          1 | glComputeToxInd

⠏ |          0 | gtoxAICProb                                                    
✔ |          1 | gtoxAICProb

⠏ |          0 | gtoxCalcVmad                                                   
⠏ |          0 | Calculate Vmad                                                 
✔ |          1 | Calculate Vmad

⠏ |          0 | gtoxLoadAcid                                                   
⠏ |          0 | Check assay component table                                    
⠙ |          2 | Check assay component table                                    
✔ |          2 | Check assay component table

⠏ |          0 | gtoxLoadAeid                                                   
⠏ |          0 | Check assay endpoint table                                     
⠙ |          2 | Check assay endpoint table                                     
✔ |          2 | Check assay endpoint table

⠏ |          0 | gtoxLoadAid                                                    
⠋ |          1 | gtoxLoadAid                                                    
✔ |          1 | gtoxLoadAid

⠏ |          0 | gtoxLoadApid                                                   
⠏ |          0 | Check assay plate table                                        
✔ |          2 | Check assay plate table

⠏ |          0 | gtoxLoadAsid                                                   
✔ |          3 | gtoxLoadAsid

⠏ |          0 | gtoxLoadChem                                                   
⠏ |          0 | Check assay chemical table                                     
⠹ |          3 | Check assay chemical table                                     
✔ |          3 | Check assay chemical table

⠏ |          0 | gtoxLoadWaid                                                   
⠏ |          0 | Check assay well table                                         
✔ |          2 | Check assay well table

⠏ |          0 | is.odd                                                         
✔ |          2 | is.odd

⠏ |          0 | lu                                                             
✔ |          1 | lu

⠏ |          0 | lw                                                             
✔ |          1 | lw

⠏ |          0 | mc2                                                            
✔ |          1 | mc2

⠏ |          0 | mc3                                                            
✔ |          1 | mc3

⠏ |          0 | mc5                                                            
✔ |          1 | mc5

⠏ |          0 | mc6                                                            
✔ |          1 | mc6

⠏ |          0 | sc1                                                            
✔ |          1 | sc1

⠏ |          0 | sc2                                                            
✔ |          1 | sc2

══ Results ═════════════════════════════════════════════════════════════════════
Duration: 2.9 s

[ FAIL 0 | WARN 0 | SKIP 0 | PASS 32 ]
> test_check("GladiaTOX")
[ FAIL 0 | WARN 0 | SKIP 0 | PASS 32 ]
> 
> proc.time()
   user  system elapsed 
  8.105   0.651   8.789 

Example timings

GladiaTOX.Rcheck/GladiaTOX-Ex.timings

nameusersystemelapsed
Models0.1570.0080.199
assay_funcs0.4820.0240.507
assignDefaultMthds23.595 7.66616.394
buildAssayTab0.0210.0080.032
config_funcs0.0070.0050.012
deleteStudy000
exportResultForToxpiGUI0.4410.1310.574
exportResultTable0.2180.0040.222
glComputeToxInd0.3980.0080.407
glPlotPie2.7040.1642.876
glPlotPieLogo1.2770.0481.331
glPlotPosCtrl1.4350.0251.459
glPlotPosCtrlMEC0.6390.0200.663
glPlotStat1.7060.0201.731
glPlotToxInd0.9310.0120.946
gtoxAICProb0.0010.0000.001
gtoxAddModel0.5710.0240.597
gtoxCalcVmad0.0390.0000.040
gtoxCode2CASN0.0010.0000.001
gtoxFit0.4500.0080.460
gtoxImportThermoDB0.0010.0000.001
gtoxListFlds0.0060.0000.006
gtoxLoadApid0.0070.0040.011
gtoxLoadChem0.0720.0040.076
gtoxLoadClib0.0070.0000.007
gtoxLoadData0.0900.0040.094
gtoxLoadVehicle0.0080.0000.008
gtoxLoadVmad0.0090.0000.009
gtoxLoadWaid0.0280.0000.028
gtoxMakeAeidPlts0.4630.0120.476
gtoxPlotErrBar0.4300.0000.431
gtoxPlotFitc0.3250.0240.350
gtoxPlotFits0.4010.0120.414
gtoxPlotM4ID0.7380.0280.769
gtoxPlotPie0.2120.0200.232
gtoxPlotPieLgnd0.0060.0000.006
gtoxPlotPlate0.2460.0120.258
gtoxPlotWin000
gtoxPrepOtpt0.1630.0090.167
gtoxReport000
gtoxRun22.64410.46716.359
gtoxSetWllq0.1350.0150.152
gtoxSubsetChid0.1330.0200.154
gtoxWriteData000
hill_utils0.0000.0010.001
loadAnnot000
lu000
lw000
mthd_funcs0.0230.0240.048
prepareDatForDB0.0000.0000.001
query_funcs0.0210.0000.022
rgstr_funcs0.3530.0320.386