Back to Multiple platform build/check report for BioC 3.22:   simplified   long
ABCDEF[G]HIJKLMNOPQRSTUVWXYZ

This page was generated on 2025-10-04 12:04 -0400 (Sat, 04 Oct 2025).

HostnameOSArch (*)R versionInstalled pkgs
nebbiolo2Linux (Ubuntu 24.04.3 LTS)x86_644.5.1 Patched (2025-08-23 r88802) -- "Great Square Root" 4853
lconwaymacOS 12.7.1 Montereyx86_644.5.1 Patched (2025-09-10 r88807) -- "Great Square Root" 4640
kjohnson3macOS 13.7.7 Venturaarm644.5.1 Patched (2025-09-10 r88807) -- "Great Square Root" 4585
taishanLinux (openEuler 24.03 LTS)aarch644.5.0 (2025-04-11) -- "How About a Twenty-Six" 4576
Click on any hostname to see more info about the system (e.g. compilers)      (*) as reported by 'uname -p', except on Windows and Mac OS X

Package 824/2341HostnameOS / ArchINSTALLBUILDCHECKBUILD BIN
GeneStructureTools 1.29.0  (landing page)
Beth Signal
Snapshot Date: 2025-10-03 13:45 -0400 (Fri, 03 Oct 2025)
git_url: https://git.bioconductor.org/packages/GeneStructureTools
git_branch: devel
git_last_commit: 6d9702f
git_last_commit_date: 2025-04-15 11:19:16 -0400 (Tue, 15 Apr 2025)
nebbiolo2Linux (Ubuntu 24.04.3 LTS) / x86_64  OK    OK    OK  UNNEEDED, same version is already published
lconwaymacOS 12.7.1 Monterey / x86_64  OK    OK    OK    OK  UNNEEDED, same version is already published
kjohnson3macOS 13.7.7 Ventura / arm64  OK    OK    OK    OK  UNNEEDED, same version is already published
taishanLinux (openEuler 24.03 LTS) / aarch64  ERROR    ERROR  skipped


CHECK results for GeneStructureTools on lconway

To the developers/maintainers of the GeneStructureTools package:
- Allow up to 24 hours (and sometimes 48 hours) for your latest push to git@git.bioconductor.org:packages/GeneStructureTools.git to reflect on this report. See Troubleshooting Build Report for more information.
- Use the following Renviron settings to reproduce errors and warnings.
- If 'R CMD check' started to fail recently on the Linux builder(s) over a missing dependency, add the missing dependency to 'Suggests:' in your DESCRIPTION file. See Renviron.bioc for more information.

raw results


Summary

Package: GeneStructureTools
Version: 1.29.0
Command: /Library/Frameworks/R.framework/Resources/bin/R CMD check --install=check:GeneStructureTools.install-out.txt --library=/Library/Frameworks/R.framework/Resources/library --no-vignettes --timings GeneStructureTools_1.29.0.tar.gz
StartedAt: 2025-10-03 21:45:19 -0400 (Fri, 03 Oct 2025)
EndedAt: 2025-10-03 21:53:14 -0400 (Fri, 03 Oct 2025)
EllapsedTime: 475.2 seconds
RetCode: 0
Status:   OK  
CheckDir: GeneStructureTools.Rcheck
Warnings: 0

Command output

##############################################################################
##############################################################################
###
### Running command:
###
###   /Library/Frameworks/R.framework/Resources/bin/R CMD check --install=check:GeneStructureTools.install-out.txt --library=/Library/Frameworks/R.framework/Resources/library --no-vignettes --timings GeneStructureTools_1.29.0.tar.gz
###
##############################################################################
##############################################################################


* using log directory ‘/Users/biocbuild/bbs-3.22-bioc/meat/GeneStructureTools.Rcheck’
* using R version 4.5.1 Patched (2025-09-10 r88807)
* using platform: x86_64-apple-darwin20
* R was compiled by
    Apple clang version 14.0.0 (clang-1400.0.29.202)
    GNU Fortran (GCC) 14.2.0
* running under: macOS Monterey 12.7.6
* using session charset: UTF-8
* using option ‘--no-vignettes’
* checking for file ‘GeneStructureTools/DESCRIPTION’ ... OK
* checking extension type ... Package
* this is package ‘GeneStructureTools’ version ‘1.29.0’
* package encoding: UTF-8
* checking package namespace information ... OK
* checking package dependencies ... OK
* checking if this is a source package ... OK
* checking if there is a namespace ... OK
* checking for hidden files and directories ... OK
* checking for portable file names ... OK
* checking for sufficient/correct file permissions ... OK
* checking whether package ‘GeneStructureTools’ can be installed ... OK
* checking installed package size ... OK
* checking package directory ... OK
* checking ‘build’ directory ... OK
* checking DESCRIPTION meta-information ... OK
* checking top-level files ... OK
* checking for left-over files ... OK
* checking index information ... OK
* checking package subdirectories ... OK
* checking code files for non-ASCII characters ... OK
* checking R files for syntax errors ... OK
* checking whether the package can be loaded ... OK
* checking whether the package can be loaded with stated dependencies ... OK
* checking whether the package can be unloaded cleanly ... OK
* checking whether the namespace can be loaded with stated dependencies ... OK
* checking whether the namespace can be unloaded cleanly ... OK
* checking dependencies in R code ... OK
* checking S3 generic/method consistency ... OK
* checking replacement functions ... OK
* checking foreign function calls ... OK
* checking R code for possible problems ... OK
* checking Rd files ... OK
* checking Rd metadata ... OK
* checking Rd cross-references ... OK
* checking for missing documentation entries ... OK
* checking for code/documentation mismatches ... OK
* checking Rd \usage sections ... OK
* checking Rd contents ... OK
* checking for unstated dependencies in examples ... OK
* checking files in ‘vignettes’ ... OK
* checking examples ... OK
Examples with CPU (user + system) or elapsed time > 5s
                                    user system elapsed
leafcutterTranscriptChangeSummary 27.297  1.297  28.863
whippetTranscriptChangeSummary    15.542  0.290  16.125
alternativeIntronUsage             5.141  0.037   5.210
replaceJunction                    4.750  0.117   5.025
* checking for unstated dependencies in vignettes ... OK
* checking package vignettes ... OK
* checking running R code from vignettes ... SKIPPED
* checking re-building of vignette outputs ... SKIPPED
* checking PDF version of manual ... OK
* DONE

Status: OK


Installation output

GeneStructureTools.Rcheck/00install.out

##############################################################################
##############################################################################
###
### Running command:
###
###   /Library/Frameworks/R.framework/Resources/bin/R CMD INSTALL GeneStructureTools
###
##############################################################################
##############################################################################


* installing to library ‘/Library/Frameworks/R.framework/Versions/4.5-x86_64/Resources/library’
* installing *source* package ‘GeneStructureTools’ ...
** this is package ‘GeneStructureTools’ version ‘1.29.0’
** using staged installation
** R
** inst
** byte-compile and prepare package for lazy loading
** help
*** installing help indices
** building package indices
** installing vignettes
** testing if installed package can be loaded from temporary location
** testing if installed package can be loaded from final location
** testing if installed package keeps a record of temporary installation path
* DONE (GeneStructureTools)

Tests output


Example timings

GeneStructureTools.Rcheck/GeneStructureTools-Ex.timings

nameusersystemelapsed
DEXSeqIdsToGeneIds0.0040.0020.005
UTR2UTR532.8380.1052.959
addBroadTypes0.2270.0060.234
addIntronInTranscript2.2400.1092.475
alternativeIntronUsage5.1410.0375.210
annotateGeneModel0.9860.0141.007
attrChangeAltSpliced2.4620.0912.674
coordinates-methods0.0800.0720.257
diffSplicingResults-methods0.0840.0940.290
exonsToTranscripts0.2940.0140.312
filterGtfOverlap0.2920.0090.303
filterWhippetEvents0.0820.0720.259
findDEXexonType2.7150.0212.749
findExonContainingTranscripts0.4730.0840.670
findIntronContainingTranscripts0.7810.0840.975
findJunctionPairs1.5480.0981.779
formatWhippetEvents0.0170.0090.036
getOrfs0.8240.0250.865
getUOrfs0.6090.0150.628
junctions-methods0.0700.0770.245
leafcutterTranscriptChangeSummary27.297 1.29728.863
makeGeneModel0.1870.0100.204
maxLocation0.0030.0000.004
orfDiff1.8610.1172.130
orfSimilarity0.0010.0010.001
overlapTypes2.6350.0182.674
readCounts-methods0.0790.0850.304
readWhippetDIFFfiles0.0060.0100.031
readWhippetDataSet0.0760.0780.274
readWhippetJNCfiles0.0400.0350.122
readWhippetPSIfiles0.0210.0340.110
removeDuplicateTranscripts0.3080.0080.319
removeSameExon0.2550.0060.265
removeVersion000
reorderExonNumbers0.2210.0080.231
replaceJunction4.7500.1175.025
skipExonInTranscript1.7110.0941.931
summariseExonTypes2.9200.0292.973
transcriptChangeSummary1.7240.1201.972
whippetTranscriptChangeSummary15.542 0.29016.125