Back to Multiple platform build/check report for BioC 3.22: simplified long |
|
This page was generated on 2025-10-04 12:03 -0400 (Sat, 04 Oct 2025).
Hostname | OS | Arch (*) | R version | Installed pkgs |
---|---|---|---|---|
nebbiolo2 | Linux (Ubuntu 24.04.3 LTS) | x86_64 | 4.5.1 Patched (2025-08-23 r88802) -- "Great Square Root" | 4853 |
lconway | macOS 12.7.1 Monterey | x86_64 | 4.5.1 Patched (2025-09-10 r88807) -- "Great Square Root" | 4640 |
kjohnson3 | macOS 13.7.7 Ventura | arm64 | 4.5.1 Patched (2025-09-10 r88807) -- "Great Square Root" | 4585 |
taishan | Linux (openEuler 24.03 LTS) | aarch64 | 4.5.0 (2025-04-11) -- "How About a Twenty-Six" | 4576 |
Click on any hostname to see more info about the system (e.g. compilers) (*) as reported by 'uname -p', except on Windows and Mac OS X |
Package 913/2341 | Hostname | OS / Arch | INSTALL | BUILD | CHECK | BUILD BIN | ||||||||
GRaNIE 1.13.0 (landing page) Christian Arnold
| nebbiolo2 | Linux (Ubuntu 24.04.3 LTS) / x86_64 | OK | OK | OK | ![]() | ||||||||
lconway | macOS 12.7.1 Monterey / x86_64 | OK | OK | OK | OK | ![]() | ||||||||
kjohnson3 | macOS 13.7.7 Ventura / arm64 | OK | OK | OK | OK | ![]() | ||||||||
taishan | Linux (openEuler 24.03 LTS) / aarch64 | OK | OK | ERROR | ||||||||||
To the developers/maintainers of the GRaNIE package: - Allow up to 24 hours (and sometimes 48 hours) for your latest push to git@git.bioconductor.org:packages/GRaNIE.git to reflect on this report. See Troubleshooting Build Report for more information. - Use the following Renviron settings to reproduce errors and warnings. - If 'R CMD check' started to fail recently on the Linux builder(s) over a missing dependency, add the missing dependency to 'Suggests:' in your DESCRIPTION file. See Renviron.bioc for more information. |
Package: GRaNIE |
Version: 1.13.0 |
Command: /home/biocbuild/bbs-3.22-bioc/R/bin/R CMD check --install=check:GRaNIE.install-out.txt --library=/home/biocbuild/bbs-3.22-bioc/R/site-library --timings GRaNIE_1.13.0.tar.gz |
StartedAt: 2025-10-04 00:23:40 -0400 (Sat, 04 Oct 2025) |
EndedAt: 2025-10-04 00:34:25 -0400 (Sat, 04 Oct 2025) |
EllapsedTime: 644.8 seconds |
RetCode: 0 |
Status: OK |
CheckDir: GRaNIE.Rcheck |
Warnings: 0 |
############################################################################## ############################################################################## ### ### Running command: ### ### /home/biocbuild/bbs-3.22-bioc/R/bin/R CMD check --install=check:GRaNIE.install-out.txt --library=/home/biocbuild/bbs-3.22-bioc/R/site-library --timings GRaNIE_1.13.0.tar.gz ### ############################################################################## ############################################################################## * using log directory ‘/home/biocbuild/bbs-3.22-bioc/meat/GRaNIE.Rcheck’ * using R version 4.5.1 Patched (2025-08-23 r88802) * using platform: x86_64-pc-linux-gnu * R was compiled by gcc (Ubuntu 13.3.0-6ubuntu2~24.04) 13.3.0 GNU Fortran (Ubuntu 13.3.0-6ubuntu2~24.04) 13.3.0 * running under: Ubuntu 24.04.3 LTS * using session charset: UTF-8 * checking for file ‘GRaNIE/DESCRIPTION’ ... OK * this is package ‘GRaNIE’ version ‘1.13.0’ * package encoding: UTF-8 * checking package namespace information ... OK * checking package dependencies ... INFO Imports includes 37 non-default packages. Importing from so many packages makes the package vulnerable to any of them becoming unavailable. Move as many as possible to Suggests and use conditionally. * checking if this is a source package ... OK * checking if there is a namespace ... OK * checking for hidden files and directories ... OK * checking for portable file names ... OK * checking for sufficient/correct file permissions ... OK * checking whether package ‘GRaNIE’ can be installed ... OK * checking installed package size ... OK * checking package directory ... OK * checking ‘build’ directory ... OK * checking DESCRIPTION meta-information ... OK * checking top-level files ... OK * checking for left-over files ... OK * checking index information ... OK * checking package subdirectories ... OK * checking code files for non-ASCII characters ... OK * checking R files for syntax errors ... OK * checking whether the package can be loaded ... OK * checking whether the package can be loaded with stated dependencies ... OK * checking whether the package can be unloaded cleanly ... OK * checking whether the namespace can be loaded with stated dependencies ... OK * checking whether the namespace can be unloaded cleanly ... OK * checking loading without being on the library search path ... OK * checking whether startup messages can be suppressed ... OK * checking dependencies in R code ... OK * checking S3 generic/method consistency ... OK * checking replacement functions ... OK * checking foreign function calls ... OK * checking R code for possible problems ... NOTE .performIHW: no visible binding for global variable 'adj_pvalue' Undefined global functions or variables: adj_pvalue * checking Rd files ... OK * checking Rd metadata ... OK * checking Rd cross-references ... OK * checking for missing documentation entries ... OK * checking for code/documentation mismatches ... OK * checking Rd \usage sections ... OK * checking Rd contents ... OK * checking for unstated dependencies in examples ... OK * checking files in ‘vignettes’ ... OK * checking examples ... OK Examples with CPU (user + system) or elapsed time > 5s user system elapsed generateStatsSummary 9.386 0.514 12.589 addSNPData 7.330 1.021 10.083 calculateCommunitiesEnrichment 5.846 0.662 9.432 plotDiagnosticPlots_peakGene 5.426 1.011 6.864 plotGeneralGraphStats 6.043 0.387 7.371 plotCommunitiesStats 5.285 0.329 6.414 calculateGeneralEnrichment 5.004 0.554 7.059 plotCommunitiesEnrichment 4.068 0.946 5.461 getCounts 4.377 0.524 5.706 filterGRNAndConnectGenes 3.961 0.495 5.321 addConnections_TF_peak 3.766 0.489 6.890 calculateTFEnrichment 3.515 0.197 5.072 add_TF_gene_correlation 3.194 0.339 5.056 * checking for unstated dependencies in vignettes ... OK * checking package vignettes ... OK * checking re-building of vignette outputs ... OK * checking PDF version of manual ... OK * DONE Status: 1 NOTE See ‘/home/biocbuild/bbs-3.22-bioc/meat/GRaNIE.Rcheck/00check.log’ for details.
GRaNIE.Rcheck/00install.out
############################################################################## ############################################################################## ### ### Running command: ### ### /home/biocbuild/bbs-3.22-bioc/R/bin/R CMD INSTALL GRaNIE ### ############################################################################## ############################################################################## * installing to library ‘/home/biocbuild/bbs-3.22-bioc/R/site-library’ * installing *source* package ‘GRaNIE’ ... ** this is package ‘GRaNIE’ version ‘1.13.0’ ** using staged installation ** R ** byte-compile and prepare package for lazy loading ** help *** installing help indices *** copying figures ** building package indices ** installing vignettes ** testing if installed package can be loaded from temporary location ** testing if installed package can be loaded from final location ** testing if installed package keeps a record of temporary installation path * DONE (GRaNIE)
GRaNIE.Rcheck/GRaNIE-Ex.timings
name | user | system | elapsed | |
AR_classification_wrapper | 0 | 0 | 0 | |
addConnections_TF_peak | 3.766 | 0.489 | 6.890 | |
addConnections_peak_gene | 2.771 | 0.248 | 3.447 | |
addData | 0 | 0 | 0 | |
addSNPData | 7.330 | 1.021 | 10.083 | |
addTFBS | 0 | 0 | 0 | |
add_TF_gene_correlation | 3.194 | 0.339 | 5.056 | |
add_featureVariation | 0 | 0 | 0 | |
build_eGRN_graph | 2.289 | 0.356 | 3.165 | |
calculateCommunitiesEnrichment | 5.846 | 0.662 | 9.432 | |
calculateCommunitiesStats | 2.359 | 0.174 | 3.197 | |
calculateGeneralEnrichment | 5.004 | 0.554 | 7.059 | |
calculateTFEnrichment | 3.515 | 0.197 | 5.072 | |
changeOutputDirectory | 2.285 | 0.110 | 3.177 | |
deleteIntermediateData | 2.763 | 0.206 | 4.169 | |
filterConnectionsForPlotting | 3.196 | 0.151 | 4.900 | |
filterData | 3.382 | 0.297 | 4.285 | |
filterGRNAndConnectGenes | 3.961 | 0.495 | 5.321 | |
generateStatsSummary | 9.386 | 0.514 | 12.589 | |
getCounts | 4.377 | 0.524 | 5.706 | |
getGRNConnections | 3.012 | 0.156 | 3.923 | |
getGRNSummary | 2.240 | 0.190 | 2.849 | |
getParameters | 1.648 | 0.081 | 2.176 | |
getTopNodes | 3.043 | 0.380 | 3.845 | |
initializeGRN | 0.018 | 0.001 | 0.018 | |
loadExampleObject | 1.667 | 0.063 | 2.161 | |
nGenes | 1.664 | 0.075 | 2.147 | |
nPeaks | 1.854 | 0.097 | 2.373 | |
nTFs | 1.879 | 0.250 | 2.539 | |
overlapPeaksAndTFBS | 1.892 | 0.384 | 2.713 | |
performAllNetworkAnalyses | 0 | 0 | 0 | |
plotCommunitiesEnrichment | 4.068 | 0.946 | 5.461 | |
plotCommunitiesStats | 5.285 | 0.329 | 6.414 | |
plotCorrelations | 2.243 | 0.136 | 2.809 | |
plotDiagnosticPlots_TFPeaks | 3.668 | 0.199 | 4.289 | |
plotDiagnosticPlots_peakGene | 5.426 | 1.011 | 6.864 | |
plotGeneralEnrichment | 3.315 | 0.224 | 4.060 | |
plotGeneralGraphStats | 6.043 | 0.387 | 7.371 | |
plotPCA_all | 3.928 | 0.121 | 4.454 | |
plotTFEnrichment | 2.470 | 0.050 | 2.951 | |
plot_stats_connectionSummary | 2.138 | 0.058 | 2.602 | |
visualizeGRN | 2.628 | 0.106 | 3.150 | |