Back to Multiple platform build/check report for BioC 3.22: simplified long |
|
This page was generated on 2025-10-04 12:03 -0400 (Sat, 04 Oct 2025).
Hostname | OS | Arch (*) | R version | Installed pkgs |
---|---|---|---|---|
nebbiolo2 | Linux (Ubuntu 24.04.3 LTS) | x86_64 | 4.5.1 Patched (2025-08-23 r88802) -- "Great Square Root" | 4853 |
lconway | macOS 12.7.1 Monterey | x86_64 | 4.5.1 Patched (2025-09-10 r88807) -- "Great Square Root" | 4640 |
kjohnson3 | macOS 13.7.7 Ventura | arm64 | 4.5.1 Patched (2025-09-10 r88807) -- "Great Square Root" | 4585 |
taishan | Linux (openEuler 24.03 LTS) | aarch64 | 4.5.0 (2025-04-11) -- "How About a Twenty-Six" | 4576 |
Click on any hostname to see more info about the system (e.g. compilers) (*) as reported by 'uname -p', except on Windows and Mac OS X |
Package 758/2341 | Hostname | OS / Arch | INSTALL | BUILD | CHECK | BUILD BIN | ||||||||
FlowSOM 2.17.0 (landing page) Sofie Van Gassen
| nebbiolo2 | Linux (Ubuntu 24.04.3 LTS) / x86_64 | OK | OK | OK | ![]() | ||||||||
lconway | macOS 12.7.1 Monterey / x86_64 | OK | OK | OK | OK | ![]() | ||||||||
kjohnson3 | macOS 13.7.7 Ventura / arm64 | OK | OK | OK | OK | ![]() | ||||||||
taishan | Linux (openEuler 24.03 LTS) / aarch64 | OK | OK | OK | ||||||||||
To the developers/maintainers of the FlowSOM package: - Allow up to 24 hours (and sometimes 48 hours) for your latest push to git@git.bioconductor.org:packages/FlowSOM.git to reflect on this report. See Troubleshooting Build Report for more information. - Use the following Renviron settings to reproduce errors and warnings. - If 'R CMD check' started to fail recently on the Linux builder(s) over a missing dependency, add the missing dependency to 'Suggests:' in your DESCRIPTION file. See Renviron.bioc for more information. |
Package: FlowSOM |
Version: 2.17.0 |
Command: /home/biocbuild/bbs-3.22-bioc/R/bin/R CMD check --install=check:FlowSOM.install-out.txt --library=/home/biocbuild/bbs-3.22-bioc/R/site-library --timings FlowSOM_2.17.0.tar.gz |
StartedAt: 2025-10-03 23:51:36 -0400 (Fri, 03 Oct 2025) |
EndedAt: 2025-10-04 00:01:34 -0400 (Sat, 04 Oct 2025) |
EllapsedTime: 598.8 seconds |
RetCode: 0 |
Status: OK |
CheckDir: FlowSOM.Rcheck |
Warnings: 0 |
############################################################################## ############################################################################## ### ### Running command: ### ### /home/biocbuild/bbs-3.22-bioc/R/bin/R CMD check --install=check:FlowSOM.install-out.txt --library=/home/biocbuild/bbs-3.22-bioc/R/site-library --timings FlowSOM_2.17.0.tar.gz ### ############################################################################## ############################################################################## * using log directory ‘/home/biocbuild/bbs-3.22-bioc/meat/FlowSOM.Rcheck’ * using R version 4.5.1 Patched (2025-08-23 r88802) * using platform: x86_64-pc-linux-gnu * R was compiled by gcc (Ubuntu 13.3.0-6ubuntu2~24.04) 13.3.0 GNU Fortran (Ubuntu 13.3.0-6ubuntu2~24.04) 13.3.0 * running under: Ubuntu 24.04.3 LTS * using session charset: UTF-8 * checking for file ‘FlowSOM/DESCRIPTION’ ... OK * this is package ‘FlowSOM’ version ‘2.17.0’ * package encoding: UTF-8 * checking package namespace information ... OK * checking package dependencies ... OK * checking if this is a source package ... OK * checking if there is a namespace ... OK * checking for hidden files and directories ... OK * checking for portable file names ... OK * checking for sufficient/correct file permissions ... OK * checking whether package ‘FlowSOM’ can be installed ... OK * used C compiler: ‘gcc (Ubuntu 13.3.0-6ubuntu2~24.04) 13.3.0’ * checking installed package size ... OK * checking package directory ... OK * checking ‘build’ directory ... OK * checking DESCRIPTION meta-information ... OK * checking top-level files ... OK * checking for left-over files ... OK * checking index information ... OK * checking package subdirectories ... OK * checking code files for non-ASCII characters ... OK * checking R files for syntax errors ... OK * checking whether the package can be loaded ... OK * checking whether the package can be loaded with stated dependencies ... OK * checking whether the package can be unloaded cleanly ... OK * checking whether the namespace can be loaded with stated dependencies ... OK * checking whether the namespace can be unloaded cleanly ... OK * checking loading without being on the library search path ... OK * checking whether startup messages can be suppressed ... OK * checking dependencies in R code ... OK * checking S3 generic/method consistency ... OK * checking replacement functions ... OK * checking foreign function calls ... OK * checking R code for possible problems ... OK * checking Rd files ... NOTE checkRd: (-1) PlotDimRed.Rd:55: Lost braces 55 | of the dimred default = function(dimred){dimred$Y}.} | ^ * checking Rd metadata ... OK * checking Rd cross-references ... NOTE Non-topic package-anchored link(s) in Rd file 'pipe.Rd': ‘[magrittr:pipe]{%>%}’ See section 'Cross-references' in the 'Writing R Extensions' manual. * checking for missing documentation entries ... OK * checking for code/documentation mismatches ... OK * checking Rd \usage sections ... OK * checking Rd contents ... OK * checking for unstated dependencies in examples ... OK * checking line endings in C/C++/Fortran sources/headers ... OK * checking compiled code ... NOTE Note: information on .o files is not available * checking files in ‘vignettes’ ... OK * checking examples ... OK Examples with CPU (user + system) or elapsed time > 5s user system elapsed FlowSOMmary 50.450 0.468 50.734 PlotDimRed 43.854 0.197 44.009 PlotOutliers 29.186 0.091 29.358 PlotMarker 17.457 0.096 17.554 UpdateMetaclusters 16.310 0.021 16.435 PlotStars 13.898 0.086 13.985 GroupStats 11.755 0.012 11.767 PlotGroups 10.624 0.019 10.644 FlowSOM 10.550 0.066 10.619 QueryMultiple 10.052 0.010 10.129 Plot2DScatters 9.839 0.020 9.850 query_multiple 9.618 0.006 9.625 AddAnnotation 8.177 0.208 8.386 PlotManualBars 7.687 0.015 7.704 GetFlowJoLabels 7.156 0.132 7.289 QueryStarPlot 7.080 0.009 7.090 PlotNode 6.780 0.007 6.788 PlotNumbers 6.593 0.016 6.609 PlotPies 6.532 0.017 6.549 PlotVariable 6.364 0.009 6.373 SaveClustersToFCS 5.897 0.031 5.928 UpdateNodeSize 5.771 0.007 5.790 PlotOverview2D 5.486 0.076 5.581 CountGroups 5.337 0.065 5.404 PlotFlowSOM 5.116 0.032 5.149 MetaclusterMFIs 5.082 0.019 5.102 TestOutliers 5.066 0.010 5.076 PlotLabels 5.031 0.012 5.043 GetFeatures 5.014 0.011 5.025 * checking for unstated dependencies in vignettes ... OK * checking package vignettes ... OK * checking re-building of vignette outputs ... OK * checking PDF version of manual ... OK * DONE Status: 3 NOTEs See ‘/home/biocbuild/bbs-3.22-bioc/meat/FlowSOM.Rcheck/00check.log’ for details.
FlowSOM.Rcheck/00install.out
############################################################################## ############################################################################## ### ### Running command: ### ### /home/biocbuild/bbs-3.22-bioc/R/bin/R CMD INSTALL FlowSOM ### ############################################################################## ############################################################################## * installing to library ‘/home/biocbuild/bbs-3.22-bioc/R/site-library’ * installing *source* package ‘FlowSOM’ ... ** this is package ‘FlowSOM’ version ‘2.17.0’ ** using staged installation ** libs using C compiler: ‘gcc (Ubuntu 13.3.0-6ubuntu2~24.04) 13.3.0’ gcc -std=gnu2x -I"/home/biocbuild/bbs-3.22-bioc/R/include" -DNDEBUG -I/usr/local/include -fpic -g -O2 -Wall -Werror=format-security -c som.c -o som.o gcc -std=gnu2x -shared -L/home/biocbuild/bbs-3.22-bioc/R/lib -L/usr/local/lib -o FlowSOM.so som.o -L/home/biocbuild/bbs-3.22-bioc/R/lib -lR installing to /home/biocbuild/bbs-3.22-bioc/R/site-library/00LOCK-FlowSOM/00new/FlowSOM/libs ** R ** inst ** byte-compile and prepare package for lazy loading ** help *** installing help indices ** building package indices ** installing vignettes ** testing if installed package can be loaded from temporary location ** checking absolute paths in shared objects and dynamic libraries ** testing if installed package can be loaded from final location ** testing if installed package keeps a record of temporary installation path * DONE (FlowSOM)
FlowSOM.Rcheck/FlowSOM-Ex.timings
name | user | system | elapsed | |
AddAnnotation | 8.177 | 0.208 | 8.386 | |
AggregateFlowFrames | 0.063 | 0.012 | 0.076 | |
BuildMST | 1.262 | 0.024 | 1.287 | |
BuildSOM | 1.028 | 0.009 | 1.038 | |
CountGroups | 5.337 | 0.065 | 5.404 | |
FMeasure | 0.001 | 0.000 | 0.002 | |
FlowSOM | 10.550 | 0.066 | 10.619 | |
FlowSOMSubset | 3.985 | 0.035 | 4.021 | |
FlowSOMmary | 50.450 | 0.468 | 50.734 | |
GetChannels | 0.025 | 0.002 | 0.028 | |
GetClusterMFIs | 4.007 | 0.023 | 4.031 | |
GetClusterPercentagesPositive | 3.923 | 0.020 | 3.944 | |
GetClusters | 4.168 | 0.022 | 4.192 | |
GetCounts | 3.87 | 0.01 | 3.88 | |
GetFeatures | 5.014 | 0.011 | 5.025 | |
GetFlowJoLabels | 7.156 | 0.132 | 7.289 | |
GetMFIs | 4.028 | 0.014 | 4.043 | |
GetMarkers | 0.026 | 0.000 | 0.027 | |
GetMetaclusterCVs | 4.162 | 0.011 | 4.174 | |
GetMetaclusterMFIs | 4.404 | 0.010 | 4.414 | |
GetMetaclusterPercentagesPositive | 4.148 | 0.024 | 4.172 | |
GetMetaclusters | 4.031 | 0.027 | 4.058 | |
GetPercentages | 4.179 | 0.009 | 4.188 | |
GroupStats | 11.755 | 0.012 | 11.767 | |
Initialize_KWSP | 0.004 | 0.000 | 0.004 | |
Initialize_PCA | 0 | 0 | 0 | |
MetaClustering | 2.954 | 0.021 | 2.975 | |
MetaclusterCVs | 4.262 | 0.012 | 4.275 | |
MetaclusterMFIs | 5.082 | 0.019 | 5.102 | |
NClusters | 4.758 | 0.009 | 4.769 | |
NMetaclusters | 4.831 | 0.009 | 4.850 | |
NewData | 3.749 | 0.062 | 3.813 | |
Plot2DScatters | 9.839 | 0.020 | 9.850 | |
PlotCenters | 1.071 | 0.001 | 1.071 | |
PlotClusters2D | 0.986 | 0.000 | 0.986 | |
PlotDimRed | 43.854 | 0.197 | 44.009 | |
PlotFileScatters | 1.118 | 0.016 | 1.134 | |
PlotFlowSOM | 5.116 | 0.032 | 5.149 | |
PlotGroups | 10.624 | 0.019 | 10.644 | |
PlotLabels | 5.031 | 0.012 | 5.043 | |
PlotManualBars | 7.687 | 0.015 | 7.704 | |
PlotMarker | 17.457 | 0.096 | 17.554 | |
PlotNode | 6.780 | 0.007 | 6.788 | |
PlotNumbers | 6.593 | 0.016 | 6.609 | |
PlotOutliers | 29.186 | 0.091 | 29.358 | |
PlotOverview2D | 5.486 | 0.076 | 5.581 | |
PlotPies | 6.532 | 0.017 | 6.549 | |
PlotSD | 1.953 | 0.004 | 1.957 | |
PlotStars | 13.898 | 0.086 | 13.985 | |
PlotVariable | 6.364 | 0.009 | 6.373 | |
Purity | 0.001 | 0.000 | 0.001 | |
QueryMultiple | 10.052 | 0.010 | 10.129 | |
QueryStarPlot | 7.080 | 0.009 | 7.090 | |
ReadInput | 3.289 | 0.051 | 3.341 | |
SaveClustersToFCS | 5.897 | 0.031 | 5.928 | |
TestOutliers | 5.066 | 0.010 | 5.076 | |
UpdateMetaclusters | 16.310 | 0.021 | 16.435 | |
UpdateNodeSize | 5.771 | 0.007 | 5.790 | |
get_channels | 0.044 | 0.002 | 0.046 | |
get_markers | 0.028 | 0.002 | 0.030 | |
metaClustering_consensus | 2.590 | 0.026 | 2.616 | |
plotStarLegend | 0.435 | 0.000 | 0.436 | |
print.FlowSOM | 4.168 | 0.011 | 4.180 | |
query_multiple | 9.618 | 0.006 | 9.625 | |