Back to Multiple platform build/check report for BioC 3.22:   simplified   long
ABC[D]EFGHIJKLMNOPQRSTUVWXYZ

This page was generated on 2025-10-04 12:06 -0400 (Sat, 04 Oct 2025).

HostnameOSArch (*)R versionInstalled pkgs
nebbiolo2Linux (Ubuntu 24.04.3 LTS)x86_644.5.1 Patched (2025-08-23 r88802) -- "Great Square Root" 4853
lconwaymacOS 12.7.1 Montereyx86_644.5.1 Patched (2025-09-10 r88807) -- "Great Square Root" 4640
kjohnson3macOS 13.7.7 Venturaarm644.5.1 Patched (2025-09-10 r88807) -- "Great Square Root" 4585
taishanLinux (openEuler 24.03 LTS)aarch644.5.0 (2025-04-11) -- "How About a Twenty-Six" 4576
Click on any hostname to see more info about the system (e.g. compilers)      (*) as reported by 'uname -p', except on Windows and Mac OS X

Package 518/2341HostnameOS / ArchINSTALLBUILDCHECKBUILD BIN
DAPAR 1.41.0  (landing page)
Samuel Wieczorek
Snapshot Date: 2025-10-03 13:45 -0400 (Fri, 03 Oct 2025)
git_url: https://git.bioconductor.org/packages/DAPAR
git_branch: devel
git_last_commit: c47beab
git_last_commit_date: 2025-04-15 10:53:48 -0400 (Tue, 15 Apr 2025)
nebbiolo2Linux (Ubuntu 24.04.3 LTS) / x86_64  OK    OK    OK  UNNEEDED, same version is already published
lconwaymacOS 12.7.1 Monterey / x86_64  OK    OK    OK    OK  UNNEEDED, same version is already published
kjohnson3macOS 13.7.7 Ventura / arm64  OK    OK    OK    OK  UNNEEDED, same version is already published
taishanLinux (openEuler 24.03 LTS) / aarch64  OK    OK    OK  


CHECK results for DAPAR on kjohnson3

To the developers/maintainers of the DAPAR package:
- Allow up to 24 hours (and sometimes 48 hours) for your latest push to git@git.bioconductor.org:packages/DAPAR.git to reflect on this report. See Troubleshooting Build Report for more information.
- Use the following Renviron settings to reproduce errors and warnings.
- If 'R CMD check' started to fail recently on the Linux builder(s) over a missing dependency, add the missing dependency to 'Suggests:' in your DESCRIPTION file. See Renviron.bioc for more information.

raw results


Summary

Package: DAPAR
Version: 1.41.0
Command: /Library/Frameworks/R.framework/Resources/bin/R CMD check --install=check:DAPAR.install-out.txt --library=/Library/Frameworks/R.framework/Resources/library --no-vignettes --timings DAPAR_1.41.0.tar.gz
StartedAt: 2025-10-03 19:03:08 -0400 (Fri, 03 Oct 2025)
EndedAt: 2025-10-03 19:07:50 -0400 (Fri, 03 Oct 2025)
EllapsedTime: 282.3 seconds
RetCode: 0
Status:   OK  
CheckDir: DAPAR.Rcheck
Warnings: 0

Command output

##############################################################################
##############################################################################
###
### Running command:
###
###   /Library/Frameworks/R.framework/Resources/bin/R CMD check --install=check:DAPAR.install-out.txt --library=/Library/Frameworks/R.framework/Resources/library --no-vignettes --timings DAPAR_1.41.0.tar.gz
###
##############################################################################
##############################################################################


* using log directory ‘/Users/biocbuild/bbs-3.22-bioc/meat/DAPAR.Rcheck’
* using R version 4.5.1 Patched (2025-09-10 r88807)
* using platform: aarch64-apple-darwin20
* R was compiled by
    Apple clang version 16.0.0 (clang-1600.0.26.6)
    GNU Fortran (GCC) 14.2.0
* running under: macOS Ventura 13.7.7
* using session charset: UTF-8
* using option ‘--no-vignettes’
* checking for file ‘DAPAR/DESCRIPTION’ ... OK
* checking extension type ... Package
* this is package ‘DAPAR’ version ‘1.41.0’
* package encoding: UTF-8
* checking package namespace information ... OK
* checking package dependencies ... INFO
Vignette dependency required without any vignettes: ‘knitr’
* checking if this is a source package ... OK
* checking if there is a namespace ... OK
* checking for hidden files and directories ... OK
* checking for portable file names ... OK
* checking for sufficient/correct file permissions ... OK
* checking whether package ‘DAPAR’ can be installed ... OK
* checking installed package size ... OK
* checking package directory ... OK
* checking DESCRIPTION meta-information ... OK
* checking top-level files ... OK
* checking for left-over files ... OK
* checking index information ... OK
* checking package subdirectories ... OK
* checking code files for non-ASCII characters ... OK
* checking R files for syntax errors ... OK
* checking whether the package can be loaded ... OK
* checking whether the package can be loaded with stated dependencies ... OK
* checking whether the package can be unloaded cleanly ... OK
* checking whether the namespace can be loaded with stated dependencies ... OK
* checking whether the namespace can be unloaded cleanly ... OK
* checking whether startup messages can be suppressed ... OK
* checking dependencies in R code ... OK
* checking S3 generic/method consistency ... OK
* checking replacement functions ... OK
* checking foreign function calls ... OK
* checking R code for possible problems ... NOTE
Check_Dataset_Validity: no visible global function definition for
  ‘exprs’
OWAnova: no visible global function definition for ‘aov’
aggregateIterParallel: no visible binding for global variable ‘cond’
averageIntensities: no visible binding for global variable ‘condition’
averageIntensities: no visible binding for global variable ‘feature’
averageIntensities: no visible binding for global variable ‘intensity’
createMSnset: no visible global function definition for
  ‘installed.packages’
createMSnset: no visible binding for global variable ‘Prostar.loc’
createMSnset2: no visible global function definition for
  ‘installed.packages’
createMSnset2: no visible binding for global variable ‘Prostar.loc’
diffAnaVolcanoplot_rCharts: no visible binding for global variable ‘x’
diffAnaVolcanoplot_rCharts: no visible binding for global variable ‘y’
diffAnaVolcanoplot_rCharts: no visible binding for global variable ‘g’
display.CC.visNet: no visible binding for global variable
  ‘layout_nicely’
getTextForGOAnalysis: no visible binding for global variable
  ‘textGOParams’
getTextForGOAnalysis: no visible binding for global variable ‘input’
globalAdjPval: no visible global function definition for ‘stack’
heatmapForMissingValues: no visible binding for global variable ‘par’
limmaCompleteTest: no visible binding for global variable ‘A’
limmaCompleteTest: no visible binding for global variable ‘B’
limmaCompleteTest: no visible binding for global variable ‘P.Value’
pepa.test: no visible global function definition for ‘nodes<-’
testAnovaModels : <anonymous>: no visible global function definition
  for ‘TukeyHSD’
visualizeClusters: no visible binding for global variable
  ‘adjusted_pvalues’
visualizeClusters: no visible binding for global variable ‘Condition’
visualizeClusters: no visible binding for global variable ‘Intensity’
visualizeClusters: no visible binding for global variable
  ‘FDR_threshold’
visualizeClusters: no visible binding for global variable ‘feature’
wrapperClassic1wayAnova: no visible binding for global variable
  ‘Pr(>F)1’
wrapperRunClustering: no visible global function definition for ‘str_c’
Undefined global functions or variables:
  A B Condition FDR_threshold Intensity P.Value Pr(>F)1 Prostar.loc
  TukeyHSD adjusted_pvalues aov cond condition exprs feature g input
  installed.packages intensity layout_nicely nodes<- par stack str_c
  textGOParams x y
Consider adding
  importFrom("graphics", "par")
  importFrom("stats", "TukeyHSD", "aov")
  importFrom("utils", "installed.packages", "stack")
to your NAMESPACE file.
* checking Rd files ... OK
* checking Rd metadata ... OK
* checking Rd cross-references ... OK
* checking for missing documentation entries ... OK
* checking for code/documentation mismatches ... OK
* checking Rd \usage sections ... OK
* checking Rd contents ... OK
* checking for unstated dependencies in examples ... OK
* checking examples ... OK
Examples with CPU (user + system) or elapsed time > 5s
                                   user system elapsed
wrapper.compareNormalizationD_HC 17.547 11.059  83.315
wrapper.dapar.impute.mi           4.701  0.555   5.349
barplotEnrichGO_HC                3.348  0.562   5.412
* checking for unstated dependencies in ‘tests’ ... OK
* checking tests ...
  Running ‘testthat.R’
 OK
* checking PDF version of manual ... OK
* DONE

Status: 1 NOTE
See
  ‘/Users/biocbuild/bbs-3.22-bioc/meat/DAPAR.Rcheck/00check.log’
for details.


Installation output

DAPAR.Rcheck/00install.out

##############################################################################
##############################################################################
###
### Running command:
###
###   /Library/Frameworks/R.framework/Resources/bin/R CMD INSTALL DAPAR
###
##############################################################################
##############################################################################


* installing to library ‘/Library/Frameworks/R.framework/Versions/4.5-arm64/Resources/library’
* installing *source* package ‘DAPAR’ ...
** this is package ‘DAPAR’ version ‘1.41.0’
** using staged installation
** R
** inst
** byte-compile and prepare package for lazy loading
** help
*** installing help indices
** building package indices
** testing if installed package can be loaded from temporary location
** testing if installed package can be loaded from final location
** testing if installed package keeps a record of temporary installation path
* DONE (DAPAR)

Tests output

DAPAR.Rcheck/tests/testthat.Rout


R version 4.5.1 Patched (2025-09-10 r88807) -- "Great Square Root"
Copyright (C) 2025 The R Foundation for Statistical Computing
Platform: aarch64-apple-darwin20

R is free software and comes with ABSOLUTELY NO WARRANTY.
You are welcome to redistribute it under certain conditions.
Type 'license()' or 'licence()' for distribution details.

R is a collaborative project with many contributors.
Type 'contributors()' for more information and
'citation()' on how to cite R or R packages in publications.

Type 'demo()' for some demos, 'help()' for on-line help, or
'help.start()' for an HTML browser interface to help.
Type 'q()' to quit R.

> library(testthat)
> library(DAPAR)

This is the 'DAPAR' version 1.41.0.

  To get started, visit
    http://www.prostar-proteomics.org/


> 
> test_check("DAPAR")

 Iterations: 

 1 / 1  - Imputation MNAR OK - 
Imputation MCAR in progress - 
3 % - 6 % - 9 % - 12 % - 15 % - 18 % - 21 % - 24 % - 27 % - 30 % - 33 % - 36 % - 39 % - 42 % - 45 % - 48 % - 51 % - 54 % - 57 % - 60 % - 63 % - 66 % - 69 % - 72 % - 75 % - 78 % - 81 % - 84 % - 87 % - 90 % - 93 % - 96 % - 99 % - 
 Iterations: 

 1 / 1  - Imputation MNAR OK - 
Imputation MCAR in progress - 
3 % - 6 % - 9 % - 12 % - 15 % - 18 % - 21 % - 24 % - 27 % - 30 % - 33 % - 36 % - 39 % - 42 % - 45 % - 48 % - 51 % - 54 % - 57 % - 60 % - 63 % - 66 % - 69 % - 72 % - 75 % - 78 % - 81 % - 84 % - 87 % - 90 % - 93 % - 96 % - 99 % - 
 Imputation in condition  1 ...
 In progress: 10 % - 20 % - 30 % - 40 % - 50 % - 60 % - 70 % - 80 % - 90 % - 100 % - 
 Imputation in condition  2 ...
 In progress: 10 % - 20 % - 30 % - 40 % - 50 % - 60 % - 70 % - 80 % - 90 % - 100 % - [ FAIL 0 | WARN 17 | SKIP 0 | PASS 66 ]

[ FAIL 0 | WARN 17 | SKIP 0 | PASS 66 ]
> 
> proc.time()
   user  system elapsed 
 12.510   0.665  13.478 

Example timings

DAPAR.Rcheck/DAPAR-Ex.timings

nameusersystemelapsed
AggregateMetacell0.2400.0060.248
BuildAdjacencyMatrix0.1950.0020.199
BuildColumnToProteinDataset0.2140.0030.216
BuildMetaCell0.2520.0110.265
CVDistD_HC1.1140.0321.157
Children0.0020.0000.002
CountPep0.1980.0030.204
ExtendPalette0.0080.0010.009
GOAnalysisSave000
GetCC1.0910.0061.127
GetColorsForConditions0.1790.0020.186
GetDetailedNbPeptides0.1880.0020.192
GetDetailedNbPeptidesUsed000
GetIndices_BasedOnConditions0.1870.0020.189
GetIndices_MetacellFiltering0.1910.0020.194
GetIndices_WholeLine0.1990.0020.202
GetIndices_WholeMatrix0.2060.0030.209
GetKeyId0.1940.0020.197
GetMatAdj0.2160.0020.223
GetMetacell000
GetMetacellTags0.1880.0020.190
GetNbPeptidesUsed0.1880.0020.190
GetNbTags000
GetSoftAvailables000
GetTypeofData0.1860.0020.188
Get_AllComparisons0.1080.0050.116
GlobalQuantileAlignment0.2050.0030.209
GraphPepProt0.1970.0020.199
LH0000
LH0.lm000
LH1000
LH1.lm0.0000.0010.000
LOESS0.4840.0060.495
MeanCentering0.5950.0080.606
MetaCellFiltering0.2230.0020.225
MetacellFilteringScope000
Metacell_DIA_NN0.1730.0040.179
Metacell_generic0.1620.0040.167
Metacell_maxquant0.1800.0070.189
Metacell_proline0.1620.0050.167
NumericalFiltering0.2050.0020.206
NumericalgetIndicesOfLinesToRemove0.1970.0020.199
OWAnova0.0030.0000.002
QuantileCentering0.1950.0020.196
SetCC1.0020.0051.015
SetMatAdj0.2020.0020.207
Set_POV_MEC_tags0.1940.0010.196
StringBasedFiltering0.2140.0020.218
StringBasedFiltering20.2070.0020.210
SumByColumns0.4740.0180.493
SymFilteringOperators000
UpdateMetacellAfterImputation0.1880.0010.194
aggregateIter0.2310.0020.240
aggregateIterParallel000
aggregateMean0.2220.0020.226
aggregateSum0.2280.0030.234
aggregateTopn0.2240.0020.226
applyAnovasOnProteins0.0700.0010.073
averageIntensities0.3270.0580.390
barplotEnrichGO_HC3.3480.5625.412
barplotGroupGO_HC2.2650.2422.827
boxPlotD_HC0.1010.0210.144
buildGraph0.7860.0170.839
check.conditions0.1790.0020.187
check.design0.1850.0020.187
checkClusterability0.8460.5261.735
classic1wayAnova000
compareNormalizationD_HC0.0670.0140.082
compute.selection.table0.2320.0370.281
compute_t_tests0.3280.1020.466
corrMatrixD_HC0.2060.0270.239
createMSnset0.6340.0500.693
createMSnset20.6300.0500.689
dapar_hc_ExportMenu0.0380.0460.088
dapar_hc_chart0.0190.0160.036
deleteLinesFromIndices0.2340.0090.242
densityPlotD_HC1.5190.7522.324
diffAnaComputeAdjustedPValues0.1280.0160.147
diffAnaComputeFDR000
diffAnaGetSignificant0.1580.0290.193
diffAnaSave0.1550.0320.192
diffAnaVolcanoplot0.1060.0130.121
diffAnaVolcanoplot_rCharts0.2360.0640.307
display.CC.visNet0.7820.0350.864
enrich_GO2.1210.2752.698
finalizeAggregation000
findMECBlock0.2150.0060.222
formatHSDResults000
formatLimmaResult0.1080.0130.121
formatPHResults000
formatPHTResults000
fudge2LRT000
get.pep.prot.cc0.7330.0100.769
getDesignLevel0.1760.0020.177
getIndicesConditions0.1740.0020.178
getIndicesOfLinesToRemove0.1850.0070.194
getListNbValuesInLines0.1980.0020.201
getNumberOf0.2120.0050.217
getNumberOfEmptyLines0.2010.0040.208
getPourcentageOfMV0.1960.0050.201
getProcessingInfo0.2080.0020.216
getProteinsStats0.2120.0070.227
getQuantile4Imp0.0660.0020.067
getTextForAggregation0.0000.0000.001
getTextForAnaDiff000
getTextForFiltering000
getTextForGOAnalysis0.0010.0000.000
getTextForHypothesisTest000
getTextForNewDataset0.0020.0000.001
getTextForNormalization000
getTextForpeptideImputation000
getTextForproteinImputation000
globalAdjPval0.2700.0210.302
group_GO2.6900.2533.006
hc_logFC_DensityPlot0.4050.1430.578
hc_mvTypePlot20.4780.1280.623
heatmapD0.3040.0240.342
heatmapForMissingValues0.1020.0100.114
histPValue_HC0.0930.0340.133
impute.pa20.2250.0090.235
inner.aggregate.iter0.2210.0140.239
inner.aggregate.topn0.2630.0100.296
inner.mean0.2140.0080.233
inner.sum0.2360.0090.247
is.subset000
limmaCompleteTest0.5550.0290.602
listSheets000
make.contrast0.1930.0030.196
make.design.10.1890.0020.192
make.design.20.1900.0030.192
make.design.30.1910.0030.194
make.design0.1950.0030.198
match.metacell0.2180.0060.228
metacell.def0.0010.0010.002
metacellHisto_HC0.2320.0310.263
metacellPerLinesHistoPerCondition_HC0.3020.0620.372
metacellPerLinesHisto_HC0.3680.1520.537
metacombine0.1060.0080.118
mvImage1.3790.0751.503
my_hc_ExportMenu0.0980.0910.200
my_hc_chart0.0940.0810.183
nonzero0.0360.0010.038
normalizeMethods.dapar000
pepa.test0.2450.0060.254
pkgs.require0.0010.0000.001
plotJitter0.8120.0170.851
plotJitter_rCharts0.7500.0310.880
plotPCA_Eigen0.2140.0140.371
plotPCA_Eigen_hc0.1980.0030.204
plotPCA_Ind0.2160.0030.224
plotPCA_Var0.2090.0020.211
postHocTest0.0000.0010.000
proportionConRev_HC0.0270.0280.059
rbindMSnset0.2560.0150.279
reIntroduceMEC0.2540.0100.270
readExcel0.0010.0000.000
removeLines0.2170.0100.234
samLRT000
saveParameters0.1920.0040.203
scatterplotEnrichGO_HC2.9040.2653.256
search.metacell.tags0.0040.0010.005
separateAdjPval0.1240.0050.130
splitAdjacencyMat0.2390.0050.265
test.design0.2470.0020.250
testAnovaModels0.0930.0050.100
thresholdpval4fdr000
translatedRandomBeta0.0020.0040.008
univ_AnnotDbPkg0.1340.0370.180
violinPlotD0.2220.0130.241
visualizeClusters0.4660.0761.271
vsn0.2670.0120.355
wrapper.CVDistD_HC1.1480.4441.671
wrapper.compareNormalizationD_HC17.54711.05983.315
wrapper.corrMatrixD_HC0.2050.0180.249
wrapper.dapar.impute.mi4.7010.5555.349
wrapper.heatmapD0.2540.0100.266
wrapper.impute.KNN0.1960.0110.218
wrapper.impute.detQuant0.2220.0180.245
wrapper.impute.fixedValue0.2050.0190.228
wrapper.impute.mle0.1940.0090.205
wrapper.impute.pa0.0700.0110.083
wrapper.impute.pa20.1960.0120.212
wrapper.impute.slsa0.2390.0250.270
wrapper.mvImage0.0730.0140.091
wrapper.normalizeD0.2160.0050.221
wrapper.pca0.0740.0120.089
wrapperCalibrationPlot0.0960.0160.119
wrapperClassic1wayAnova000
wrapperRunClustering1.5350.1981.800
write.excel0.2910.0440.344
writeMSnsetToCSV0.1930.0110.206
writeMSnsetToExcel0.3640.0800.442