Back to Multiple platform build/check report for BioC 3.22:   simplified   long
A[B]CDEFGHIJKLMNOPQRSTUVWXYZ

This page was generated on 2025-10-06 12:03 -0400 (Mon, 06 Oct 2025).

HostnameOSArch (*)R versionInstalled pkgs
nebbiolo2Linux (Ubuntu 24.04.3 LTS)x86_644.5.1 Patched (2025-08-23 r88802) -- "Great Square Root" 4853
lconwaymacOS 12.7.1 Montereyx86_644.5.1 Patched (2025-09-10 r88807) -- "Great Square Root" 4640
kjohnson3macOS 13.7.7 Venturaarm644.5.1 Patched (2025-09-10 r88807) -- "Great Square Root" 4585
taishanLinux (openEuler 24.03 LTS)aarch644.5.0 (2025-04-11) -- "How About a Twenty-Six" 4576
Click on any hostname to see more info about the system (e.g. compilers)      (*) as reported by 'uname -p', except on Windows and Mac OS X

Package 219/2341HostnameOS / ArchINSTALLBUILDCHECKBUILD BIN
BioNAR 1.11.0  (landing page)
Anatoly Sorokin
Snapshot Date: 2025-10-05 13:45 -0400 (Sun, 05 Oct 2025)
git_url: https://git.bioconductor.org/packages/BioNAR
git_branch: devel
git_last_commit: ac4d792
git_last_commit_date: 2025-04-15 12:58:11 -0400 (Tue, 15 Apr 2025)
nebbiolo2Linux (Ubuntu 24.04.3 LTS) / x86_64  OK    OK    OK  UNNEEDED, same version is already published
lconwaymacOS 12.7.1 Monterey / x86_64  OK    OK    OK    OK  UNNEEDED, same version is already published
kjohnson3macOS 13.7.7 Ventura / arm64  OK    OK    OK    OK  UNNEEDED, same version is already published
taishanLinux (openEuler 24.03 LTS) / aarch64  OK    OK    OK  


CHECK results for BioNAR on nebbiolo2

To the developers/maintainers of the BioNAR package:
- Allow up to 24 hours (and sometimes 48 hours) for your latest push to git@git.bioconductor.org:packages/BioNAR.git to reflect on this report. See Troubleshooting Build Report for more information.
- Use the following Renviron settings to reproduce errors and warnings.
- If 'R CMD check' started to fail recently on the Linux builder(s) over a missing dependency, add the missing dependency to 'Suggests:' in your DESCRIPTION file. See Renviron.bioc for more information.

raw results


Summary

Package: BioNAR
Version: 1.11.0
Command: /home/biocbuild/bbs-3.22-bioc/R/bin/R CMD check --install=check:BioNAR.install-out.txt --library=/home/biocbuild/bbs-3.22-bioc/R/site-library --timings BioNAR_1.11.0.tar.gz
StartedAt: 2025-10-05 21:38:57 -0400 (Sun, 05 Oct 2025)
EndedAt: 2025-10-05 21:49:36 -0400 (Sun, 05 Oct 2025)
EllapsedTime: 638.9 seconds
RetCode: 0
Status:   OK  
CheckDir: BioNAR.Rcheck
Warnings: 0

Command output

##############################################################################
##############################################################################
###
### Running command:
###
###   /home/biocbuild/bbs-3.22-bioc/R/bin/R CMD check --install=check:BioNAR.install-out.txt --library=/home/biocbuild/bbs-3.22-bioc/R/site-library --timings BioNAR_1.11.0.tar.gz
###
##############################################################################
##############################################################################


* using log directory ‘/home/biocbuild/bbs-3.22-bioc/meat/BioNAR.Rcheck’
* using R version 4.5.1 Patched (2025-08-23 r88802)
* using platform: x86_64-pc-linux-gnu
* R was compiled by
    gcc (Ubuntu 13.3.0-6ubuntu2~24.04) 13.3.0
    GNU Fortran (Ubuntu 13.3.0-6ubuntu2~24.04) 13.3.0
* running under: Ubuntu 24.04.3 LTS
* using session charset: UTF-8
* checking for file ‘BioNAR/DESCRIPTION’ ... OK
* this is package ‘BioNAR’ version ‘1.11.0’
* package encoding: UTF-8
* checking package namespace information ... OK
* checking package dependencies ... OK
* checking if this is a source package ... OK
* checking if there is a namespace ... OK
* checking for hidden files and directories ... OK
* checking for portable file names ... OK
* checking for sufficient/correct file permissions ... OK
* checking whether package ‘BioNAR’ can be installed ... OK
* checking installed package size ... INFO
  installed size is  6.8Mb
  sub-directories of 1Mb or more:
    extdata   6.1Mb
* checking package directory ... OK
* checking ‘build’ directory ... OK
* checking DESCRIPTION meta-information ... OK
* checking top-level files ... OK
* checking for left-over files ... OK
* checking index information ... OK
* checking package subdirectories ... OK
* checking code files for non-ASCII characters ... OK
* checking R files for syntax errors ... OK
* checking whether the package can be loaded ... OK
* checking whether the package can be loaded with stated dependencies ... OK
* checking whether the package can be unloaded cleanly ... OK
* checking whether the namespace can be loaded with stated dependencies ... OK
* checking whether the namespace can be unloaded cleanly ... OK
* checking loading without being on the library search path ... OK
* checking dependencies in R code ... NOTE
Package in Depends field not imported from: ‘Rdpack’
  These packages need to be imported from (in the NAMESPACE file)
  for when this namespace is loaded but not attached.
There are ::: calls to the package's namespace in its code. A package
  almost never needs to use ::: for its own objects:
  ‘addNoise’ ‘gofs’ ‘highlightRate’ ‘plotSigmoid’
* checking S3 generic/method consistency ... OK
* checking replacement functions ... OK
* checking foreign function calls ... OK
* checking R code for possible problems ... OK
* checking Rd files ... OK
* checking Rd metadata ... OK
* checking Rd cross-references ... NOTE
Unknown package ‘clusterCons’ in Rd xrefs
* checking for missing documentation entries ... OK
* checking for code/documentation mismatches ... OK
* checking Rd \usage sections ... OK
* checking Rd contents ... OK
* checking for unstated dependencies in examples ... OK
* checking contents of ‘data’ directory ... OK
* checking data for non-ASCII characters ... OK
* checking LazyData ... OK
* checking data for ASCII and uncompressed saves ... OK
* checking files in ‘vignettes’ ... OK
* checking examples ... OK
Examples with CPU (user + system) or elapsed time > 5s
                           user system elapsed
clusteringSummary        15.530  0.043  15.821
plotEntropy              11.927  0.203  12.270
calcEntropy              11.770  0.250  13.006
getEntropy               10.684  0.204  11.067
annotateTopOntoOVG       10.014  0.197  10.765
addEdgeAtts               9.899  0.188  12.196
getCentralityMatrix       9.638  0.333  10.194
getGraphCentralityECDF    8.919  0.094   9.076
runPermDisease            7.852  0.009   8.137
calcAllClustering         6.553  0.020   7.224
annotateSCHanno           6.002  0.050   6.487
normModularity            5.477  0.145   5.778
calcSparsness             5.551  0.016   5.769
annotateGoBP              5.141  0.230   5.844
annotateGOont             4.878  0.227   6.191
FitDegree                 1.066  0.059   7.568
getRandomGraphCentrality  0.607  0.050  15.718
* checking for unstated dependencies in ‘tests’ ... OK
* checking tests ...
  Running ‘testthat.R’
 OK
* checking for unstated dependencies in vignettes ... OK
* checking package vignettes ... OK
* checking re-building of vignette outputs ... OK
* checking PDF version of manual ... OK
* DONE

Status: 2 NOTEs
See
  ‘/home/biocbuild/bbs-3.22-bioc/meat/BioNAR.Rcheck/00check.log’
for details.


Installation output

BioNAR.Rcheck/00install.out

##############################################################################
##############################################################################
###
### Running command:
###
###   /home/biocbuild/bbs-3.22-bioc/R/bin/R CMD INSTALL BioNAR
###
##############################################################################
##############################################################################


* installing to library ‘/home/biocbuild/bbs-3.22-bioc/R/site-library’
* installing *source* package ‘BioNAR’ ...
** this is package ‘BioNAR’ version ‘1.11.0’
** using staged installation
** R
** data
*** moving datasets to lazyload DB
** inst
** byte-compile and prepare package for lazy loading
** help
*** installing help indices
** building package indices
** installing vignettes
** testing if installed package can be loaded from temporary location
** testing if installed package can be loaded from final location
** testing if installed package keeps a record of temporary installation path
* DONE (BioNAR)

Tests output

BioNAR.Rcheck/tests/testthat.Rout


R version 4.5.1 Patched (2025-08-23 r88802) -- "Great Square Root"
Copyright (C) 2025 The R Foundation for Statistical Computing
Platform: x86_64-pc-linux-gnu

R is free software and comes with ABSOLUTELY NO WARRANTY.
You are welcome to redistribute it under certain conditions.
Type 'license()' or 'licence()' for distribution details.

R is a collaborative project with many contributors.
Type 'contributors()' for more information and
'citation()' on how to cite R or R packages in publications.

Type 'demo()' for some demos, 'help()' for on-line help, or
'help.start()' for an HTML browser interface to help.
Type 'q()' to quit R.

> library(testthat)
> library(BioNAR)
Loading required package: igraph

Attaching package: 'igraph'

The following object is masked from 'package:testthat':

    compare

The following objects are masked from 'package:stats':

    decompose, spectrum

The following object is masked from 'package:base':

    union

Loading required package: poweRlaw
Loading required package: latex2exp
Loading required package: RSpectra
Loading required package: Rdpack



Attaching package: 'BioNAR'

The following object is masked from 'package:igraph':

    permute

> 
> test_check("BioNAR")
[ FAIL 0 | WARN 0 | SKIP 2 | PASS 125 ]

══ Skipped tests (2) ═══════════════════════════════════════════════════════════
• On CRAN (2): 'test_bridgeness.R:38:5', 'test_bridgeness.R:81:5'

[ FAIL 0 | WARN 0 | SKIP 2 | PASS 125 ]
> 
> proc.time()
   user  system elapsed 
 44.449   1.985  64.583 

Example timings

BioNAR.Rcheck/BioNAR-Ex.timings

nameusersystemelapsed
FitDegree1.0660.0597.568
addEdgeAtts 9.899 0.18812.196
annotateGOont4.8780.2276.191
annotateGeneNames0.2660.0070.442
annotateGoBP5.1410.2305.844
annotateGoCC4.1460.0444.441
annotateGoMF4.2390.0564.607
annotatePresynaptic2.2100.1072.592
annotateSCHanno6.0020.0506.487
annotateTopOntoOVG10.014 0.19710.765
annotateVertex0.0040.0010.005
applpMatrixToGraph0.0020.0000.006
buildNetwork0.0040.0000.004
calcAllClustering6.5530.0207.224
calcBridgeness0.0760.0110.088
calcCentrality0.1020.0150.130
calcCentralityExternalDistances0.5650.0530.625
calcCentralityInternalDistances0.5150.0130.553
calcClustering0.0040.0000.005
calcDiseasePairs0.5180.0420.560
calcEntropy11.770 0.25013.006
calcMembership0.0080.0000.007
calcReclusterMatrix0.0490.0010.049
calcSparsness5.5510.0165.769
clusterORA0.4310.0020.489
clusteringSummary15.530 0.04315.821
degreeBinnedGDAs0.2860.0240.310
escapeAnnotation0.0010.0000.000
evalCentralitySignificance0.5590.0490.607
findLCC0.0040.0010.004
getAnnotationList0.0720.0020.094
getAnnotationVertexList0.0790.0020.093
getBridgeness0.0660.0000.067
getCentralityMatrix 9.638 0.33310.194
getClusterSubgraphByID0.0230.0010.024
getClustering0.0240.0010.025
getCommunityGraph0.0260.0000.026
getDType000
getDYNAMO0.0370.0010.038
getDiseases000
getEntropy10.684 0.20411.067
getEntropyRate0.0050.0000.005
getGNP0.0200.0010.021
getGraphCentralityECDF8.9190.0949.076
getPA0.0210.0050.027
getRandomGraphCentrality 0.607 0.05015.718
getRobustness0.5400.0210.561
layoutByCluster0.160.000.16
layoutByRecluster0.1270.0010.128
makeConsensusMatrix0.4990.0430.543
makeMembership0.0020.0010.002
metlMatrix0.0460.0080.054
normModularity5.4770.1455.778
permute0.0000.0010.000
plotBridgeness0.5310.0300.605
plotEntropy11.927 0.20312.270
prepareGDA0.3760.0020.379
recluster0.0510.0000.051
removeVertexTerm0.0060.0000.006
runPermDisease7.8520.0098.137
sampleDegBinnedGDA0.3560.0000.357
sampleGraphClust0.030.010.04
unescapeAnnotation0.0000.0000.001
zeroNA000