Back to Multiple platform build/check report for BioC 3.22:   simplified   long
[A]BCDEFGHIJKLMNOPQRSTUVWXYZ

This page was generated on 2025-10-04 12:07 -0400 (Sat, 04 Oct 2025).

HostnameOSArch (*)R versionInstalled pkgs
nebbiolo2Linux (Ubuntu 24.04.3 LTS)x86_644.5.1 Patched (2025-08-23 r88802) -- "Great Square Root" 4853
lconwaymacOS 12.7.1 Montereyx86_644.5.1 Patched (2025-09-10 r88807) -- "Great Square Root" 4640
kjohnson3macOS 13.7.7 Venturaarm644.5.1 Patched (2025-09-10 r88807) -- "Great Square Root" 4585
taishanLinux (openEuler 24.03 LTS)aarch644.5.0 (2025-04-11) -- "How About a Twenty-Six" 4576
Click on any hostname to see more info about the system (e.g. compilers)      (*) as reported by 'uname -p', except on Windows and Mac OS X

Package 56/2341HostnameOS / ArchINSTALLBUILDCHECKBUILD BIN
AllelicImbalance 1.47.0  (landing page)
Jesper R Gadin
Snapshot Date: 2025-10-03 13:45 -0400 (Fri, 03 Oct 2025)
git_url: https://git.bioconductor.org/packages/AllelicImbalance
git_branch: devel
git_last_commit: 73ef4e4
git_last_commit_date: 2025-04-15 10:26:42 -0400 (Tue, 15 Apr 2025)
nebbiolo2Linux (Ubuntu 24.04.3 LTS) / x86_64  OK    OK    OK  UNNEEDED, same version is already published
lconwaymacOS 12.7.1 Monterey / x86_64  OK    OK    OK    OK  UNNEEDED, same version is already published
kjohnson3macOS 13.7.7 Ventura / arm64  OK    OK    OK    OK  UNNEEDED, same version is already published
taishanLinux (openEuler 24.03 LTS) / aarch64  OK    OK    OK  


CHECK results for AllelicImbalance on taishan

To the developers/maintainers of the AllelicImbalance package:
- Allow up to 24 hours (and sometimes 48 hours) for your latest push to git@git.bioconductor.org:packages/AllelicImbalance.git to reflect on this report. See Troubleshooting Build Report for more information.
- Use the following Renviron settings to reproduce errors and warnings.
- If 'R CMD check' started to fail recently on the Linux builder(s) over a missing dependency, add the missing dependency to 'Suggests:' in your DESCRIPTION file. See Renviron.bioc for more information.
- See Martin Grigorov's blog post for how to debug Linux ARM64 related issues on a x86_64 host.

raw results


Summary

Package: AllelicImbalance
Version: 1.47.0
Command: /home/biocbuild/R/R/bin/R CMD check --install=check:AllelicImbalance.install-out.txt --library=/home/biocbuild/R/R/site-library --no-vignettes --timings AllelicImbalance_1.47.0.tar.gz
StartedAt: 2025-10-03 04:34:07 -0000 (Fri, 03 Oct 2025)
EndedAt: 2025-10-03 04:44:16 -0000 (Fri, 03 Oct 2025)
EllapsedTime: 609.0 seconds
RetCode: 0
Status:   OK  
CheckDir: AllelicImbalance.Rcheck
Warnings: 0

Command output

##############################################################################
##############################################################################
###
### Running command:
###
###   /home/biocbuild/R/R/bin/R CMD check --install=check:AllelicImbalance.install-out.txt --library=/home/biocbuild/R/R/site-library --no-vignettes --timings AllelicImbalance_1.47.0.tar.gz
###
##############################################################################
##############################################################################


* using log directory ‘/home/biocbuild/bbs-3.22-bioc/meat/AllelicImbalance.Rcheck’
* using R version 4.5.0 (2025-04-11)
* using platform: aarch64-unknown-linux-gnu
* R was compiled by
    aarch64-unknown-linux-gnu-gcc (GCC) 14.2.0
    GNU Fortran (GCC) 14.2.0
* running under: openEuler 24.03 (LTS)
* using session charset: UTF-8
* using option ‘--no-vignettes’
* checking for file ‘AllelicImbalance/DESCRIPTION’ ... OK
* checking extension type ... Package
* this is package ‘AllelicImbalance’ version ‘1.47.0’
* package encoding: UTF-8
* checking package namespace information ... OK
* checking package dependencies ... OK
* checking if this is a source package ... OK
* checking if there is a namespace ... OK
* checking for hidden files and directories ... OK
* checking for portable file names ... OK
* checking for sufficient/correct file permissions ... OK
* checking whether package ‘AllelicImbalance’ can be installed ... OK
* checking installed package size ... OK
* checking package directory ... OK
* checking ‘build’ directory ... OK
* checking DESCRIPTION meta-information ... OK
* checking top-level files ... OK
* checking for left-over files ... OK
* checking index information ... OK
* checking package subdirectories ... NOTE
Problems with news in ‘NEWS’:
  Cannot process chunk/lines:
    CHANGES IN VERSION 1.12.0
* checking code files for non-ASCII characters ... OK
* checking R files for syntax errors ... OK
* checking whether the package can be loaded ... OK
* checking whether the package can be loaded with stated dependencies ... OK
* checking whether the package can be unloaded cleanly ... OK
* checking whether the namespace can be loaded with stated dependencies ... OK
* checking whether the namespace can be unloaded cleanly ... OK
* checking loading without being on the library search path ... OK
* checking dependencies in R code ... OK
* checking S3 generic/method consistency ... OK
* checking replacement functions ... OK
* checking foreign function calls ... OK
* checking R code for possible problems ... OK
* checking Rd files ... OK
* checking Rd metadata ... OK
* checking Rd cross-references ... OK
* checking for missing documentation entries ... OK
* checking for code/documentation mismatches ... OK
* checking Rd \usage sections ... OK
* checking Rd contents ... OK
* checking for unstated dependencies in examples ... OK
* checking contents of ‘data’ directory ... OK
* checking data for non-ASCII characters ... OK
* checking LazyData ... OK
* checking data for ASCII and uncompressed saves ... OK
* checking files in ‘vignettes’ ... OK
* checking examples ... OK
Examples with CPU (user + system) or elapsed time > 5s
                           user system elapsed
getSnpIdFromLocation     28.796  1.526  30.931
import-bam               25.945  0.299  26.367
lva                      13.385  0.008  13.433
scanForHeterozygotes-old  7.582  0.032   7.642
getAlleleCounts           7.245  0.032   7.301
ASEset-glocationplot      6.718  0.175   6.939
getAlleleQuality          5.263  0.008   5.293
annotation-wrappers       4.792  0.250   5.203
* checking for unstated dependencies in ‘tests’ ... OK
* checking tests ...
  Running ‘test-all.R’
 OK
* checking for unstated dependencies in vignettes ... OK
* checking package vignettes ... OK
* checking running R code from vignettes ... SKIPPED
* checking re-building of vignette outputs ... SKIPPED
* checking PDF version of manual ... OK
* DONE

Status: 1 NOTE
See
  ‘/home/biocbuild/bbs-3.22-bioc/meat/AllelicImbalance.Rcheck/00check.log’
for details.


Installation output

AllelicImbalance.Rcheck/00install.out

##############################################################################
##############################################################################
###
### Running command:
###
###   /home/biocbuild/R/R/bin/R CMD INSTALL AllelicImbalance
###
##############################################################################
##############################################################################


* installing to library ‘/home/biocbuild/R/R-4.5.0/site-library’
* installing *source* package ‘AllelicImbalance’ ...
** this is package ‘AllelicImbalance’ version ‘1.47.0’
** using staged installation
** R
** data
*** moving datasets to lazyload DB
** inst
** byte-compile and prepare package for lazy loading
Creating a generic function for 'chisq.test' from package 'stats' in package 'AllelicImbalance'
Creating a generic function for 'binom.test' from package 'stats' in package 'AllelicImbalance'
** help
*** installing help indices
** building package indices
** installing vignettes
** testing if installed package can be loaded from temporary location
** testing if installed package can be loaded from final location
** testing if installed package keeps a record of temporary installation path
* DONE (AllelicImbalance)

Tests output

AllelicImbalance.Rcheck/tests/test-all.Rout


R version 4.5.0 (2025-04-11) -- "How About a Twenty-Six"
Copyright (C) 2025 The R Foundation for Statistical Computing
Platform: aarch64-unknown-linux-gnu

R is free software and comes with ABSOLUTELY NO WARRANTY.
You are welcome to redistribute it under certain conditions.
Type 'license()' or 'licence()' for distribution details.

R is a collaborative project with many contributors.
Type 'contributors()' for more information and
'citation()' on how to cite R or R packages in publications.

Type 'demo()' for some demos, 'help()' for on-line help, or
'help.start()' for an HTML browser interface to help.
Type 'q()' to quit R.

> library(testthat)
> test_check("AllelicImbalance")
Loading required package: AllelicImbalance
Loading required package: grid
Loading required package: GenomicRanges
Loading required package: stats4
Loading required package: BiocGenerics
Loading required package: generics

Attaching package: 'generics'

The following objects are masked from 'package:base':

    as.difftime, as.factor, as.ordered, intersect, is.element, setdiff,
    setequal, union


Attaching package: 'BiocGenerics'

The following objects are masked from 'package:stats':

    IQR, mad, sd, var, xtabs

The following objects are masked from 'package:base':

    Filter, Find, Map, Position, Reduce, anyDuplicated, aperm, append,
    as.data.frame, basename, cbind, colnames, dirname, do.call,
    duplicated, eval, evalq, get, grep, grepl, is.unsorted, lapply,
    mapply, match, mget, order, paste, pmax, pmax.int, pmin, pmin.int,
    rank, rbind, rownames, sapply, saveRDS, table, tapply, unique,
    unsplit, which.max, which.min

Loading required package: S4Vectors

Attaching package: 'S4Vectors'

The following object is masked from 'package:utils':

    findMatches

The following objects are masked from 'package:base':

    I, expand.grid, unname

Loading required package: IRanges
Loading required package: Seqinfo
Loading required package: SummarizedExperiment
Loading required package: MatrixGenerics
Loading required package: matrixStats

Attaching package: 'MatrixGenerics'

The following objects are masked from 'package:matrixStats':

    colAlls, colAnyNAs, colAnys, colAvgsPerRowSet, colCollapse,
    colCounts, colCummaxs, colCummins, colCumprods, colCumsums,
    colDiffs, colIQRDiffs, colIQRs, colLogSumExps, colMadDiffs,
    colMads, colMaxs, colMeans2, colMedians, colMins, colOrderStats,
    colProds, colQuantiles, colRanges, colRanks, colSdDiffs, colSds,
    colSums2, colTabulates, colVarDiffs, colVars, colWeightedMads,
    colWeightedMeans, colWeightedMedians, colWeightedSds,
    colWeightedVars, rowAlls, rowAnyNAs, rowAnys, rowAvgsPerColSet,
    rowCollapse, rowCounts, rowCummaxs, rowCummins, rowCumprods,
    rowCumsums, rowDiffs, rowIQRDiffs, rowIQRs, rowLogSumExps,
    rowMadDiffs, rowMads, rowMaxs, rowMeans2, rowMedians, rowMins,
    rowOrderStats, rowProds, rowQuantiles, rowRanges, rowRanks,
    rowSdDiffs, rowSds, rowSums2, rowTabulates, rowVarDiffs, rowVars,
    rowWeightedMads, rowWeightedMeans, rowWeightedMedians,
    rowWeightedSds, rowWeightedVars

Loading required package: Biobase
Welcome to Bioconductor

    Vignettes contain introductory material; view with
    'browseVignettes()'. To cite Bioconductor, see
    'citation("Biobase")', and for packages 'citation("pkgname")'.


Attaching package: 'Biobase'

The following object is masked from 'package:MatrixGenerics':

    rowMedians

The following objects are masked from 'package:matrixStats':

    anyMissing, rowMedians

Loading required package: GenomicAlignments
Loading required package: Biostrings
Loading required package: XVector

Attaching package: 'Biostrings'

The following object is masked from 'package:grid':

    pattern

The following object is masked from 'package:base':

    strsplit

Loading required package: Rsamtools
[ FAIL 0 | WARN 0 | SKIP 1 | PASS 96 ]

══ Skipped tests (1) ═══════════════════════════════════════════════════════════
• empty test (1): 'test_utils.R:3:1'

[ FAIL 0 | WARN 0 | SKIP 1 | PASS 96 ]
> 
> 
> 
> proc.time()
   user  system elapsed 
 22.894   0.843  23.791 

Example timings

AllelicImbalance.Rcheck/AllelicImbalance-Ex.timings

nameusersystemelapsed
ASEset-barplot0.3030.0160.323
ASEset-class0.7520.0280.792
ASEset-filters0.0860.0000.087
ASEset-gbarplot0.0630.0000.064
ASEset-glocationplot6.7180.1756.939
ASEset-gviztrack0.8030.0480.854
ASEset-scanForHeterozygotes2.6770.0322.737
ASEset.old0.0000.0000.001
ASEset.sim000
ASEsetFromBam0.0020.0000.001
DetectedAI-class0.1540.0120.166
DetectedAI-plot1.9050.0391.952
DetectedAI-summary0.1830.0040.187
GRvariants0.0010.0000.002
GlobalAnalysis-class0.0010.0000.002
LinkVariantAlmlof-class000
LinkVariantAlmlof-plot2.9160.0392.965
RegionSummary-class000
RiskVariant-class000
annotation-wrappers4.7920.2505.203
annotationBarplot000
barplot-lattice-support0.1770.0040.181
binom.test0.2390.0040.243
chisq.test0.2110.0040.216
cigar-utilities0.0140.0000.015
countAllelesFromBam0.0010.0000.003
coverageMatrixListFromGAL1.0630.0001.079
decorateWithExons0.0010.0000.002
decorateWithGenes0.0010.0000.002
defaultMapBias0.0500.0040.054
defaultPhase0.0000.0000.001
detectAI0.1610.0040.165
fractionPlotDf0.0510.0040.055
gba000
genomatrix000
genotype2phase0.0410.0000.041
getAlleleCounts7.2450.0327.301
getAlleleQuality5.2630.0085.293
getAreaFromGeneNames0.7040.0160.722
getDefaultMapBiasExpMean0.0370.0000.038
getSnpIdFromLocation28.796 1.52630.931
histplot000
implodeList-old0.0080.0000.008
import-bam-20.0140.0000.013
import-bam25.945 0.29926.367
import-bcf1.2790.0161.301
inferAlleles0.0190.0000.019
inferAltAllele0.0230.0040.026
inferGenotypes0.0490.0000.048
initialize-ASEset0.1180.0000.118
initialize-DetectedAI0.1490.0000.149
initialize-GlobalAnalysis0.0010.0000.002
initialize-RiskVariant0.0010.0000.002
legendBarplot000
locationplot2.2620.0242.293
lva13.385 0.00813.433
lva.internal0.4930.0000.495
makeMaskedFasta1.1910.0031.197
mapBiasRef0.0210.0000.021
minCountFilt0.1170.0120.130
minFreqFilt0.1170.0000.117
multiAllelicFilt0.0150.0040.019
phase2genotype0.0310.0080.039
phaseArray2phaseMatrix0.0060.0000.006
phaseMatrix2Array0.0040.0000.005
randomRef0.0310.0000.031
reads0.0010.0000.000
refAllele0.0190.0040.023
regionSummary0.8250.0040.831
scanForHeterozygotes-old7.5820.0327.642