| Back to Workflows build report for BioC 3.9 |
This page was generated on 2019-01-30 16:00:23 -0500 (Wed, 30 Jan 2019).
| Package 17/23 | Hostname | OS / Arch | INSTALL | BUILD | ||||||
| rnaseqDTU 1.3.1 Michael Love
| malbec2 | Linux (Ubuntu 18.04.1 LTS) / x86_64 | OK | OK | ||||||
| tokay2 | Windows Server 2012 R2 Standard / x64 | [ OK ] | OK |
| Package: rnaseqDTU |
| Version: 1.3.1 |
| Command: C:\cygwin\bin\curl.exe -O https://malbec2.bioconductor.org/BBS/3.9/workflows/src/contrib/rnaseqDTU_1.3.1.tar.gz && rm -rf rnaseqDTU.buildbin-libdir && mkdir rnaseqDTU.buildbin-libdir && C:\Users\biocbuild\bbs-3.9-bioc\R\bin\R.exe CMD INSTALL --merge-multiarch --build --library=rnaseqDTU.buildbin-libdir rnaseqDTU_1.3.1.tar.gz && C:\Users\biocbuild\bbs-3.9-bioc\R\bin\R.exe CMD INSTALL rnaseqDTU_1.3.1.zip && rm rnaseqDTU_1.3.1.tar.gz rnaseqDTU_1.3.1.zip |
| StartedAt: 2019-01-30 09:35:22 -0500 (Wed, 30 Jan 2019) |
| EndedAt: 2019-01-30 09:37:39 -0500 (Wed, 30 Jan 2019) |
| EllapsedTime: 137.0 seconds |
| RetCode: 0 |
| Status: OK |
##############################################################################
##############################################################################
###
### Running command:
###
### C:\cygwin\bin\curl.exe -O https://malbec2.bioconductor.org/BBS/3.9/workflows/src/contrib/rnaseqDTU_1.3.1.tar.gz && rm -rf rnaseqDTU.buildbin-libdir && mkdir rnaseqDTU.buildbin-libdir && C:\Users\biocbuild\bbs-3.9-bioc\R\bin\R.exe CMD INSTALL --merge-multiarch --build --library=rnaseqDTU.buildbin-libdir rnaseqDTU_1.3.1.tar.gz && C:\Users\biocbuild\bbs-3.9-bioc\R\bin\R.exe CMD INSTALL rnaseqDTU_1.3.1.zip && rm rnaseqDTU_1.3.1.tar.gz rnaseqDTU_1.3.1.zip
###
##############################################################################
##############################################################################
% Total % Received % Xferd Average Speed Time Time Time Current
Dload Upload Total Spent Left Speed
0 0 0 0 0 0 0 0 --:--:-- --:--:-- --:--:-- 0
0 0 0 0 0 0 0 0 --:--:-- 0:00:03 --:--:-- 0
0 0 0 0 0 0 0 0 --:--:-- 0:00:04 --:--:-- 0
0 7829k 0 0 0 0 0 0 --:--:-- 0:00:05 --:--:-- 0
21 7829k 21 1680k 0 0 272k 0 0:00:28 0:00:06 0:00:22 286k
68 7829k 68 5392k 0 0 748k 0 0:00:10 0:00:07 0:00:03 782k
100 7829k 100 7829k 0 0 1079k 0 0:00:07 0:00:07 --:--:-- 1874k
install for i386
* installing *source* package 'rnaseqDTU' ...
** R
** data
*** moving datasets to lazyload DB
** inst
** byte-compile and prepare package for lazy loading
** help
*** installing help indices
converting help for package 'rnaseqDTU'
finding HTML links ... done
cts html
dge.genes html
disps html
dte.genes html
dtu.genes html
dxr html
dxr.g html
fold_changes html
frag_GC_bias html
iso.dge html
iso.dte html
iso.dte.only html
iso.dtu html
res html
res.txp html
sim.counts.mat html
sim_counts html
tpms html
txdf html
txi.g html
** building package indices
** installing vignettes
** testing if installed package can be loaded
install for x64
* installing *source* package 'rnaseqDTU' ...
** testing if installed package can be loaded
* MD5 sums
packaged installation of 'rnaseqDTU' as rnaseqDTU_1.3.1.zip
* DONE (rnaseqDTU)
* installing to library 'C:/Users/biocbuild/bbs-3.9-bioc/R/library'
package 'rnaseqDTU' successfully unpacked and MD5 sums checked