| Back to Multiple platform build/check report for BioC 3.9 |
|
This page was generated on 2019-10-16 12:40:40 -0400 (Wed, 16 Oct 2019).
| Package 1714/1741 | Hostname | OS / Arch | INSTALL | BUILD | CHECK | BUILD BIN | ||||||
| vidger 1.4.4 Brandon Monier
| malbec2 | Linux (Ubuntu 18.04.2 LTS) / x86_64 | OK | OK | OK | |||||||
| tokay2 | Windows Server 2012 R2 Standard / x64 | [ OK ] | OK | OK | OK | |||||||
| celaya2 | OS X 10.11.6 El Capitan / x86_64 | OK | OK | OK | OK |
| Package: vidger |
| Version: 1.4.4 |
| Command: C:\cygwin\bin\curl.exe -O https://malbec2.bioconductor.org/BBS/3.9/bioc/src/contrib/vidger_1.4.4.tar.gz && rm -rf vidger.buildbin-libdir && mkdir vidger.buildbin-libdir && C:\Users\biocbuild\bbs-3.9-bioc\R\bin\R.exe CMD INSTALL --merge-multiarch --build --library=vidger.buildbin-libdir vidger_1.4.4.tar.gz && C:\Users\biocbuild\bbs-3.9-bioc\R\bin\R.exe CMD INSTALL vidger_1.4.4.zip && rm vidger_1.4.4.tar.gz vidger_1.4.4.zip |
| StartedAt: 2019-10-15 20:46:50 -0400 (Tue, 15 Oct 2019) |
| EndedAt: 2019-10-15 20:47:49 -0400 (Tue, 15 Oct 2019) |
| EllapsedTime: 59.4 seconds |
| RetCode: 0 |
| Status: OK |
##############################################################################
##############################################################################
###
### Running command:
###
### C:\cygwin\bin\curl.exe -O https://malbec2.bioconductor.org/BBS/3.9/bioc/src/contrib/vidger_1.4.4.tar.gz && rm -rf vidger.buildbin-libdir && mkdir vidger.buildbin-libdir && C:\Users\biocbuild\bbs-3.9-bioc\R\bin\R.exe CMD INSTALL --merge-multiarch --build --library=vidger.buildbin-libdir vidger_1.4.4.tar.gz && C:\Users\biocbuild\bbs-3.9-bioc\R\bin\R.exe CMD INSTALL vidger_1.4.4.zip && rm vidger_1.4.4.tar.gz vidger_1.4.4.zip
###
##############################################################################
##############################################################################
% Total % Received % Xferd Average Speed Time Time Time Current
Dload Upload Total Spent Left Speed
0 0 0 0 0 0 0 0 --:--:-- --:--:-- --:--:-- 0
100 3416k 100 3416k 0 0 34.3M 0 --:--:-- --:--:-- --:--:-- 36.6M
install for i386
* installing *source* package 'vidger' ...
** using staged installation
** R
** data
*** moving datasets to lazyload DB
** byte-compile and prepare package for lazy loading
** help
*** installing help indices
converting help for package 'vidger'
finding HTML links ... done
df.cuff html
df.deseq html
df.edger html
vsBoxPlot html
vsDEGMatrix html
vsFourWay html
vsMAMatrix html
vsMAPlot html
vsScatterMatrix html
vsScatterPlot html
vsVolcano html
vsVolcanoMatrix html
*** copying figures
** building package indices
** installing vignettes
** testing if installed package can be loaded from temporary location
** testing if installed package can be loaded from final location
** testing if installed package keeps a record of temporary installation path
install for x64
* installing *source* package 'vidger' ...
** testing if installed package can be loaded
* MD5 sums
packaged installation of 'vidger' as vidger_1.4.4.zip
* DONE (vidger)
* installing to library 'C:/Users/biocbuild/bbs-3.9-bioc/R/library'
package 'vidger' successfully unpacked and MD5 sums checked