| Back to Multiple platform build/check report for BioC 3.9 |
|
This page was generated on 2019-10-16 12:43:18 -0400 (Wed, 16 Oct 2019).
| Package 1658/1741 | Hostname | OS / Arch | INSTALL | BUILD | CHECK | BUILD BIN | ||||||
| topconfects 1.0.0 Paul Harrison
| malbec2 | Linux (Ubuntu 18.04.2 LTS) / x86_64 | OK | OK | OK | |||||||
| tokay2 | Windows Server 2012 R2 Standard / x64 | OK | OK | OK | [ OK ] | |||||||
| celaya2 | OS X 10.11.6 El Capitan / x86_64 | OK | OK | OK | OK |
| Package: topconfects |
| Version: 1.0.0 |
| Command: rm -rf topconfects.buildbin-libdir && mkdir topconfects.buildbin-libdir && C:\Users\biocbuild\bbs-3.9-bioc\R\bin\R.exe CMD INSTALL --merge-multiarch --build --library=topconfects.buildbin-libdir topconfects_1.0.0.tar.gz |
| StartedAt: 2019-10-16 10:22:36 -0400 (Wed, 16 Oct 2019) |
| EndedAt: 2019-10-16 10:23:26 -0400 (Wed, 16 Oct 2019) |
| EllapsedTime: 50.6 seconds |
| RetCode: 0 |
| Status: OK |
| PackageFile: topconfects_1.0.0.zip |
| PackageFileSize: 346.2 KiB |
##############################################################################
##############################################################################
###
### Running command:
###
### rm -rf topconfects.buildbin-libdir && mkdir topconfects.buildbin-libdir && C:\Users\biocbuild\bbs-3.9-bioc\R\bin\R.exe CMD INSTALL --merge-multiarch --build --library=topconfects.buildbin-libdir topconfects_1.0.0.tar.gz
###
##############################################################################
##############################################################################
install for i386
* installing *source* package 'topconfects' ...
** using staged installation
** R
** inst
** byte-compile and prepare package for lazy loading
** help
*** installing help indices
converting help for package 'topconfects'
finding HTML links ... done
confects_plot html
confects_plot_me html
deseq2_confects html
edger_confects html
limma_confects html
nest_confects html
normal_confects html
rank_rank_plot html
** building package indices
** installing vignettes
** testing if installed package can be loaded from temporary location
** testing if installed package can be loaded from final location
** testing if installed package keeps a record of temporary installation path
install for x64
* installing *source* package 'topconfects' ...
** testing if installed package can be loaded
* MD5 sums
packaged installation of 'topconfects' as topconfects_1.0.0.zip
* DONE (topconfects)