| Back to Multiple platform build/check report for BioC 3.9 |
|
This page was generated on 2019-10-16 11:58:22 -0400 (Wed, 16 Oct 2019).
| Package 1644/1741 | Hostname | OS / Arch | INSTALL | BUILD | CHECK | BUILD BIN | ||||||
| tigre 1.38.0 Antti Honkela
| malbec2 | Linux (Ubuntu 18.04.2 LTS) / x86_64 | OK | OK | [ OK ] | |||||||
| tokay2 | Windows Server 2012 R2 Standard / x64 | OK | OK | OK | OK | |||||||
| celaya2 | OS X 10.11.6 El Capitan / x86_64 | OK | OK | OK | OK |
| Package: tigre |
| Version: 1.38.0 |
| Command: /home/biocbuild/bbs-3.9-bioc/R/bin/R CMD check --install=check:tigre.install-out.txt --library=/home/biocbuild/bbs-3.9-bioc/R/library --no-vignettes --timings tigre_1.38.0.tar.gz |
| StartedAt: 2019-10-16 05:26:05 -0400 (Wed, 16 Oct 2019) |
| EndedAt: 2019-10-16 05:28:18 -0400 (Wed, 16 Oct 2019) |
| EllapsedTime: 133.0 seconds |
| RetCode: 0 |
| Status: OK |
| CheckDir: tigre.Rcheck |
| Warnings: 0 |
##############################################################################
##############################################################################
###
### Running command:
###
### /home/biocbuild/bbs-3.9-bioc/R/bin/R CMD check --install=check:tigre.install-out.txt --library=/home/biocbuild/bbs-3.9-bioc/R/library --no-vignettes --timings tigre_1.38.0.tar.gz
###
##############################################################################
##############################################################################
* using log directory ‘/home/biocbuild/bbs-3.9-bioc/meat/tigre.Rcheck’
* using R version 3.6.1 (2019-07-05)
* using platform: x86_64-pc-linux-gnu (64-bit)
* using session charset: UTF-8
* using option ‘--no-vignettes’
* checking for file ‘tigre/DESCRIPTION’ ... OK
* this is package ‘tigre’ version ‘1.38.0’
* checking package namespace information ... OK
* checking package dependencies ... OK
* checking if this is a source package ... OK
* checking if there is a namespace ... OK
* checking for hidden files and directories ... OK
* checking for portable file names ... OK
* checking for sufficient/correct file permissions ... OK
* checking whether package ‘tigre’ can be installed ... OK
* checking installed package size ... OK
* checking package directory ... OK
* checking ‘build’ directory ... OK
* checking DESCRIPTION meta-information ... OK
* checking top-level files ... OK
* checking for left-over files ... OK
* checking index information ... OK
* checking package subdirectories ... OK
* checking R files for non-ASCII characters ... OK
* checking R files for syntax errors ... OK
* checking whether the package can be loaded ... OK
* checking whether the package can be loaded with stated dependencies ... OK
* checking whether the package can be unloaded cleanly ... OK
* checking whether the namespace can be loaded with stated dependencies ... OK
* checking whether the namespace can be unloaded cleanly ... OK
* checking dependencies in R code ... OK
* checking S3 generic/method consistency ... OK
* checking replacement functions ... OK
* checking foreign function calls ... OK
* checking R code for possible problems ... OK
* checking Rd files ... OK
* checking Rd metadata ... OK
* checking Rd cross-references ... OK
* checking for missing documentation entries ... OK
* checking for code/documentation mismatches ... OK
* checking Rd \usage sections ... OK
* checking Rd contents ... OK
* checking for unstated dependencies in examples ... OK
* checking contents of ‘data’ directory ... OK
* checking data for non-ASCII characters ... OK
* checking data for ASCII and uncompressed saves ... OK
* checking line endings in C/C++/Fortran sources/headers ... OK
* checking compiled code ... NOTE
Note: information on .o files is not available
* checking files in ‘vignettes’ ... OK
* checking examples ... OK
Examples with CPU or elapsed time > 5s
user system elapsed
processData 6.022 0.179 6.214
* checking for unstated dependencies in vignettes ... OK
* checking package vignettes in ‘inst/doc’ ... OK
* checking running R code from vignettes ... SKIPPED
* checking re-building of vignette outputs ... SKIPPED
* checking PDF version of manual ... OK
* DONE
Status: 1 NOTE
See
‘/home/biocbuild/bbs-3.9-bioc/meat/tigre.Rcheck/00check.log’
for details.
tigre.Rcheck/00install.out
############################################################################## ############################################################################## ### ### Running command: ### ### /home/biocbuild/bbs-3.9-bioc/R/bin/R CMD INSTALL tigre ### ############################################################################## ############################################################################## * installing to library ‘/home/biocbuild/bbs-3.9-bioc/R/library’ * installing *source* package ‘tigre’ ... ** using staged installation ** libs gcc -I"/home/biocbuild/bbs-3.9-bioc/R/include" -DNDEBUG -I/usr/local/include -fpic -g -O2 -Wall -c miscCFunctions.c -o miscCFunctions.o gcc -shared -L/home/biocbuild/bbs-3.9-bioc/R/lib -L/usr/local/lib -o tigre.so miscCFunctions.o -L/home/biocbuild/bbs-3.9-bioc/R/lib -lR installing to /home/biocbuild/bbs-3.9-bioc/R/library/00LOCK-tigre/00new/tigre/libs ** R ** data ** inst ** byte-compile and prepare package for lazy loading ** help *** installing help indices ** building package indices ** installing vignettes ** testing if installed package can be loaded from temporary location ** checking absolute paths in shared objects and dynamic libraries ** testing if installed package can be loaded from final location ** testing if installed package keeps a record of temporary installation path * DONE (tigre)
tigre.Rcheck/tigre-Ex.timings
| name | user | system | elapsed | |
| ExpressionTimeSeries-class | 0.001 | 0.000 | 0.001 | |
| GPLearn | 1.256 | 0.075 | 1.624 | |
| GPModel-class | 0.000 | 0.000 | 0.001 | |
| GPPlot | 0.000 | 0.000 | 0.001 | |
| GPRankTargets | 0 | 0 | 0 | |
| SCGoptim | 0 | 0 | 0 | |
| expTransform | 0.000 | 0.000 | 0.001 | |
| export | 0.000 | 0.000 | 0.001 | |
| generateModels | 0 | 0 | 0 | |
| gpsimCreate | 0 | 0 | 0 | |
| kernCompute | 0.000 | 0.000 | 0.001 | |
| kernCreate | 0.006 | 0.000 | 0.007 | |
| kernDiagGradX | 0.001 | 0.000 | 0.001 | |
| kernGradient | 0.000 | 0.000 | 0.001 | |
| lnDiffErfs | 0.000 | 0.000 | 0.001 | |
| modelDisplay | 0.111 | 0.012 | 0.123 | |
| modelExpandParam | 0.001 | 0.000 | 0.000 | |
| modelExtractParam | 0.096 | 0.004 | 0.100 | |
| modelGradient | 0.126 | 0.000 | 0.126 | |
| modelTieParam | 0.005 | 0.000 | 0.006 | |
| optimiDefaultConstraint | 0.000 | 0.000 | 0.001 | |
| plotTimeseries | 0.112 | 0.000 | 0.113 | |
| processData | 6.022 | 0.179 | 6.214 | |
| scoreList-class | 0.000 | 0.001 | 0.001 | |
| tigre-package | 0.000 | 0.001 | 0.000 | |