| Back to Multiple platform build/check report for BioC 3.9 |
|
This page was generated on 2019-10-16 12:44:03 -0400 (Wed, 16 Oct 2019).
| Package 1589/1741 | Hostname | OS / Arch | INSTALL | BUILD | CHECK | BUILD BIN | ||||||
| ssrch 1.0.0 VJ Carey
| malbec2 | Linux (Ubuntu 18.04.2 LTS) / x86_64 | OK | OK | OK | |||||||
| tokay2 | Windows Server 2012 R2 Standard / x64 | [ OK ] | OK | OK | OK | |||||||
| celaya2 | OS X 10.11.6 El Capitan / x86_64 | OK | OK | OK | OK |
| Package: ssrch |
| Version: 1.0.0 |
| Command: C:\cygwin\bin\curl.exe -O https://malbec2.bioconductor.org/BBS/3.9/bioc/src/contrib/ssrch_1.0.0.tar.gz && rm -rf ssrch.buildbin-libdir && mkdir ssrch.buildbin-libdir && C:\Users\biocbuild\bbs-3.9-bioc\R\bin\R.exe CMD INSTALL --merge-multiarch --build --library=ssrch.buildbin-libdir ssrch_1.0.0.tar.gz && C:\Users\biocbuild\bbs-3.9-bioc\R\bin\R.exe CMD INSTALL ssrch_1.0.0.zip && rm ssrch_1.0.0.tar.gz ssrch_1.0.0.zip |
| StartedAt: 2019-10-15 19:15:06 -0400 (Tue, 15 Oct 2019) |
| EndedAt: 2019-10-15 19:15:40 -0400 (Tue, 15 Oct 2019) |
| EllapsedTime: 33.4 seconds |
| RetCode: 0 |
| Status: OK |
##############################################################################
##############################################################################
###
### Running command:
###
### C:\cygwin\bin\curl.exe -O https://malbec2.bioconductor.org/BBS/3.9/bioc/src/contrib/ssrch_1.0.0.tar.gz && rm -rf ssrch.buildbin-libdir && mkdir ssrch.buildbin-libdir && C:\Users\biocbuild\bbs-3.9-bioc\R\bin\R.exe CMD INSTALL --merge-multiarch --build --library=ssrch.buildbin-libdir ssrch_1.0.0.tar.gz && C:\Users\biocbuild\bbs-3.9-bioc\R\bin\R.exe CMD INSTALL ssrch_1.0.0.zip && rm ssrch_1.0.0.tar.gz ssrch_1.0.0.zip
###
##############################################################################
##############################################################################
% Total % Received % Xferd Average Speed Time Time Time Current
Dload Upload Total Spent Left Speed
0 0 0 0 0 0 0 0 --:--:-- --:--:-- --:--:-- 0
0 0 0 0 0 0 0 0 --:--:-- --:--:-- --:--:-- 0
100 544k 100 544k 0 0 3304k 0 --:--:-- --:--:-- --:--:-- 3447k
install for i386
Warning in untar2(tarfile, files, list, exdir, restore_times) :
restoring symbolic link as a file copy
* installing *source* package 'ssrch' ...
** using staged installation
** R
** data
*** moving datasets to lazyload DB
** inst
** byte-compile and prepare package for lazy loading
** help
*** installing help indices
converting help for package 'ssrch'
finding HTML links ... done
DocSet html
ctxsearch html
docset_cancer68 html
docset_searchapp html
dsutils html
parseDoc html
study_publ_dates html
titles68 html
urls68 html
** building package indices
** installing vignettes
** testing if installed package can be loaded from temporary location
** testing if installed package can be loaded from final location
** testing if installed package keeps a record of temporary installation path
install for x64
Warning in untar2(tarfile, files, list, exdir, restore_times) :
restoring symbolic link as a file copy
* installing *source* package 'ssrch' ...
** testing if installed package can be loaded
* MD5 sums
packaged installation of 'ssrch' as ssrch_1.0.0.zip
* DONE (ssrch)
* installing to library 'C:/Users/biocbuild/bbs-3.9-bioc/R/library'
package 'ssrch' successfully unpacked and MD5 sums checked