| Back to Multiple platform build/check report for BioC 3.9 |
|
This page was generated on 2019-10-16 12:28:47 -0400 (Wed, 16 Oct 2019).
| Package 1571/1741 | Hostname | OS / Arch | INSTALL | BUILD | CHECK | BUILD BIN | ||||||
Wolfgang Kaisers
| malbec2 | Linux (Ubuntu 18.04.2 LTS) / x86_64 | ERROR | ERROR | skipped | |||||||
| tokay2 | Windows Server 2012 R2 Standard / x64 | ERROR | [ ERROR ] | skipped | skipped | |||||||
| celaya2 | OS X 10.11.6 El Capitan / x86_64 | ERROR | ERROR | skipped | skipped |
| Package: spliceSites |
| Version: 1.32.0 |
| Command: chmod a+r spliceSites -R && C:\Users\biocbuild\bbs-3.9-bioc\R\bin\R.exe CMD build --keep-empty-dirs --no-resave-data spliceSites |
| StartedAt: 2019-10-15 22:40:49 -0400 (Tue, 15 Oct 2019) |
| EndedAt: 2019-10-15 22:40:54 -0400 (Tue, 15 Oct 2019) |
| EllapsedTime: 5.8 seconds |
| RetCode: 1 |
| Status: ERROR |
| PackageFile: spliceSites_1.32.0.tar.gz |
| PackageFileSize: 2.586 MiB |
##############################################################################
##############################################################################
###
### Running command:
###
### chmod a+r spliceSites -R && C:\Users\biocbuild\bbs-3.9-bioc\R\bin\R.exe CMD build --keep-empty-dirs --no-resave-data spliceSites
###
##############################################################################
##############################################################################
* checking for file 'spliceSites/DESCRIPTION' ... OK
* preparing 'spliceSites':
* checking DESCRIPTION meta-information ... OK
* cleaning src
* installing the package to build vignettes
-----------------------------------
ERROR: dependency 'rbamtools' is not available for package 'spliceSites'
* removing 'C:/Users/biocbuild/bbs-3.9-bioc/tmpdir/RtmpqYIPbO/Rinst28fc61f97d4a/spliceSites'
-----------------------------------
ERROR: package installation failed