| Back to Multiple platform build/check report for BioC 3.9 |
|
This page was generated on 2019-10-16 12:42:22 -0400 (Wed, 16 Oct 2019).
| Package 1558/1741 | Hostname | OS / Arch | INSTALL | BUILD | CHECK | BUILD BIN | ||||||
| sparsenetgls 1.2.0 Irene Zeng
| malbec2 | Linux (Ubuntu 18.04.2 LTS) / x86_64 | OK | OK | OK | |||||||
| tokay2 | Windows Server 2012 R2 Standard / x64 | [ OK ] | OK | OK | OK | |||||||
| celaya2 | OS X 10.11.6 El Capitan / x86_64 | OK | OK | OK | OK |
| Package: sparsenetgls |
| Version: 1.2.0 |
| Command: C:\cygwin\bin\curl.exe -O https://malbec2.bioconductor.org/BBS/3.9/bioc/src/contrib/sparsenetgls_1.2.0.tar.gz && rm -rf sparsenetgls.buildbin-libdir && mkdir sparsenetgls.buildbin-libdir && C:\Users\biocbuild\bbs-3.9-bioc\R\bin\R.exe CMD INSTALL --merge-multiarch --build --library=sparsenetgls.buildbin-libdir sparsenetgls_1.2.0.tar.gz && C:\Users\biocbuild\bbs-3.9-bioc\R\bin\R.exe CMD INSTALL sparsenetgls_1.2.0.zip && rm sparsenetgls_1.2.0.tar.gz sparsenetgls_1.2.0.zip |
| StartedAt: 2019-10-15 19:23:17 -0400 (Tue, 15 Oct 2019) |
| EndedAt: 2019-10-15 19:25:12 -0400 (Tue, 15 Oct 2019) |
| EllapsedTime: 114.8 seconds |
| RetCode: 0 |
| Status: OK |
##############################################################################
##############################################################################
###
### Running command:
###
### C:\cygwin\bin\curl.exe -O https://malbec2.bioconductor.org/BBS/3.9/bioc/src/contrib/sparsenetgls_1.2.0.tar.gz && rm -rf sparsenetgls.buildbin-libdir && mkdir sparsenetgls.buildbin-libdir && C:\Users\biocbuild\bbs-3.9-bioc\R\bin\R.exe CMD INSTALL --merge-multiarch --build --library=sparsenetgls.buildbin-libdir sparsenetgls_1.2.0.tar.gz && C:\Users\biocbuild\bbs-3.9-bioc\R\bin\R.exe CMD INSTALL sparsenetgls_1.2.0.zip && rm sparsenetgls_1.2.0.tar.gz sparsenetgls_1.2.0.zip
###
##############################################################################
##############################################################################
% Total % Received % Xferd Average Speed Time Time Time Current
Dload Upload Total Spent Left Speed
0 0 0 0 0 0 0 0 --:--:-- --:--:-- --:--:-- 0
100 19516 100 19516 0 0 129k 0 --:--:-- --:--:-- --:--:-- 135k
install for i386
* installing *source* package 'sparsenetgls' ...
** using staged installation
** R
** data
*** moving datasets to lazyload DB
** byte-compile and prepare package for lazy loading
** help
*** installing help indices
converting help for package 'sparsenetgls'
finding HTML links ... done
assess_direct html
bandprec html
convertbeta html
glassonet2 html
lassoglmnet html
path_result_for_roc html
plot_roc html
plotsngls html
sparsenetgls html
** building package indices
** installing vignettes
** testing if installed package can be loaded from temporary location
** testing if installed package can be loaded from final location
** testing if installed package keeps a record of temporary installation path
install for x64
* installing *source* package 'sparsenetgls' ...
** testing if installed package can be loaded
* MD5 sums
packaged installation of 'sparsenetgls' as sparsenetgls_1.2.0.zip
* DONE (sparsenetgls)
* installing to library 'C:/Users/biocbuild/bbs-3.9-bioc/R/library'
package 'sparsenetgls' successfully unpacked and MD5 sums checked