| Back to Multiple platform build/check report for BioC 3.9 | 
  | 
This page was generated on 2019-10-16 11:56:53 -0400 (Wed, 16 Oct 2019).
| Package 1435/1741 | Hostname | OS / Arch | INSTALL | BUILD | CHECK | BUILD BIN | ||||||
| rtracklayer 1.44.4 Michael Lawrence 
  | malbec2 | Linux (Ubuntu 18.04.2 LTS) / x86_64 | OK | [ OK ] | WARNINGS | |||||||
| tokay2 | Windows Server 2012 R2 Standard / x64 | OK | OK | WARNINGS | OK | |||||||
| celaya2 | OS X 10.11.6 El Capitan / x86_64 | OK | OK | WARNINGS | OK | 
| Package: rtracklayer | 
| Version: 1.44.4 | 
| Command: /home/biocbuild/bbs-3.9-bioc/R/bin/R CMD build --keep-empty-dirs --no-resave-data rtracklayer | 
| StartedAt: 2019-10-15 19:46:16 -0400 (Tue, 15 Oct 2019) | 
| EndedAt: 2019-10-15 19:48:17 -0400 (Tue, 15 Oct 2019) | 
| EllapsedTime: 121.3 seconds | 
| RetCode: 0 | 
| Status: OK | 
| PackageFile: rtracklayer_1.44.4.tar.gz | 
| PackageFileSize: 1.47 MiB | 
############################################################################## ############################################################################## ### ### Running command: ### ### /home/biocbuild/bbs-3.9-bioc/R/bin/R CMD build --keep-empty-dirs --no-resave-data rtracklayer ### ############################################################################## ############################################################################## * checking for file ‘rtracklayer/DESCRIPTION’ ... OK * preparing ‘rtracklayer’: * checking DESCRIPTION meta-information ... OK * cleaning src * installing the package to build vignettes * creating vignettes ... OK * cleaning src * checking for LF line-endings in source and make files and shell scripts * checking for empty or unneeded directories * looking to see if a ‘data/datalist’ file should be added * building ‘rtracklayer_1.44.4.tar.gz’