This page was generated on 2019-10-16 11:54:02 -0400 (Wed, 16 Oct 2019).
rtracklayer 1.44.4 Michael Lawrence
 
| Snapshot Date: 2019-10-15 17:01:26 -0400 (Tue, 15 Oct 2019) |  
| URL: https://git.bioconductor.org/packages/rtracklayer |  
| Branch: RELEASE_3_9 |  
| Last Commit: aec96e8 |  
| Last Changed Date: 2019-09-06 10:43:31 -0400 (Fri, 06 Sep 2019) |  
 
 | malbec2  | Linux (Ubuntu 18.04.2 LTS) / x86_64  |  OK  |  OK  |  WARNINGS  |  |   | 
| tokay2  | Windows Server 2012 R2 Standard / x64  |  OK  |  OK  |  WARNINGS  |  OK  |   | 
| celaya2  | OS X 10.11.6 El Capitan / x86_64  |  OK  |  OK  |  WARNINGS  |  OK  |   |