| Back to Multiple platform build/check report for BioC 3.9 |
|
This page was generated on 2019-10-16 12:06:29 -0400 (Wed, 16 Oct 2019).
| Package 1351/1741 | Hostname | OS / Arch | INSTALL | BUILD | CHECK | BUILD BIN | ||||||
| regioneR 1.16.5 Bernat Gel
| malbec2 | Linux (Ubuntu 18.04.2 LTS) / x86_64 | OK | OK | [ OK ] | |||||||
| tokay2 | Windows Server 2012 R2 Standard / x64 | OK | OK | OK | OK | |||||||
| celaya2 | OS X 10.11.6 El Capitan / x86_64 | OK | OK | OK | OK |
| Package: regioneR |
| Version: 1.16.5 |
| Command: /home/biocbuild/bbs-3.9-bioc/R/bin/R CMD check --install=check:regioneR.install-out.txt --library=/home/biocbuild/bbs-3.9-bioc/R/library --no-vignettes --timings regioneR_1.16.5.tar.gz |
| StartedAt: 2019-10-16 04:25:13 -0400 (Wed, 16 Oct 2019) |
| EndedAt: 2019-10-16 04:31:43 -0400 (Wed, 16 Oct 2019) |
| EllapsedTime: 390.1 seconds |
| RetCode: 0 |
| Status: OK |
| CheckDir: regioneR.Rcheck |
| Warnings: 0 |
##############################################################################
##############################################################################
###
### Running command:
###
### /home/biocbuild/bbs-3.9-bioc/R/bin/R CMD check --install=check:regioneR.install-out.txt --library=/home/biocbuild/bbs-3.9-bioc/R/library --no-vignettes --timings regioneR_1.16.5.tar.gz
###
##############################################################################
##############################################################################
* using log directory ‘/home/biocbuild/bbs-3.9-bioc/meat/regioneR.Rcheck’
* using R version 3.6.1 (2019-07-05)
* using platform: x86_64-pc-linux-gnu (64-bit)
* using session charset: UTF-8
* using option ‘--no-vignettes’
* checking for file ‘regioneR/DESCRIPTION’ ... OK
* checking extension type ... Package
* this is package ‘regioneR’ version ‘1.16.5’
* package encoding: UTF-8
* checking package namespace information ... OK
* checking package dependencies ... OK
* checking if this is a source package ... OK
* checking if there is a namespace ... OK
* checking for hidden files and directories ... OK
* checking for portable file names ... OK
* checking for sufficient/correct file permissions ... OK
* checking whether package ‘regioneR’ can be installed ... OK
* checking installed package size ... OK
* checking package directory ... OK
* checking ‘build’ directory ... OK
* checking DESCRIPTION meta-information ... NOTE
Package listed in more than one of Depends, Imports, Suggests, Enhances:
‘GenomicRanges’
A package should be listed in only one of these fields.
* checking top-level files ... OK
* checking for left-over files ... OK
* checking index information ... OK
* checking package subdirectories ... OK
* checking R files for non-ASCII characters ... OK
* checking R files for syntax errors ... OK
* checking whether the package can be loaded ... OK
* checking whether the package can be loaded with stated dependencies ... OK
* checking whether the package can be unloaded cleanly ... OK
* checking whether the namespace can be loaded with stated dependencies ... OK
* checking whether the namespace can be unloaded cleanly ... OK
* checking dependencies in R code ... OK
* checking S3 generic/method consistency ... NOTE
Found the following apparent S3 methods exported but not registered:
print.permTestResults
See section ‘Registering S3 methods’ in the ‘Writing R Extensions’
manual.
* checking replacement functions ... OK
* checking foreign function calls ... OK
* checking R code for possible problems ... OK
* checking Rd files ... OK
* checking Rd metadata ... OK
* checking Rd cross-references ... OK
* checking for missing documentation entries ... OK
* checking for code/documentation mismatches ... OK
* checking Rd \usage sections ... OK
* checking Rd contents ... OK
* checking for unstated dependencies in examples ... OK
* checking files in ‘vignettes’ ... OK
* checking examples ... OK
Examples with CPU or elapsed time > 5s
user system elapsed
circularRandomizeRegions 28.208 3.706 35.783
filterChromosomes 24.811 3.503 28.789
maskFromBSGenome 23.543 3.631 25.902
getMask 21.363 3.091 24.492
* checking for unstated dependencies in ‘tests’ ... OK
* checking tests ...
Running ‘testthat.R’
OK
* checking for unstated dependencies in vignettes ... OK
* checking package vignettes in ‘inst/doc’ ... OK
* checking running R code from vignettes ... SKIPPED
* checking re-building of vignette outputs ... SKIPPED
* checking PDF version of manual ... OK
* DONE
Status: 2 NOTEs
See
‘/home/biocbuild/bbs-3.9-bioc/meat/regioneR.Rcheck/00check.log’
for details.
regioneR.Rcheck/00install.out
############################################################################## ############################################################################## ### ### Running command: ### ### /home/biocbuild/bbs-3.9-bioc/R/bin/R CMD INSTALL regioneR ### ############################################################################## ############################################################################## * installing to library ‘/home/biocbuild/bbs-3.9-bioc/R/library’ * installing *source* package ‘regioneR’ ... ** using staged installation ** R ** inst ** byte-compile and prepare package for lazy loading ** help *** installing help indices ** building package indices ** installing vignettes ** testing if installed package can be loaded from temporary location ** testing if installed package can be loaded from final location ** testing if installed package keeps a record of temporary installation path * DONE (regioneR)
regioneR.Rcheck/tests/testthat.Rout
R version 3.6.1 (2019-07-05) -- "Action of the Toes"
Copyright (C) 2019 The R Foundation for Statistical Computing
Platform: x86_64-pc-linux-gnu (64-bit)
R is free software and comes with ABSOLUTELY NO WARRANTY.
You are welcome to redistribute it under certain conditions.
Type 'license()' or 'licence()' for distribution details.
R is a collaborative project with many contributors.
Type 'contributors()' for more information and
'citation()' on how to cite R or R packages in publications.
Type 'demo()' for some demos, 'help()' for on-line help, or
'help.start()' for an HTML browser interface to help.
Type 'q()' to quit R.
> library(testthat)
> library(regioneR)
Loading required package: GenomicRanges
Loading required package: stats4
Loading required package: BiocGenerics
Loading required package: parallel
Attaching package: 'BiocGenerics'
The following objects are masked from 'package:parallel':
clusterApply, clusterApplyLB, clusterCall, clusterEvalQ,
clusterExport, clusterMap, parApply, parCapply, parLapply,
parLapplyLB, parRapply, parSapply, parSapplyLB
The following objects are masked from 'package:stats':
IQR, mad, sd, var, xtabs
The following objects are masked from 'package:base':
Filter, Find, Map, Position, Reduce, anyDuplicated, append,
as.data.frame, basename, cbind, colnames, dirname, do.call,
duplicated, eval, evalq, get, grep, grepl, intersect, is.unsorted,
lapply, mapply, match, mget, order, paste, pmax, pmax.int, pmin,
pmin.int, rank, rbind, rownames, sapply, setdiff, sort, table,
tapply, union, unique, unsplit, which, which.max, which.min
Loading required package: S4Vectors
Attaching package: 'S4Vectors'
The following object is masked from 'package:base':
expand.grid
Loading required package: IRanges
Loading required package: GenomeInfoDb
>
> test_check("regioneR")
══ testthat results ═══════════════════════════════════════════════════════════
[ OK: 24 | SKIPPED: 0 | WARNINGS: 0 | FAILED: 0 ]
>
> proc.time()
user system elapsed
40.046 3.795 44.066
regioneR.Rcheck/regioneR-Ex.timings
| name | user | system | elapsed | |
| characterToBSGenome | 1.502 | 0.136 | 1.640 | |
| circularRandomizeRegions | 28.208 | 3.706 | 35.783 | |
| commonRegions | 0.188 | 0.000 | 0.188 | |
| createFunctionsList | 0.570 | 0.056 | 0.626 | |
| createRandomRegions | 0.113 | 0.000 | 0.113 | |
| emptyCacheRegioneR | 0 | 0 | 0 | |
| extendRegions | 0.063 | 0.000 | 0.063 | |
| filterChromosomes | 24.811 | 3.503 | 28.789 | |
| getChromosomesByOrganism | 0.001 | 0.000 | 0.000 | |
| getGenome | 0.056 | 0.000 | 0.056 | |
| getGenomeAndMask | 0.550 | 0.076 | 0.627 | |
| getMask | 21.363 | 3.091 | 24.492 | |
| joinRegions | 0.127 | 0.001 | 0.126 | |
| listChrTypes | 0.008 | 0.000 | 0.008 | |
| localZScore | 3.252 | 0.252 | 4.075 | |
| maskFromBSGenome | 23.543 | 3.631 | 25.902 | |
| meanDistance | 0.062 | 0.000 | 0.063 | |
| meanInRegions | 0.128 | 0.000 | 0.128 | |
| mergeRegions | 0.085 | 0.000 | 0.089 | |
| numOverlaps | 0.139 | 0.000 | 0.167 | |
| overlapGraphicalSummary | 0.061 | 0.003 | 0.064 | |
| overlapPermTest | 0.600 | 0.001 | 0.601 | |
| overlapRegions | 0.028 | 0.000 | 0.029 | |
| permTest | 1.890 | 0.054 | 1.991 | |
| plot.localZScoreResults | 0.852 | 0.001 | 0.853 | |
| plot.localZScoreResultsList | 1.93 | 0.00 | 1.93 | |
| plot.permTestResults | 1.666 | 0.000 | 1.666 | |
| plot.permTestResultsList | 2.063 | 0.000 | 2.063 | |
| plotRegions | 0.037 | 0.000 | 0.037 | |
| print.permTestResults | 1.159 | 0.000 | 1.159 | |
| randomizeRegions | 0.192 | 0.000 | 0.192 | |
| recomputePermTest | 0.517 | 0.000 | 0.518 | |
| resampleRegions | 0.024 | 0.000 | 0.024 | |
| splitRegions | 0.038 | 0.000 | 0.039 | |
| subtractRegions | 0.120 | 0.000 | 0.121 | |
| toDataframe | 0.005 | 0.004 | 0.009 | |
| toGRanges | 0.380 | 0.007 | 0.575 | |
| uniqueRegions | 0.374 | 0.004 | 0.378 | |