| Back to Multiple platform build/check report for BioC 3.9 |
|
This page was generated on 2019-10-16 12:36:44 -0400 (Wed, 16 Oct 2019).
| Package 1341/1741 | Hostname | OS / Arch | INSTALL | BUILD | CHECK | BUILD BIN | ||||||
| readat 1.10.0 Richard Cotton
| malbec2 | Linux (Ubuntu 18.04.2 LTS) / x86_64 | ERROR | ERROR | skipped | |||||||
| tokay2 | Windows Server 2012 R2 Standard / x64 | [ ERROR ] | ERROR | skipped | skipped | |||||||
| celaya2 | OS X 10.11.6 El Capitan / x86_64 | ERROR | ERROR | skipped | skipped |
| Package: readat |
| Version: 1.10.0 |
| Command: C:\cygwin\bin\curl.exe -O https://malbec2.bioconductor.org/BBS/3.9/bioc/src/contrib/readat_1.10.0.tar.gz && rm -rf readat.buildbin-libdir && mkdir readat.buildbin-libdir && C:\Users\biocbuild\bbs-3.9-bioc\R\bin\R.exe CMD INSTALL --merge-multiarch --build --library=readat.buildbin-libdir readat_1.10.0.tar.gz && C:\Users\biocbuild\bbs-3.9-bioc\R\bin\R.exe CMD INSTALL readat_1.10.0.zip && rm readat_1.10.0.tar.gz readat_1.10.0.zip |
| StartedAt: 2019-10-15 21:17:33 -0400 (Tue, 15 Oct 2019) |
| EndedAt: 2019-10-15 21:17:34 -0400 (Tue, 15 Oct 2019) |
| EllapsedTime: 1.6 seconds |
| RetCode: 1 |
| Status: ERROR |
##############################################################################
##############################################################################
###
### Running command:
###
### C:\cygwin\bin\curl.exe -O https://malbec2.bioconductor.org/BBS/3.9/bioc/src/contrib/readat_1.10.0.tar.gz && rm -rf readat.buildbin-libdir && mkdir readat.buildbin-libdir && C:\Users\biocbuild\bbs-3.9-bioc\R\bin\R.exe CMD INSTALL --merge-multiarch --build --library=readat.buildbin-libdir readat_1.10.0.tar.gz && C:\Users\biocbuild\bbs-3.9-bioc\R\bin\R.exe CMD INSTALL readat_1.10.0.zip && rm readat_1.10.0.tar.gz readat_1.10.0.zip
###
##############################################################################
##############################################################################
% Total % Received % Xferd Average Speed Time Time Time Current
Dload Upload Total Spent Left Speed
0 0 0 0 0 0 0 0 --:--:-- --:--:-- --:--:-- 0
100 1254k 100 1254k 0 0 16.4M 0 --:--:-- --:--:-- --:--:-- 18.0M
install for i386
ERROR: dependency 'pathological' is not available for package 'readat'
* removing 'C:/Users/biocbuild/bbs-3.9-bioc/meat/readat.buildbin-libdir/readat'