| Back to Multiple platform build/check report for BioC 3.9 |
|
This page was generated on 2019-10-16 12:13:56 -0400 (Wed, 16 Oct 2019).
| Package 1444/1741 | Hostname | OS / Arch | INSTALL | BUILD | CHECK | BUILD BIN | ||||||
| rWikiPathways 1.4.1 Egon Willighagen
| malbec2 | Linux (Ubuntu 18.04.2 LTS) / x86_64 | OK | OK | [ OK ] | |||||||
| tokay2 | Windows Server 2012 R2 Standard / x64 | OK | OK | OK | OK | |||||||
| celaya2 | OS X 10.11.6 El Capitan / x86_64 | OK | OK | OK | OK |
| Package: rWikiPathways |
| Version: 1.4.1 |
| Command: /home/biocbuild/bbs-3.9-bioc/R/bin/R CMD check --install=check:rWikiPathways.install-out.txt --library=/home/biocbuild/bbs-3.9-bioc/R/library --no-vignettes --timings rWikiPathways_1.4.1.tar.gz |
| StartedAt: 2019-10-16 04:45:29 -0400 (Wed, 16 Oct 2019) |
| EndedAt: 2019-10-16 04:47:14 -0400 (Wed, 16 Oct 2019) |
| EllapsedTime: 104.9 seconds |
| RetCode: 0 |
| Status: OK |
| CheckDir: rWikiPathways.Rcheck |
| Warnings: 0 |
##############################################################################
##############################################################################
###
### Running command:
###
### /home/biocbuild/bbs-3.9-bioc/R/bin/R CMD check --install=check:rWikiPathways.install-out.txt --library=/home/biocbuild/bbs-3.9-bioc/R/library --no-vignettes --timings rWikiPathways_1.4.1.tar.gz
###
##############################################################################
##############################################################################
* using log directory ‘/home/biocbuild/bbs-3.9-bioc/meat/rWikiPathways.Rcheck’
* using R version 3.6.1 (2019-07-05)
* using platform: x86_64-pc-linux-gnu (64-bit)
* using session charset: UTF-8
* using option ‘--no-vignettes’
* checking for file ‘rWikiPathways/DESCRIPTION’ ... OK
* checking extension type ... Package
* this is package ‘rWikiPathways’ version ‘1.4.1’
* checking package namespace information ... OK
* checking package dependencies ... OK
* checking if this is a source package ... OK
* checking if there is a namespace ... OK
* checking for hidden files and directories ... NOTE
Found the following hidden files and directories:
.travis.yml
These were most likely included in error. See section ‘Package
structure’ in the ‘Writing R Extensions’ manual.
* checking for portable file names ... OK
* checking for sufficient/correct file permissions ... OK
* checking whether package ‘rWikiPathways’ can be installed ... OK
* checking installed package size ... OK
* checking package directory ... OK
* checking ‘build’ directory ... OK
* checking DESCRIPTION meta-information ... OK
* checking top-level files ... OK
* checking for left-over files ... OK
* checking index information ... OK
* checking package subdirectories ... OK
* checking R files for non-ASCII characters ... OK
* checking R files for syntax errors ... OK
* checking whether the package can be loaded ... OK
* checking whether the package can be loaded with stated dependencies ... OK
* checking whether the package can be unloaded cleanly ... OK
* checking whether the namespace can be loaded with stated dependencies ... OK
* checking whether the namespace can be unloaded cleanly ... OK
* checking dependencies in R code ... OK
* checking S3 generic/method consistency ... OK
* checking replacement functions ... OK
* checking foreign function calls ... OK
* checking R code for possible problems ... OK
* checking Rd files ... OK
* checking Rd metadata ... OK
* checking Rd cross-references ... OK
* checking for missing documentation entries ... OK
* checking for code/documentation mismatches ... OK
* checking Rd \usage sections ... OK
* checking Rd contents ... OK
* checking for unstated dependencies in examples ... OK
* checking files in ‘vignettes’ ... OK
* checking examples ... OK
Examples with CPU or elapsed time > 5s
user system elapsed
findPathwayIdsByLiterature 0.178 0.015 7.12
* checking for unstated dependencies in ‘tests’ ... OK
* checking tests ...
Running ‘testthat.R’
OK
* checking for unstated dependencies in vignettes ... OK
* checking package vignettes in ‘inst/doc’ ... OK
* checking running R code from vignettes ... SKIPPED
* checking re-building of vignette outputs ... SKIPPED
* checking PDF version of manual ... OK
* DONE
Status: 1 NOTE
See
‘/home/biocbuild/bbs-3.9-bioc/meat/rWikiPathways.Rcheck/00check.log’
for details.
rWikiPathways.Rcheck/00install.out
############################################################################## ############################################################################## ### ### Running command: ### ### /home/biocbuild/bbs-3.9-bioc/R/bin/R CMD INSTALL rWikiPathways ### ############################################################################## ############################################################################## * installing to library ‘/home/biocbuild/bbs-3.9-bioc/R/library’ * installing *source* package ‘rWikiPathways’ ... ** using staged installation ** R ** inst ** byte-compile and prepare package for lazy loading ** help *** installing help indices ** building package indices ** installing vignettes ** testing if installed package can be loaded from temporary location ** testing if installed package can be loaded from final location ** testing if installed package keeps a record of temporary installation path * DONE (rWikiPathways)
rWikiPathways.Rcheck/tests/testthat.Rout
R version 3.6.1 (2019-07-05) -- "Action of the Toes"
Copyright (C) 2019 The R Foundation for Statistical Computing
Platform: x86_64-pc-linux-gnu (64-bit)
R is free software and comes with ABSOLUTELY NO WARRANTY.
You are welcome to redistribute it under certain conditions.
Type 'license()' or 'licence()' for distribution details.
R is a collaborative project with many contributors.
Type 'contributors()' for more information and
'citation()' on how to cite R or R packages in publications.
Type 'demo()' for some demos, 'help()' for on-line help, or
'help.start()' for an HTML browser interface to help.
Type 'q()' to quit R.
> library(testthat)
> library(rWikiPathways)
>
> test_check("rWikiPathways")
══ testthat results ═══════════════════════════════════════════════════════════
[ OK: 27 | SKIPPED: 0 | WARNINGS: 0 | FAILED: 0 ]
>
> proc.time()
user system elapsed
1.418 0.073 23.052
rWikiPathways.Rcheck/rWikiPathways-Ex.timings
| name | user | system | elapsed | |
| downloadPathwayArchive | 0 | 0 | 0 | |
| findPathwayIdsByLiterature | 0.178 | 0.015 | 7.120 | |
| findPathwayIdsByText | 0.069 | 0.000 | 0.753 | |
| findPathwayIdsByXref | 0.023 | 0.000 | 0.726 | |
| findPathwayNamesByLiterature | 0.077 | 0.001 | 4.425 | |
| findPathwayNamesByText | 0.012 | 0.000 | 0.699 | |
| findPathwayNamesByXref | 0.023 | 0.000 | 0.507 | |
| findPathwayUrlsByLiterature | 0.084 | 0.000 | 4.515 | |
| findPathwayUrlsByText | 0.014 | 0.000 | 0.676 | |
| findPathwayUrlsByXref | 0.020 | 0.000 | 0.493 | |
| findPathwaysByLiterature | 0.240 | 0.047 | 4.726 | |
| findPathwaysByText | 0.030 | 0.003 | 0.719 | |
| findPathwaysByXref | 0.062 | 0.040 | 0.618 | |
| getColoredPathway | 0.034 | 0.000 | 0.166 | |
| getCurationTagNames | 0.008 | 0.000 | 0.054 | |
| getCurationTags | 0.008 | 0.000 | 0.056 | |
| getEveryCurationTag | 0.078 | 0.012 | 0.888 | |
| getOntologyTermIds | 0.007 | 0.000 | 0.044 | |
| getOntologyTermNames | 0.004 | 0.004 | 0.042 | |
| getOntologyTerms | 0.007 | 0.000 | 0.042 | |
| getPathway | 0.018 | 0.003 | 0.061 | |
| getPathwayHistory | 0.008 | 0.000 | 0.052 | |
| getPathwayIdsByCurationTag | 0.022 | 0.000 | 0.600 | |
| getPathwayIdsByOntologyTerm | 0.008 | 0.000 | 0.063 | |
| getPathwayIdsByParentOntologyTerm | 0.007 | 0.000 | 0.058 | |
| getPathwayInfo | 0.007 | 0.000 | 0.041 | |
| getPathwaysByCurationTag | 0.028 | 0.012 | 0.617 | |
| getPathwaysByOntologyTerm | 0.009 | 0.000 | 0.058 | |
| getPathwaysByParentOntologyTerm | 0.007 | 0.003 | 0.058 | |
| getRecentChanges | 0.095 | 0.040 | 1.671 | |
| getRecentChangesIds | 0.038 | 0.004 | 1.186 | |
| getRecentChangesNames | 0.038 | 0.004 | 1.197 | |
| getXrefList | 0.006 | 0.000 | 0.189 | |
| listOrganisms | 0.007 | 0.000 | 0.039 | |
| listPathwayIds | 0.017 | 0.000 | 4.521 | |
| listPathwayNames | 0.015 | 0.000 | 4.519 | |
| listPathwayUrls | 0.018 | 0.000 | 4.618 | |
| listPathways | 0.018 | 0.008 | 4.827 | |
| wikipathwaysAPI | 0.000 | 0.007 | 0.006 | |
| wikipathwaysGET | 0.008 | 0.000 | 0.040 | |