| Back to Multiple platform build/check report for BioC 3.9 |
|
This page was generated on 2019-10-16 12:21:09 -0400 (Wed, 16 Oct 2019).
| Package 1376/1741 | Hostname | OS / Arch | INSTALL | BUILD | CHECK | BUILD BIN | ||||||
| rHVDM 1.50.0 Martino Barenco
| malbec2 | Linux (Ubuntu 18.04.2 LTS) / x86_64 | OK | OK | ERROR | |||||||
| tokay2 | Windows Server 2012 R2 Standard / x64 | [ OK ] | OK | ERROR | OK | |||||||
| celaya2 | OS X 10.11.6 El Capitan / x86_64 | OK | OK | ERROR | OK |
| Package: rHVDM |
| Version: 1.50.0 |
| Command: C:\cygwin\bin\curl.exe -O https://malbec2.bioconductor.org/BBS/3.9/bioc/src/contrib/rHVDM_1.50.0.tar.gz && rm -rf rHVDM.buildbin-libdir && mkdir rHVDM.buildbin-libdir && C:\Users\biocbuild\bbs-3.9-bioc\R\bin\R.exe CMD INSTALL --merge-multiarch --build --library=rHVDM.buildbin-libdir rHVDM_1.50.0.tar.gz && C:\Users\biocbuild\bbs-3.9-bioc\R\bin\R.exe CMD INSTALL rHVDM_1.50.0.zip && rm rHVDM_1.50.0.tar.gz rHVDM_1.50.0.zip |
| StartedAt: 2019-10-15 19:29:27 -0400 (Tue, 15 Oct 2019) |
| EndedAt: 2019-10-15 19:30:27 -0400 (Tue, 15 Oct 2019) |
| EllapsedTime: 59.7 seconds |
| RetCode: 0 |
| Status: OK |
##############################################################################
##############################################################################
###
### Running command:
###
### C:\cygwin\bin\curl.exe -O https://malbec2.bioconductor.org/BBS/3.9/bioc/src/contrib/rHVDM_1.50.0.tar.gz && rm -rf rHVDM.buildbin-libdir && mkdir rHVDM.buildbin-libdir && C:\Users\biocbuild\bbs-3.9-bioc\R\bin\R.exe CMD INSTALL --merge-multiarch --build --library=rHVDM.buildbin-libdir rHVDM_1.50.0.tar.gz && C:\Users\biocbuild\bbs-3.9-bioc\R\bin\R.exe CMD INSTALL rHVDM_1.50.0.zip && rm rHVDM_1.50.0.tar.gz rHVDM_1.50.0.zip
###
##############################################################################
##############################################################################
% Total % Received % Xferd Average Speed Time Time Time Current
Dload Upload Total Spent Left Speed
0 0 0 0 0 0 0 0 --:--:-- --:--:-- --:--:-- 0
100 5228k 100 5228k 0 0 27.9M 0 --:--:-- --:--:-- --:--:-- 29.1M
install for i386
* installing *source* package 'rHVDM' ...
** using staged installation
** R
** data
** byte-compile and prepare package for lazy loading
Note: break used in wrong context: no loop is visible
** help
*** installing help indices
converting help for package 'rHVDM'
finding HTML links ... done
HVDMcheck html
HVDMreport html
estimerrors html
fitgene html
fitgene.lin html
fitgene.nl html
fiveGyMAS5 html
genestoscreen html
leastnoisychips html
p53traingenes html
rHVDMplattforms html
screening html
screening.nl html
training html
training.nl html
twodosesMAS5 html
** building package indices
** installing vignettes
** testing if installed package can be loaded from temporary location
** testing if installed package can be loaded from final location
** testing if installed package keeps a record of temporary installation path
install for x64
* installing *source* package 'rHVDM' ...
** testing if installed package can be loaded
* MD5 sums
packaged installation of 'rHVDM' as rHVDM_1.50.0.zip
* DONE (rHVDM)
* installing to library 'C:/Users/biocbuild/bbs-3.9-bioc/R/library'
package 'rHVDM' successfully unpacked and MD5 sums checked