| Back to Multiple platform build/check report for BioC 3.9 |
|
This page was generated on 2019-10-16 12:27:48 -0400 (Wed, 16 Oct 2019).
| Package 1211/1741 | Hostname | OS / Arch | INSTALL | BUILD | CHECK | BUILD BIN | ||||||
| piano 2.0.2 Leif Varemo Wigge
| malbec2 | Linux (Ubuntu 18.04.2 LTS) / x86_64 | OK | OK | OK | |||||||
| tokay2 | Windows Server 2012 R2 Standard / x64 | [ OK ] | OK | OK | OK | |||||||
| celaya2 | OS X 10.11.6 El Capitan / x86_64 | OK | OK | OK | OK |
| Package: piano |
| Version: 2.0.2 |
| Command: C:\cygwin\bin\curl.exe -O https://malbec2.bioconductor.org/BBS/3.9/bioc/src/contrib/piano_2.0.2.tar.gz && rm -rf piano.buildbin-libdir && mkdir piano.buildbin-libdir && C:\Users\biocbuild\bbs-3.9-bioc\R\bin\R.exe CMD INSTALL --merge-multiarch --build --library=piano.buildbin-libdir piano_2.0.2.tar.gz && C:\Users\biocbuild\bbs-3.9-bioc\R\bin\R.exe CMD INSTALL piano_2.0.2.zip && rm piano_2.0.2.tar.gz piano_2.0.2.zip |
| StartedAt: 2019-10-15 19:46:19 -0400 (Tue, 15 Oct 2019) |
| EndedAt: 2019-10-15 19:48:22 -0400 (Tue, 15 Oct 2019) |
| EllapsedTime: 122.5 seconds |
| RetCode: 0 |
| Status: OK |
##############################################################################
##############################################################################
###
### Running command:
###
### C:\cygwin\bin\curl.exe -O https://malbec2.bioconductor.org/BBS/3.9/bioc/src/contrib/piano_2.0.2.tar.gz && rm -rf piano.buildbin-libdir && mkdir piano.buildbin-libdir && C:\Users\biocbuild\bbs-3.9-bioc\R\bin\R.exe CMD INSTALL --merge-multiarch --build --library=piano.buildbin-libdir piano_2.0.2.tar.gz && C:\Users\biocbuild\bbs-3.9-bioc\R\bin\R.exe CMD INSTALL piano_2.0.2.zip && rm piano_2.0.2.tar.gz piano_2.0.2.zip
###
##############################################################################
##############################################################################
% Total % Received % Xferd Average Speed Time Time Time Current
Dload Upload Total Spent Left Speed
0 0 0 0 0 0 0 0 --:--:-- --:--:-- --:--:-- 0
41 973k 41 400k 0 0 1149k 0 --:--:-- --:--:-- --:--:-- 1169k
100 973k 100 973k 0 0 2328k 0 --:--:-- --:--:-- --:--:-- 2357k
install for i386
* installing *source* package 'piano' ...
** using staged installation
** R
** data
** inst
** byte-compile and prepare package for lazy loading
** help
*** installing help indices
converting help for package 'piano'
finding HTML links ... done
GSAheatmap html
GSAsummaryTable html
consensusHeatmap html
consensusScores html
diffExp html
finding level-2 HTML links ... done
exploreGSAres html
extractFactors html
geneSetSummary html
gsa_input html
gsa_results html
loadGSC html
loadMAdata html
networkPlot html
networkPlot2 html
piano-package html
polarPlot html
runGSA html
runGSAhyper html
runQC html
writeFilesForKiwi html
** building package indices
** installing vignettes
** testing if installed package can be loaded from temporary location
** testing if installed package can be loaded from final location
** testing if installed package keeps a record of temporary installation path
install for x64
* installing *source* package 'piano' ...
** testing if installed package can be loaded
* MD5 sums
packaged installation of 'piano' as piano_2.0.2.zip
* DONE (piano)
* installing to library 'C:/Users/biocbuild/bbs-3.9-bioc/R/library'
package 'piano' successfully unpacked and MD5 sums checked