| Back to Multiple platform build/check report for BioC 3.9 |
|
This page was generated on 2019-10-16 12:30:38 -0400 (Wed, 16 Oct 2019).
| Package 1020/1741 | Hostname | OS / Arch | INSTALL | BUILD | CHECK | BUILD BIN | ||||||
| missMethyl 1.18.0 Belinda Phipson
| malbec2 | Linux (Ubuntu 18.04.2 LTS) / x86_64 | OK | OK | OK | |||||||
| tokay2 | Windows Server 2012 R2 Standard / x64 | [ OK ] | OK | OK | OK | |||||||
| celaya2 | OS X 10.11.6 El Capitan / x86_64 | OK | OK | OK | OK |
| Package: missMethyl |
| Version: 1.18.0 |
| Command: C:\cygwin\bin\curl.exe -O https://malbec2.bioconductor.org/BBS/3.9/bioc/src/contrib/missMethyl_1.18.0.tar.gz && rm -rf missMethyl.buildbin-libdir && mkdir missMethyl.buildbin-libdir && C:\Users\biocbuild\bbs-3.9-bioc\R\bin\R.exe CMD INSTALL --merge-multiarch --build --library=missMethyl.buildbin-libdir missMethyl_1.18.0.tar.gz && C:\Users\biocbuild\bbs-3.9-bioc\R\bin\R.exe CMD INSTALL missMethyl_1.18.0.zip && rm missMethyl_1.18.0.tar.gz missMethyl_1.18.0.zip |
| StartedAt: 2019-10-15 21:10:47 -0400 (Tue, 15 Oct 2019) |
| EndedAt: 2019-10-15 21:12:14 -0400 (Tue, 15 Oct 2019) |
| EllapsedTime: 87.1 seconds |
| RetCode: 0 |
| Status: OK |
##############################################################################
##############################################################################
###
### Running command:
###
### C:\cygwin\bin\curl.exe -O https://malbec2.bioconductor.org/BBS/3.9/bioc/src/contrib/missMethyl_1.18.0.tar.gz && rm -rf missMethyl.buildbin-libdir && mkdir missMethyl.buildbin-libdir && C:\Users\biocbuild\bbs-3.9-bioc\R\bin\R.exe CMD INSTALL --merge-multiarch --build --library=missMethyl.buildbin-libdir missMethyl_1.18.0.tar.gz && C:\Users\biocbuild\bbs-3.9-bioc\R\bin\R.exe CMD INSTALL missMethyl_1.18.0.zip && rm missMethyl_1.18.0.tar.gz missMethyl_1.18.0.zip
###
##############################################################################
##############################################################################
% Total % Received % Xferd Average Speed Time Time Time Current
Dload Upload Total Spent Left Speed
0 0 0 0 0 0 0 0 --:--:-- --:--:-- --:--:-- 0
100 43656 100 43656 0 0 680k 0 --:--:-- --:--:-- --:--:-- 761k
install for i386
* installing *source* package 'missMethyl' ...
** using staged installation
** R
** inst
** byte-compile and prepare package for lazy loading
** help
*** installing help indices
converting help for package 'missMethyl'
finding HTML links ... done
RUVadj html
finding level-2 HTML links ... done
RUVfit html
SWAN html
contrasts.varFit html
densityByProbeType html
getAdj html
getINCs html
getLeveneResiduals html
getMappedEntrezIDs html
gometh html
gsameth html
missMethyl-package html
topGSA html
topRUV html
topVar html
varFit html
** building package indices
** installing vignettes
** testing if installed package can be loaded from temporary location
** testing if installed package can be loaded from final location
** testing if installed package keeps a record of temporary installation path
install for x64
* installing *source* package 'missMethyl' ...
** testing if installed package can be loaded
* MD5 sums
packaged installation of 'missMethyl' as missMethyl_1.18.0.zip
* DONE (missMethyl)
* installing to library 'C:/Users/biocbuild/bbs-3.9-bioc/R/library'
package 'missMethyl' successfully unpacked and MD5 sums checked