| Back to Multiple platform build/check report for BioC 3.9 |
|
This page was generated on 2019-10-16 12:33:26 -0400 (Wed, 16 Oct 2019).
| Package 1010/1741 | Hostname | OS / Arch | INSTALL | BUILD | CHECK | BUILD BIN | ||||||
| mirIntegrator 1.14.0 Diana Diaz
| malbec2 | Linux (Ubuntu 18.04.2 LTS) / x86_64 | OK | OK | OK | |||||||
| tokay2 | Windows Server 2012 R2 Standard / x64 | [ OK ] | OK | OK | OK | |||||||
| celaya2 | OS X 10.11.6 El Capitan / x86_64 | OK | OK | OK | OK |
| Package: mirIntegrator |
| Version: 1.14.0 |
| Command: C:\cygwin\bin\curl.exe -O https://malbec2.bioconductor.org/BBS/3.9/bioc/src/contrib/mirIntegrator_1.14.0.tar.gz && rm -rf mirIntegrator.buildbin-libdir && mkdir mirIntegrator.buildbin-libdir && C:\Users\biocbuild\bbs-3.9-bioc\R\bin\R.exe CMD INSTALL --merge-multiarch --build --library=mirIntegrator.buildbin-libdir mirIntegrator_1.14.0.tar.gz && C:\Users\biocbuild\bbs-3.9-bioc\R\bin\R.exe CMD INSTALL mirIntegrator_1.14.0.zip && rm mirIntegrator_1.14.0.tar.gz mirIntegrator_1.14.0.zip |
| StartedAt: 2019-10-15 20:18:13 -0400 (Tue, 15 Oct 2019) |
| EndedAt: 2019-10-15 20:19:12 -0400 (Tue, 15 Oct 2019) |
| EllapsedTime: 58.6 seconds |
| RetCode: 0 |
| Status: OK |
##############################################################################
##############################################################################
###
### Running command:
###
### C:\cygwin\bin\curl.exe -O https://malbec2.bioconductor.org/BBS/3.9/bioc/src/contrib/mirIntegrator_1.14.0.tar.gz && rm -rf mirIntegrator.buildbin-libdir && mkdir mirIntegrator.buildbin-libdir && C:\Users\biocbuild\bbs-3.9-bioc\R\bin\R.exe CMD INSTALL --merge-multiarch --build --library=mirIntegrator.buildbin-libdir mirIntegrator_1.14.0.tar.gz && C:\Users\biocbuild\bbs-3.9-bioc\R\bin\R.exe CMD INSTALL mirIntegrator_1.14.0.zip && rm mirIntegrator_1.14.0.tar.gz mirIntegrator_1.14.0.zip
###
##############################################################################
##############################################################################
% Total % Received % Xferd Average Speed Time Time Time Current
Dload Upload Total Spent Left Speed
0 0 0 0 0 0 0 0 --:--:-- --:--:-- --:--:-- 0
100 1591k 100 1591k 0 0 22.0M 0 --:--:-- --:--:-- --:--:-- 24.2M
install for i386
* installing *source* package 'mirIntegrator' ...
** using staged installation
** R
** data
** inst
** byte-compile and prepare package for lazy loading
** help
*** installing help indices
converting help for package 'mirIntegrator'
finding HTML links ... done
GSE43592_mRNA html
GSE43592_miRNA html
augmented_pathways html
integrate_mir html
kegg_pathways html
mirTarBase html
names_pathways html
pathways2pdf html
plot_augmented_pathway html
plot_change html
smallest_pathway html
** building package indices
** installing vignettes
** testing if installed package can be loaded from temporary location
** testing if installed package can be loaded from final location
** testing if installed package keeps a record of temporary installation path
install for x64
* installing *source* package 'mirIntegrator' ...
** testing if installed package can be loaded
* MD5 sums
packaged installation of 'mirIntegrator' as mirIntegrator_1.14.0.zip
* DONE (mirIntegrator)
* installing to library 'C:/Users/biocbuild/bbs-3.9-bioc/R/library'
package 'mirIntegrator' successfully unpacked and MD5 sums checked