| Back to Multiple platform build/check report for BioC 3.9 |
|
This page was generated on 2019-10-16 12:34:37 -0400 (Wed, 16 Oct 2019).
| Package 891/1741 | Hostname | OS / Arch | INSTALL | BUILD | CHECK | BUILD BIN | ||||||
| lpsymphony 1.12.0 Vladislav Kim
| malbec2 | Linux (Ubuntu 18.04.2 LTS) / x86_64 | OK | OK | WARNINGS | |||||||
| tokay2 | Windows Server 2012 R2 Standard / x64 | [ OK ] | OK | WARNINGS | OK | |||||||
| celaya2 | OS X 10.11.6 El Capitan / x86_64 | OK | OK | WARNINGS | OK |
| Package: lpsymphony |
| Version: 1.12.0 |
| Command: C:\cygwin\bin\curl.exe -O https://malbec2.bioconductor.org/BBS/3.9/bioc/src/contrib/lpsymphony_1.12.0.tar.gz && rm -rf lpsymphony.buildbin-libdir && mkdir lpsymphony.buildbin-libdir && C:\Users\biocbuild\bbs-3.9-bioc\R\bin\R.exe CMD INSTALL --merge-multiarch --build --library=lpsymphony.buildbin-libdir lpsymphony_1.12.0.tar.gz && C:\Users\biocbuild\bbs-3.9-bioc\R\bin\R.exe CMD INSTALL lpsymphony_1.12.0.zip && rm lpsymphony_1.12.0.tar.gz lpsymphony_1.12.0.zip |
| StartedAt: 2019-10-15 18:39:07 -0400 (Tue, 15 Oct 2019) |
| EndedAt: 2019-10-15 18:41:30 -0400 (Tue, 15 Oct 2019) |
| EllapsedTime: 143.5 seconds |
| RetCode: 0 |
| Status: OK |
##############################################################################
##############################################################################
###
### Running command:
###
### C:\cygwin\bin\curl.exe -O https://malbec2.bioconductor.org/BBS/3.9/bioc/src/contrib/lpsymphony_1.12.0.tar.gz && rm -rf lpsymphony.buildbin-libdir && mkdir lpsymphony.buildbin-libdir && C:\Users\biocbuild\bbs-3.9-bioc\R\bin\R.exe CMD INSTALL --merge-multiarch --build --library=lpsymphony.buildbin-libdir lpsymphony_1.12.0.tar.gz && C:\Users\biocbuild\bbs-3.9-bioc\R\bin\R.exe CMD INSTALL lpsymphony_1.12.0.zip && rm lpsymphony_1.12.0.tar.gz lpsymphony_1.12.0.zip
###
##############################################################################
##############################################################################
% Total % Received % Xferd Average Speed Time Time Time Current
Dload Upload Total Spent Left Speed
0 0 0 0 0 0 0 0 --:--:-- --:--:-- --:--:-- 0
0 0 0 0 0 0 0 0 --:--:-- 0:00:01 --:--:-- 0
0 0 0 0 0 0 0 0 --:--:-- 0:00:02 --:--:-- 0
19 15.0M 19 3040k 0 0 1059k 0 0:00:14 0:00:02 0:00:12 1064k
52 15.0M 52 8128k 0 0 2022k 0 0:00:07 0:00:04 0:00:03 2029k
100 15.0M 100 15.0M 0 0 3369k 0 0:00:04 0:00:04 --:--:-- 3379k
install for i386
* installing *source* package 'lpsymphony' ...
** using staged installation
** libs
cp WinLib/i386/*.dll .
installing to C:/Users/biocbuild/bbs-3.9-bioc/meat/lpsymphony.buildbin-libdir/00LOCK-lpsymphony/00new/lpsymphony/libs/i386
** R
** byte-compile and prepare package for lazy loading
** help
*** installing help indices
converting help for package 'lpsymphony'
finding HTML links ... done
lpsymphony_solve html
** building package indices
** installing vignettes
** testing if installed package can be loaded from temporary location
** testing if installed package can be loaded from final location
** testing if installed package keeps a record of temporary installation path
install for x64
* installing *source* package 'lpsymphony' ...
** libs
cp WinLib/x64/*.dll .
installing to C:/Users/biocbuild/bbs-3.9-bioc/meat/lpsymphony.buildbin-libdir/lpsymphony/libs/x64
** testing if installed package can be loaded
* MD5 sums
packaged installation of 'lpsymphony' as lpsymphony_1.12.0.zip
* DONE (lpsymphony)
* installing to library 'C:/Users/biocbuild/bbs-3.9-bioc/R/library'
package 'lpsymphony' successfully unpacked and MD5 sums checked