| Back to Multiple platform build/check report for BioC 3.9 |
|
This page was generated on 2019-04-09 13:33:05 -0400 (Tue, 09 Apr 2019).
| Package 826/1703 | Hostname | OS / Arch | INSTALL | BUILD | CHECK | BUILD BIN | ||||||
| isomiRs 1.11.1 Lorena Pantano
| malbec2 | Linux (Ubuntu 18.04.2 LTS) / x86_64 | OK | OK | OK | |||||||
| tokay2 | Windows Server 2012 R2 Standard / x64 | OK | OK | OK | OK | |||||||
| celaya2 | OS X 10.11.6 El Capitan / x86_64 | OK | OK | OK | OK | |||||||
| merida2 | OS X 10.11.6 El Capitan / x86_64 | [ OK ] | OK | OK | OK |
| Package: isomiRs |
| Version: 1.11.1 |
| Command: /Library/Frameworks/R.framework/Versions/Current/Resources/bin/R CMD INSTALL isomiRs |
| StartedAt: 2019-04-08 19:13:12 -0400 (Mon, 08 Apr 2019) |
| EndedAt: 2019-04-08 19:14:03 -0400 (Mon, 08 Apr 2019) |
| EllapsedTime: 51.2 seconds |
| RetCode: 0 |
| Status: OK |
############################################################################## ############################################################################## ### ### Running command: ### ### /Library/Frameworks/R.framework/Versions/Current/Resources/bin/R CMD INSTALL isomiRs ### ############################################################################## ############################################################################## * installing to library ‘/Library/Frameworks/R.framework/Versions/3.6/Resources/library’ * installing *source* package ‘isomiRs’ ... ** R ** data *** moving datasets to lazyload DB Registered S3 methods overwritten by 'ggplot2': method from [.quosures rlang c.quosures rlang print.quosures rlang Registered S3 method overwritten by 'GGally': method from +.gg ggplot2 ** inst ** byte-compile and prepare package for lazy loading ** help *** installing help indices ** building package indices ** installing vignettes ** testing if installed package can be loaded * DONE (isomiRs)