| Back to Multiple platform build/check report for BioC 3.9 |
|
This page was generated on 2019-10-16 12:44:19 -0400 (Wed, 16 Oct 2019).
| Package 813/1741 | Hostname | OS / Arch | INSTALL | BUILD | CHECK | BUILD BIN | ||||||
| infercnv 1.0.4 Christophe Georgescu
| malbec2 | Linux (Ubuntu 18.04.2 LTS) / x86_64 | OK | OK | OK | |||||||
| tokay2 | Windows Server 2012 R2 Standard / x64 | OK | OK | [ OK ] | OK | |||||||
| celaya2 | OS X 10.11.6 El Capitan / x86_64 | OK | OK | OK | OK |
| Package: infercnv |
| Version: 1.0.4 |
| Command: C:\Users\biocbuild\bbs-3.9-bioc\R\bin\R.exe CMD check --force-multiarch --install=check:infercnv.install-out.txt --library=C:\Users\biocbuild\bbs-3.9-bioc\R\library --no-vignettes --timings infercnv_1.0.4.tar.gz |
| StartedAt: 2019-10-16 04:34:40 -0400 (Wed, 16 Oct 2019) |
| EndedAt: 2019-10-16 04:49:19 -0400 (Wed, 16 Oct 2019) |
| EllapsedTime: 878.8 seconds |
| RetCode: 0 |
| Status: OK |
| CheckDir: infercnv.Rcheck |
| Warnings: 0 |
##############################################################################
##############################################################################
###
### Running command:
###
### C:\Users\biocbuild\bbs-3.9-bioc\R\bin\R.exe CMD check --force-multiarch --install=check:infercnv.install-out.txt --library=C:\Users\biocbuild\bbs-3.9-bioc\R\library --no-vignettes --timings infercnv_1.0.4.tar.gz
###
##############################################################################
##############################################################################
* using log directory 'C:/Users/biocbuild/bbs-3.9-bioc/meat/infercnv.Rcheck'
* using R version 3.6.1 (2019-07-05)
* using platform: x86_64-w64-mingw32 (64-bit)
* using session charset: ISO8859-1
* using option '--no-vignettes'
* checking for file 'infercnv/DESCRIPTION' ... OK
* checking extension type ... Package
* this is package 'infercnv' version '1.0.4'
* checking package namespace information ... OK
* checking package dependencies ... OK
* checking if this is a source package ... OK
* checking if there is a namespace ... OK
* checking for hidden files and directories ... OK
* checking for portable file names ... OK
* checking whether package 'infercnv' can be installed ... OK
* checking installed package size ... OK
* checking package directory ... OK
* checking 'build' directory ... OK
* checking DESCRIPTION meta-information ... OK
* checking top-level files ... OK
* checking for left-over files ... OK
* checking index information ... OK
* checking package subdirectories ... OK
* checking R files for non-ASCII characters ... OK
* checking R files for syntax errors ... OK
* loading checks for arch 'i386'
** checking whether the package can be loaded ... OK
** checking whether the package can be loaded with stated dependencies ... OK
** checking whether the package can be unloaded cleanly ... OK
** checking whether the namespace can be loaded with stated dependencies ... OK
** checking whether the namespace can be unloaded cleanly ... OK
* loading checks for arch 'x64'
** checking whether the package can be loaded ... OK
** checking whether the package can be loaded with stated dependencies ... OK
** checking whether the package can be unloaded cleanly ... OK
** checking whether the namespace can be loaded with stated dependencies ... OK
** checking whether the namespace can be unloaded cleanly ... OK
* checking dependencies in R code ... NOTE
Unexported object imported by a ':::' call: 'HiddenMarkov:::makedensity'
See the note in ?`:::` about the use of this operator.
* checking S3 generic/method consistency ... OK
* checking replacement functions ... OK
* checking foreign function calls ... OK
* checking R code for possible problems ... OK
* checking Rd files ... OK
* checking Rd metadata ... OK
* checking Rd cross-references ... OK
* checking for missing documentation entries ... OK
* checking for code/documentation mismatches ... OK
* checking Rd \usage sections ... OK
* checking Rd contents ... OK
* checking for unstated dependencies in examples ... OK
* checking contents of 'data' directory ... OK
* checking data for non-ASCII characters ... OK
* checking data for ASCII and uncompressed saves ... OK
* checking files in 'vignettes' ... OK
* checking examples ...
** running examples for arch 'i386' ... OK
Examples with CPU or elapsed time > 5s
user system elapsed
inferCNVBayesNet 280.61 1.53 282.61
apply_median_filtering 7.01 0.19 7.20
run 6.44 0.07 6.50
** running examples for arch 'x64' ... OK
Examples with CPU or elapsed time > 5s
user system elapsed
inferCNVBayesNet 260.97 1.27 265.17
apply_median_filtering 8.95 0.02 8.97
run 7.86 0.02 7.89
plot_cnv 1.08 0.37 6.66
* checking for unstated dependencies in 'tests' ... OK
* checking tests ...
** running tests for arch 'i386' ...
Running 'testthat.R'
OK
** running tests for arch 'x64' ...
Running 'testthat.R'
OK
* checking for unstated dependencies in vignettes ... OK
* checking package vignettes in 'inst/doc' ... OK
* checking running R code from vignettes ... SKIPPED
* checking re-building of vignette outputs ... SKIPPED
* checking PDF version of manual ... OK
* DONE
Status: 1 NOTE
See
'C:/Users/biocbuild/bbs-3.9-bioc/meat/infercnv.Rcheck/00check.log'
for details.
infercnv.Rcheck/00install.out
##############################################################################
##############################################################################
###
### Running command:
###
### C:\cygwin\bin\curl.exe -O https://malbec2.bioconductor.org/BBS/3.9/bioc/src/contrib/infercnv_1.0.4.tar.gz && rm -rf infercnv.buildbin-libdir && mkdir infercnv.buildbin-libdir && C:\Users\biocbuild\bbs-3.9-bioc\R\bin\R.exe CMD INSTALL --merge-multiarch --build --library=infercnv.buildbin-libdir infercnv_1.0.4.tar.gz && C:\Users\biocbuild\bbs-3.9-bioc\R\bin\R.exe CMD INSTALL infercnv_1.0.4.zip && rm infercnv_1.0.4.tar.gz infercnv_1.0.4.zip
###
##############################################################################
##############################################################################
% Total % Received % Xferd Average Speed Time Time Time Current
Dload Upload Total Spent Left Speed
0 0 0 0 0 0 0 0 --:--:-- --:--:-- --:--:-- 0
100 3725k 100 3725k 0 0 36.8M 0 --:--:-- --:--:-- --:--:-- 39.5M
install for i386
* installing *source* package 'infercnv' ...
** using staged installation
** R
** data
*** moving datasets to lazyload DB
** inst
** byte-compile and prepare package for lazy loading
** help
*** installing help indices
converting help for package 'infercnv'
finding HTML links ... done
CreateInfercnvObject html
HMM_states html
MCMC_inferCNV-class html
annots html
apply_median_filtering html
data html
filterHighPNormals html
genes html
inferCNVBayesNet html
infercnv-class html
infercnv-package html
infercnv_obj html
mcmc_obj html
plot_cnv html
run html
validate_infercnv_obj html
** building package indices
** installing vignettes
** testing if installed package can be loaded from temporary location
** testing if installed package can be loaded from final location
** testing if installed package keeps a record of temporary installation path
install for x64
* installing *source* package 'infercnv' ...
** testing if installed package can be loaded
* MD5 sums
packaged installation of 'infercnv' as infercnv_1.0.4.zip
* DONE (infercnv)
* installing to library 'C:/Users/biocbuild/bbs-3.9-bioc/R/library'
package 'infercnv' successfully unpacked and MD5 sums checked
|
infercnv.Rcheck/tests_i386/testthat.Rout
R version 3.6.1 (2019-07-05) -- "Action of the Toes"
Copyright (C) 2019 The R Foundation for Statistical Computing
Platform: i386-w64-mingw32/i386 (32-bit)
R is free software and comes with ABSOLUTELY NO WARRANTY.
You are welcome to redistribute it under certain conditions.
Type 'license()' or 'licence()' for distribution details.
R is a collaborative project with many contributors.
Type 'contributors()' for more information and
'citation()' on how to cite R or R packages in publications.
Type 'demo()' for some demos, 'help()' for on-line help, or
'help.start()' for an HTML browser interface to help.
Type 'q()' to quit R.
> #!/usr/bin/env Rscript
>
> library(testthat)
> library(infercnv)
>
> test_check("infercnv")
INFO [2019-10-16 04:48:58] ::subtract_ref_expr_from_obs:Start inv_log=FALSE, use_bounds=TRUE
INFO [2019-10-16 04:48:58] subtracting mean(normal) per gene per cell across all data
INFO [2019-10-16 04:48:58] -subtracting expr per gene, use_bounds=TRUE
INFO [2019-10-16 04:48:58] ::subtract_ref_expr_from_obs:Start inv_log=FALSE, use_bounds=TRUE
INFO [2019-10-16 04:48:58] subtracting mean(normal) per gene per cell across all data
INFO [2019-10-16 04:48:58] -subtracting expr per gene, use_bounds=TRUE
INFO [2019-10-16 04:48:58] ::subtract_ref_expr_from_obs:Start inv_log=FALSE, use_bounds=TRUE
INFO [2019-10-16 04:48:58] subtracting mean(normal) per gene per cell across all data
INFO [2019-10-16 04:48:58] -subtracting expr per gene, use_bounds=TRUE
INFO [2019-10-16 04:48:58] ::subtract_ref_expr_from_obs:Start inv_log=FALSE, use_bounds=TRUE
INFO [2019-10-16 04:48:58] subtracting mean(normal) per gene per cell across all data
INFO [2019-10-16 04:48:58] -subtracting expr per gene, use_bounds=TRUE
INFO [2019-10-16 04:48:58] ::subtract_ref_expr_from_obs:Start inv_log=FALSE, use_bounds=TRUE
INFO [2019-10-16 04:48:58] subtracting mean(normal) per gene per cell across all data
INFO [2019-10-16 04:48:58] -subtracting expr per gene, use_bounds=TRUE
INFO [2019-10-16 04:48:58] ::subtract_ref_expr_from_obs:Start inv_log=FALSE, use_bounds=TRUE
INFO [2019-10-16 04:48:58] subtracting mean(normal) per gene per cell across all data
INFO [2019-10-16 04:48:58] -subtracting expr per gene, use_bounds=TRUE
WARN [2019-10-16 04:48:58] window length < 2, returning original unmodified data
WARN [2019-10-16 04:48:58] window length < 2, returning original unmodified data
INFO [2019-10-16 04:48:58] ::remove_outlier_norm:Start out_method: average_bound lower_bound: -1 upper_bound: 30
INFO [2019-10-16 04:48:58] ::remove_outlier_norm: using hard thresholds: lower_bound: -1 upper_bound: 30
INFO [2019-10-16 04:48:58] ::remove_outlier_norm:Start out_method: average_bound lower_bound: 5 upper_bound: 15
INFO [2019-10-16 04:48:58] ::remove_outlier_norm: using hard thresholds: lower_bound: 5 upper_bound: 15
INFO [2019-10-16 04:48:58] ::remove_outlier_norm:Start out_method: average_bound lower_bound: NA upper_bound: NA
INFO [2019-10-16 04:48:58] ::remove_outlier_norm using method: average_bound for defining outliers.
INFO [2019-10-16 04:48:58] outlier bounds defined between: -0.5 - 17.75
INFO [2019-10-16 04:48:58] ::order_reduce:Start.
INFO [2019-10-16 04:48:58] ::order_reduce:Start.
INFO [2019-10-16 04:48:59] .order_reduce(): expr and order match.
INFO [2019-10-16 04:48:59] ::process_data:order_reduce:Reduction from positional data, new dimensions (r,c) = 10,2 Total=110 Min=1 Max=10.
INFO [2019-10-16 04:48:59] ::order_reduce:Start.
INFO [2019-10-16 04:48:59] .order_reduce(): expr and order match.
INFO [2019-10-16 04:48:59] ::process_data:order_reduce:Reduction from positional data, new dimensions (r,c) = 10,2 Total=110 Min=1 Max=10.
INFO [2019-10-16 04:48:59] ::order_reduce:Start.
INFO [2019-10-16 04:48:59] ::process_data:order_reduce:The position file and the expression file row (gene) names do not match.
== testthat results ===========================================================
[ OK: 39 | SKIPPED: 3 | WARNINGS: 0 | FAILED: 0 ]
>
> proc.time()
user system elapsed
7.73 0.90 8.62
|
infercnv.Rcheck/tests_x64/testthat.Rout
R version 3.6.1 (2019-07-05) -- "Action of the Toes"
Copyright (C) 2019 The R Foundation for Statistical Computing
Platform: x86_64-w64-mingw32/x64 (64-bit)
R is free software and comes with ABSOLUTELY NO WARRANTY.
You are welcome to redistribute it under certain conditions.
Type 'license()' or 'licence()' for distribution details.
R is a collaborative project with many contributors.
Type 'contributors()' for more information and
'citation()' on how to cite R or R packages in publications.
Type 'demo()' for some demos, 'help()' for on-line help, or
'help.start()' for an HTML browser interface to help.
Type 'q()' to quit R.
> #!/usr/bin/env Rscript
>
> library(testthat)
> library(infercnv)
>
> test_check("infercnv")
INFO [2019-10-16 04:49:08] ::subtract_ref_expr_from_obs:Start inv_log=FALSE, use_bounds=TRUE
INFO [2019-10-16 04:49:08] subtracting mean(normal) per gene per cell across all data
INFO [2019-10-16 04:49:08] -subtracting expr per gene, use_bounds=TRUE
INFO [2019-10-16 04:49:08] ::subtract_ref_expr_from_obs:Start inv_log=FALSE, use_bounds=TRUE
INFO [2019-10-16 04:49:08] subtracting mean(normal) per gene per cell across all data
INFO [2019-10-16 04:49:09] -subtracting expr per gene, use_bounds=TRUE
INFO [2019-10-16 04:49:09] ::subtract_ref_expr_from_obs:Start inv_log=FALSE, use_bounds=TRUE
INFO [2019-10-16 04:49:09] subtracting mean(normal) per gene per cell across all data
INFO [2019-10-16 04:49:09] -subtracting expr per gene, use_bounds=TRUE
INFO [2019-10-16 04:49:09] ::subtract_ref_expr_from_obs:Start inv_log=FALSE, use_bounds=TRUE
INFO [2019-10-16 04:49:09] subtracting mean(normal) per gene per cell across all data
INFO [2019-10-16 04:49:09] -subtracting expr per gene, use_bounds=TRUE
INFO [2019-10-16 04:49:09] ::subtract_ref_expr_from_obs:Start inv_log=FALSE, use_bounds=TRUE
INFO [2019-10-16 04:49:09] subtracting mean(normal) per gene per cell across all data
INFO [2019-10-16 04:49:09] -subtracting expr per gene, use_bounds=TRUE
INFO [2019-10-16 04:49:09] ::subtract_ref_expr_from_obs:Start inv_log=FALSE, use_bounds=TRUE
INFO [2019-10-16 04:49:09] subtracting mean(normal) per gene per cell across all data
INFO [2019-10-16 04:49:09] -subtracting expr per gene, use_bounds=TRUE
WARN [2019-10-16 04:49:09] window length < 2, returning original unmodified data
WARN [2019-10-16 04:49:09] window length < 2, returning original unmodified data
INFO [2019-10-16 04:49:09] ::remove_outlier_norm:Start out_method: average_bound lower_bound: -1 upper_bound: 30
INFO [2019-10-16 04:49:09] ::remove_outlier_norm: using hard thresholds: lower_bound: -1 upper_bound: 30
INFO [2019-10-16 04:49:09] ::remove_outlier_norm:Start out_method: average_bound lower_bound: 5 upper_bound: 15
INFO [2019-10-16 04:49:09] ::remove_outlier_norm: using hard thresholds: lower_bound: 5 upper_bound: 15
INFO [2019-10-16 04:49:09] ::remove_outlier_norm:Start out_method: average_bound lower_bound: NA upper_bound: NA
INFO [2019-10-16 04:49:09] ::remove_outlier_norm using method: average_bound for defining outliers.
INFO [2019-10-16 04:49:09] outlier bounds defined between: -0.5 - 17.75
INFO [2019-10-16 04:49:09] ::order_reduce:Start.
INFO [2019-10-16 04:49:09] ::order_reduce:Start.
INFO [2019-10-16 04:49:09] .order_reduce(): expr and order match.
INFO [2019-10-16 04:49:09] ::process_data:order_reduce:Reduction from positional data, new dimensions (r,c) = 10,2 Total=110 Min=1 Max=10.
INFO [2019-10-16 04:49:09] ::order_reduce:Start.
INFO [2019-10-16 04:49:09] .order_reduce(): expr and order match.
INFO [2019-10-16 04:49:09] ::process_data:order_reduce:Reduction from positional data, new dimensions (r,c) = 10,2 Total=110 Min=1 Max=10.
INFO [2019-10-16 04:49:09] ::order_reduce:Start.
INFO [2019-10-16 04:49:09] ::process_data:order_reduce:The position file and the expression file row (gene) names do not match.
== testthat results ===========================================================
[ OK: 39 | SKIPPED: 3 | WARNINGS: 0 | FAILED: 0 ]
>
> proc.time()
user system elapsed
9.32 0.60 9.92
|
|
infercnv.Rcheck/examples_i386/infercnv-Ex.timings
|
infercnv.Rcheck/examples_x64/infercnv-Ex.timings
|