| Back to Multiple platform build/check report for BioC 3.9 |
|
This page was generated on 2019-10-16 12:01:57 -0400 (Wed, 16 Oct 2019).
| Package 801/1741 | Hostname | OS / Arch | INSTALL | BUILD | CHECK | BUILD BIN | ||||||
| illuminaio 0.26.0 Kasper Daniel Hansen
| malbec2 | Linux (Ubuntu 18.04.2 LTS) / x86_64 | [ OK ] | OK | WARNINGS | |||||||
| tokay2 | Windows Server 2012 R2 Standard / x64 | OK | OK | OK | OK | |||||||
| celaya2 | OS X 10.11.6 El Capitan / x86_64 | OK | OK | OK | OK |
| Package: illuminaio |
| Version: 0.26.0 |
| Command: /home/biocbuild/bbs-3.9-bioc/R/bin/R CMD INSTALL illuminaio |
| StartedAt: 2019-10-15 18:09:46 -0400 (Tue, 15 Oct 2019) |
| EndedAt: 2019-10-15 18:09:53 -0400 (Tue, 15 Oct 2019) |
| EllapsedTime: 6.5 seconds |
| RetCode: 0 |
| Status: OK |
##############################################################################
##############################################################################
###
### Running command:
###
### /home/biocbuild/bbs-3.9-bioc/R/bin/R CMD INSTALL illuminaio
###
##############################################################################
##############################################################################
* installing to library ‘/home/biocbuild/bbs-3.9-bioc/R/library’
* installing *source* package ‘illuminaio’ ...
** using staged installation
** libs
gcc -I"/home/biocbuild/bbs-3.9-bioc/R/include" -DNDEBUG -I/usr/local/include -fpic -g -O2 -Wall -c 000.init.c -o 000.init.o
gcc -I"/home/biocbuild/bbs-3.9-bioc/R/include" -DNDEBUG -I/usr/local/include -fpic -g -O2 -Wall -c des.c -o des.o
gcc -I"/home/biocbuild/bbs-3.9-bioc/R/include" -DNDEBUG -I/usr/local/include -fpic -g -O2 -Wall -c local_des.c -o local_des.o
local_des.c: In function ‘decrypt’:
local_des.c:27:9: warning: ignoring return value of ‘fread’, declared with attribute warn_unused_result [-Wunused-result]
fread(sessionKey, 8, 1, f);
^~~~~~~~~~~~~~~~~~~~~~~~~~
local_des.c:35:9: warning: ignoring return value of ‘fread’, declared with attribute warn_unused_result [-Wunused-result]
fread(data, len, 1, f);
^~~~~~~~~~~~~~~~~~~~~~
gcc -shared -L/home/biocbuild/bbs-3.9-bioc/R/lib -L/usr/local/lib -o illuminaio.so 000.init.o des.o local_des.o -L/home/biocbuild/bbs-3.9-bioc/R/lib -lR
installing to /home/biocbuild/bbs-3.9-bioc/R/library/00LOCK-illuminaio/00new/illuminaio/libs
** R
** inst
** byte-compile and prepare package for lazy loading
** help
*** installing help indices
** building package indices
** installing vignettes
** testing if installed package can be loaded from temporary location
** checking absolute paths in shared objects and dynamic libraries
** testing if installed package can be loaded from final location
** testing if installed package keeps a record of temporary installation path
* DONE (illuminaio)