| Back to Multiple platform build/check report for BioC 3.9 |
|
This page was generated on 2019-10-16 12:34:44 -0400 (Wed, 16 Oct 2019).
| Package 676/1741 | Hostname | OS / Arch | INSTALL | BUILD | CHECK | BUILD BIN | ||||||
| ggcyto 1.12.0 Mike Jiang
| malbec2 | Linux (Ubuntu 18.04.2 LTS) / x86_64 | OK | OK | WARNINGS | |||||||
| tokay2 | Windows Server 2012 R2 Standard / x64 | [ OK ] | OK | WARNINGS | OK | |||||||
| celaya2 | OS X 10.11.6 El Capitan / x86_64 | OK | OK | WARNINGS | OK |
| Package: ggcyto |
| Version: 1.12.0 |
| Command: C:\cygwin\bin\curl.exe -O https://malbec2.bioconductor.org/BBS/3.9/bioc/src/contrib/ggcyto_1.12.0.tar.gz && rm -rf ggcyto.buildbin-libdir && mkdir ggcyto.buildbin-libdir && C:\Users\biocbuild\bbs-3.9-bioc\R\bin\R.exe CMD INSTALL --merge-multiarch --build --library=ggcyto.buildbin-libdir ggcyto_1.12.0.tar.gz && C:\Users\biocbuild\bbs-3.9-bioc\R\bin\R.exe CMD INSTALL ggcyto_1.12.0.zip && rm ggcyto_1.12.0.tar.gz ggcyto_1.12.0.zip |
| StartedAt: 2019-10-15 19:59:58 -0400 (Tue, 15 Oct 2019) |
| EndedAt: 2019-10-15 20:01:08 -0400 (Tue, 15 Oct 2019) |
| EllapsedTime: 69.3 seconds |
| RetCode: 0 |
| Status: OK |
##############################################################################
##############################################################################
###
### Running command:
###
### C:\cygwin\bin\curl.exe -O https://malbec2.bioconductor.org/BBS/3.9/bioc/src/contrib/ggcyto_1.12.0.tar.gz && rm -rf ggcyto.buildbin-libdir && mkdir ggcyto.buildbin-libdir && C:\Users\biocbuild\bbs-3.9-bioc\R\bin\R.exe CMD INSTALL --merge-multiarch --build --library=ggcyto.buildbin-libdir ggcyto_1.12.0.tar.gz && C:\Users\biocbuild\bbs-3.9-bioc\R\bin\R.exe CMD INSTALL ggcyto_1.12.0.zip && rm ggcyto_1.12.0.tar.gz ggcyto_1.12.0.zip
###
##############################################################################
##############################################################################
% Total % Received % Xferd Average Speed Time Time Time Current
Dload Upload Total Spent Left Speed
0 0 0 0 0 0 0 0 --:--:-- --:--:-- --:--:-- 0
100 9878k 100 9878k 0 0 56.6M 0 --:--:-- --:--:-- --:--:-- 58.8M
install for i386
* installing *source* package 'ggcyto' ...
** using staged installation
** R
** inst
** byte-compile and prepare package for lazy loading
** help
*** installing help indices
converting help for package 'ggcyto'
finding HTML links ... done
as.ggplot html
autoplot html
finding level-2 HTML links ... done
axis_x_inverse_trans html
compute_stats html
flowCore_asinht_trans html
fortify.ellipsoidGate html
fortify.filterList html
fortify.flowSet html
fortify.polygonGate html
fortify.rectangleGate html
fortify_fs html
geom_gate html
geom_hvline html
geom_overlay html
geom_stats html
getFlowFrame html
ggcyto.GatingSet html
ggcyto html
ggcyto.flowSet html
ggcyto_GatingSet_add html
ggcyto_arrange html
ggcyto_flowSet_add html
ggcyto_par_default html
ggcyto_par_set html
is.ggcyto html
is.ggcyto_flowSet html
is.ggcyto_par html
labs_cyto html
marginalFilter html
Rd warning: C:/Users/biocbuild/bbs-3.9-bioc/tmpdir/RtmpIbJzzE/R.INSTALL16742d9d4b20/ggcyto/man/marginalFilter.Rd:14: file link 'boundaryFilter' in package 'flowCore' does not exist and so has been treated as a topic
merge.quad.gates html
plus-.ggcyto_GatingLayout html
print.ggcyto html
print.ggcyto_GatingLayout html
replace_data html
scale_x_flowCore_fasinh html
scale_x_flowJo_biexp html
scale_x_flowJo_fasinh html
scale_x_logicle html
stat_position html
transform-gate html
** building package indices
** installing vignettes
** testing if installed package can be loaded from temporary location
** testing if installed package can be loaded from final location
** testing if installed package keeps a record of temporary installation path
install for x64
* installing *source* package 'ggcyto' ...
** testing if installed package can be loaded
* MD5 sums
packaged installation of 'ggcyto' as ggcyto_1.12.0.zip
* DONE (ggcyto)
* installing to library 'C:/Users/biocbuild/bbs-3.9-bioc/R/library'
package 'ggcyto' successfully unpacked and MD5 sums checked