| Back to Multiple platform build/check report for BioC 3.9 |
|
This page was generated on 2019-10-16 12:33:47 -0400 (Wed, 16 Oct 2019).
| Package 521/1741 | Hostname | OS / Arch | INSTALL | BUILD | CHECK | BUILD BIN | ||||||
| eudysbiome 1.14.0 Xiaoyuan Zhou
| malbec2 | Linux (Ubuntu 18.04.2 LTS) / x86_64 | OK | OK | OK | |||||||
| tokay2 | Windows Server 2012 R2 Standard / x64 | OK | OK | OK | [ OK ] | |||||||
| celaya2 | OS X 10.11.6 El Capitan / x86_64 | OK | OK | OK | OK |
| Package: eudysbiome |
| Version: 1.14.0 |
| Command: rm -rf eudysbiome.buildbin-libdir && mkdir eudysbiome.buildbin-libdir && C:\Users\biocbuild\bbs-3.9-bioc\R\bin\R.exe CMD INSTALL --merge-multiarch --build --library=eudysbiome.buildbin-libdir eudysbiome_1.14.0.tar.gz |
| StartedAt: 2019-10-16 09:09:50 -0400 (Wed, 16 Oct 2019) |
| EndedAt: 2019-10-16 09:10:45 -0400 (Wed, 16 Oct 2019) |
| EllapsedTime: 54.8 seconds |
| RetCode: 0 |
| Status: OK |
| PackageFile: eudysbiome_1.14.0.zip |
| PackageFileSize: 4.327 MiB |
##############################################################################
##############################################################################
###
### Running command:
###
### rm -rf eudysbiome.buildbin-libdir && mkdir eudysbiome.buildbin-libdir && C:\Users\biocbuild\bbs-3.9-bioc\R\bin\R.exe CMD INSTALL --merge-multiarch --build --library=eudysbiome.buildbin-libdir eudysbiome_1.14.0.tar.gz
###
##############################################################################
##############################################################################
install for i386
* installing *source* package 'eudysbiome' ...
** using staged installation
** R
** data
*** moving datasets to lazyload DB
** inst
** byte-compile and prepare package for lazy loading
** help
*** installing help indices
converting help for package 'eudysbiome'
finding HTML links ... done
Cartesian html
assignTax html
contingencyCount html
contingencyTest html
diffGenera html
eudysbiome html
harmGenera html
microAnnotate html
microCount html
microDiff html
tableSpecies html
** building package indices
** installing vignettes
** testing if installed package can be loaded from temporary location
** testing if installed package can be loaded from final location
** testing if installed package keeps a record of temporary installation path
install for x64
* installing *source* package 'eudysbiome' ...
** testing if installed package can be loaded
* MD5 sums
packaged installation of 'eudysbiome' as eudysbiome_1.14.0.zip
* DONE (eudysbiome)