| Back to Multiple platform build/check report for BioC 3.9 |
|
This page was generated on 2019-10-16 12:33:29 -0400 (Wed, 16 Oct 2019).
| Package 517/1741 | Hostname | OS / Arch | INSTALL | BUILD | CHECK | BUILD BIN | ||||||
| erma 1.0.0 VJ Carey
| malbec2 | Linux (Ubuntu 18.04.2 LTS) / x86_64 | OK | OK | OK | |||||||
| tokay2 | Windows Server 2012 R2 Standard / x64 | OK | OK | [ OK ] | OK | |||||||
| celaya2 | OS X 10.11.6 El Capitan / x86_64 | OK | OK | OK | OK |
| Package: erma |
| Version: 1.0.0 |
| Command: C:\Users\biocbuild\bbs-3.9-bioc\R\bin\R.exe CMD check --force-multiarch --install=check:erma.install-out.txt --library=C:\Users\biocbuild\bbs-3.9-bioc\R\library --no-vignettes --timings erma_1.0.0.tar.gz |
| StartedAt: 2019-10-16 03:34:08 -0400 (Wed, 16 Oct 2019) |
| EndedAt: 2019-10-16 03:42:17 -0400 (Wed, 16 Oct 2019) |
| EllapsedTime: 488.9 seconds |
| RetCode: 0 |
| Status: OK |
| CheckDir: erma.Rcheck |
| Warnings: 0 |
##############################################################################
##############################################################################
###
### Running command:
###
### C:\Users\biocbuild\bbs-3.9-bioc\R\bin\R.exe CMD check --force-multiarch --install=check:erma.install-out.txt --library=C:\Users\biocbuild\bbs-3.9-bioc\R\library --no-vignettes --timings erma_1.0.0.tar.gz
###
##############################################################################
##############################################################################
* using log directory 'C:/Users/biocbuild/bbs-3.9-bioc/meat/erma.Rcheck'
* using R version 3.6.1 (2019-07-05)
* using platform: x86_64-w64-mingw32 (64-bit)
* using session charset: ISO8859-1
* using option '--no-vignettes'
* checking for file 'erma/DESCRIPTION' ... OK
* this is package 'erma' version '1.0.0'
* checking package namespace information ... OK
* checking package dependencies ... OK
* checking if this is a source package ... OK
* checking if there is a namespace ... OK
* checking for hidden files and directories ... OK
* checking for portable file names ... OK
* checking whether package 'erma' can be installed ... OK
* checking installed package size ... NOTE
installed size is 199.2Mb
sub-directories of 1Mb or more:
bed_tabix 161.4Mb
data 37.1Mb
* checking package directory ... OK
* checking 'build' directory ... OK
* checking DESCRIPTION meta-information ... OK
* checking top-level files ... OK
* checking for left-over files ... OK
* checking index information ... OK
* checking package subdirectories ... OK
* checking R files for non-ASCII characters ... OK
* checking R files for syntax errors ... OK
* loading checks for arch 'i386'
** checking whether the package can be loaded ... OK
** checking whether the package can be loaded with stated dependencies ... OK
** checking whether the package can be unloaded cleanly ... OK
** checking whether the namespace can be loaded with stated dependencies ... OK
** checking whether the namespace can be unloaded cleanly ... OK
* loading checks for arch 'x64'
** checking whether the package can be loaded ... OK
** checking whether the package can be loaded with stated dependencies ... OK
** checking whether the package can be unloaded cleanly ... OK
** checking whether the namespace can be loaded with stated dependencies ... OK
** checking whether the namespace can be unloaded cleanly ... OK
* checking dependencies in R code ... OK
* checking S3 generic/method consistency ... OK
* checking replacement functions ... OK
* checking foreign function calls ... OK
* checking R code for possible problems ... NOTE
geneTxRange: no visible global function definition for 'select'
genemodelOLD: no visible binding for global variable 'exonsBy'
stateProfile: no visible binding for global variable 'states_25'
stateProfile: no visible binding for global variable 'short_celltype'
stateProfile: no visible binding for global variable 'name'
statesByRange: no visible binding for global variable 'mod'
statesByRange: no visible binding for global variable 'upstream'
statesByRange: no visible binding for global variable 'downstream'
statesByRange : : no visible binding for global variable
'tss'
statesByRange: no visible binding for global variable 'states_25'
Undefined global functions or variables:
downstream exonsBy mod name select short_celltype states_25 tss
upstream
* checking Rd files ... OK
* checking Rd metadata ... OK
* checking Rd cross-references ... OK
* checking for missing documentation entries ... OK
* checking for code/documentation mismatches ... OK
* checking Rd \usage sections ... OK
* checking Rd contents ... OK
* checking for unstated dependencies in examples ... OK
* checking contents of 'data' directory ... OK
* checking data for non-ASCII characters ... OK
* checking data for ASCII and uncompressed saves ... OK
* checking files in 'vignettes' ... OK
* checking examples ...
** running examples for arch 'i386' ... OK
Examples with CPU or elapsed time > 5s
user system elapsed
erma-package 8.93 0.41 28.22
stateProfile 2.49 0.09 21.48
** running examples for arch 'x64' ... OK
Examples with CPU or elapsed time > 5s
user system elapsed
erma-package 8.99 0.25 28.74
stateProfile 3.47 0.09 23.31
* checking for unstated dependencies in vignettes ... OK
* checking package vignettes in 'inst/doc' ... OK
* checking running R code from vignettes ... SKIPPED
* checking re-building of vignette outputs ... SKIPPED
* checking PDF version of manual ... OK
* DONE
Status: 2 NOTEs
See
'C:/Users/biocbuild/bbs-3.9-bioc/meat/erma.Rcheck/00check.log'
for details.
erma.Rcheck/00install.out
##############################################################################
##############################################################################
###
### Running command:
###
### C:\cygwin\bin\curl.exe -O https://malbec2.bioconductor.org/BBS/3.9/bioc/src/contrib/erma_1.0.0.tar.gz && rm -rf erma.buildbin-libdir && mkdir erma.buildbin-libdir && C:\Users\biocbuild\bbs-3.9-bioc\R\bin\R.exe CMD INSTALL --merge-multiarch --build --library=erma.buildbin-libdir erma_1.0.0.tar.gz && C:\Users\biocbuild\bbs-3.9-bioc\R\bin\R.exe CMD INSTALL erma_1.0.0.zip && rm erma_1.0.0.tar.gz erma_1.0.0.zip
###
##############################################################################
##############################################################################
% Total % Received % Xferd Average Speed Time Time Time Current
Dload Upload Total Spent Left Speed
0 0 0 0 0 0 0 0 --:--:-- --:--:-- --:--:-- 0
0 197M 0 368k 0 0 1573k 0 0:02:08 --:--:-- 0:02:08 1614k
53 197M 53 106M 0 0 86.9M 0 0:00:02 0:00:01 0:00:01 87.3M
100 197M 100 197M 0 0 94.1M 0 0:00:02 0:00:02 --:--:-- 94.4M
install for i386
* installing *source* package 'erma' ...
** using staged installation
** R
** data
** inst
** byte-compile and prepare package for lazy loading
** help
*** installing help indices
converting help for package 'erma'
finding HTML links ... done
ErmaSet-class html
finding level-2 HTML links ... done
erma-package html
genemodel html
mapmeta html
stateProfile html
states_25 html
** building package indices
** installing vignettes
** testing if installed package can be loaded from temporary location
** testing if installed package can be loaded from final location
** testing if installed package keeps a record of temporary installation path
install for x64
* installing *source* package 'erma' ...
** testing if installed package can be loaded
* MD5 sums
packaged installation of 'erma' as erma_1.0.0.zip
* DONE (erma)
* installing to library 'C:/Users/biocbuild/bbs-3.9-bioc/R/library'
package 'erma' successfully unpacked and MD5 sums checked
|
erma.Rcheck/examples_i386/erma-Ex.timings
|
erma.Rcheck/examples_x64/erma-Ex.timings
|