| Back to Multiple platform build/check report for BioC 3.9 |
|
This page was generated on 2019-04-09 13:38:34 -0400 (Tue, 09 Apr 2019).
| Package 500/1703 | Hostname | OS / Arch | INSTALL | BUILD | CHECK | BUILD BIN | ||||||
| epihet 0.99.8 Xiaowen Chen
| malbec2 | Linux (Ubuntu 18.04.2 LTS) / x86_64 | OK | OK | OK | |||||||
| tokay2 | Windows Server 2012 R2 Standard / x64 | OK | OK | OK | OK | |||||||
| celaya2 | OS X 10.11.6 El Capitan / x86_64 | OK | OK | OK | OK | |||||||
| merida2 | OS X 10.11.6 El Capitan / x86_64 | OK | OK | [ OK ] | OK |
| Package: epihet |
| Version: 0.99.8 |
| Command: /Library/Frameworks/R.framework/Versions/Current/Resources/bin/R CMD check --install=check:epihet.install-out.txt --library=/Library/Frameworks/R.framework/Versions/Current/Resources/library --no-vignettes --timings epihet_0.99.8.tar.gz |
| StartedAt: 2019-04-09 00:44:06 -0400 (Tue, 09 Apr 2019) |
| EndedAt: 2019-04-09 00:47:23 -0400 (Tue, 09 Apr 2019) |
| EllapsedTime: 197.6 seconds |
| RetCode: 0 |
| Status: OK |
| CheckDir: epihet.Rcheck |
| Warnings: 0 |
##############################################################################
##############################################################################
###
### Running command:
###
### /Library/Frameworks/R.framework/Versions/Current/Resources/bin/R CMD check --install=check:epihet.install-out.txt --library=/Library/Frameworks/R.framework/Versions/Current/Resources/library --no-vignettes --timings epihet_0.99.8.tar.gz
###
##############################################################################
##############################################################################
* using log directory ‘/Users/biocbuild/bbs-3.9-bioc/meat/epihet.Rcheck’
* using R Under development (unstable) (2018-11-27 r75683)
* using platform: x86_64-apple-darwin15.6.0 (64-bit)
* using session charset: UTF-8
* using option ‘--no-vignettes’
* checking for file ‘epihet/DESCRIPTION’ ... OK
* this is package ‘epihet’ version ‘0.99.8’
* package encoding: UTF-8
* checking package namespace information ... OK
* checking package dependencies ... NOTE
Depends: includes the non-default packages:
'GenomicRanges', 'IRanges', 'S4Vectors', 'ggplot2', 'foreach',
'Rtsne', 'igraph'
Adding so many packages to the search path is excessive and importing
selectively is preferable.
* checking if this is a source package ... OK
* checking if there is a namespace ... OK
* checking for hidden files and directories ... OK
* checking for portable file names ... OK
* checking for sufficient/correct file permissions ... OK
* checking whether package ‘epihet’ can be installed ... OK
* checking installed package size ... OK
* checking package directory ... OK
* checking ‘build’ directory ... OK
* checking DESCRIPTION meta-information ... OK
* checking top-level files ... OK
* checking for left-over files ... OK
* checking index information ... OK
* checking package subdirectories ... OK
* checking R files for non-ASCII characters ... OK
* checking R files for syntax errors ... OK
* checking whether the package can be loaded ... OK
* checking whether the package can be loaded with stated dependencies ... OK
* checking whether the package can be unloaded cleanly ... OK
* checking whether the namespace can be loaded with stated dependencies ... OK
* checking whether the namespace can be unloaded cleanly ... OK
* checking dependencies in R code ... OK
* checking S3 generic/method consistency ... OK
* checking replacement functions ... OK
* checking foreign function calls ... OK
* checking R code for possible problems ... OK
* checking Rd files ... OK
* checking Rd metadata ... OK
* checking Rd cross-references ... OK
* checking for missing documentation entries ... OK
* checking for code/documentation mismatches ... OK
* checking Rd \usage sections ... OK
* checking Rd contents ... OK
* checking for unstated dependencies in examples ... OK
* checking contents of ‘data’ directory ... OK
* checking data for non-ASCII characters ... OK
* checking data for ASCII and uncompressed saves ... OK
* checking sizes of PDF files under ‘inst/doc’ ... OK
* checking files in ‘vignettes’ ... OK
* checking examples ... OK
Examples with CPU or elapsed time > 5s
user system elapsed
epiPathway 15.039 1.468 17.022
* checking for unstated dependencies in vignettes ... OK
* checking package vignettes in ‘inst/doc’ ... OK
* checking running R code from vignettes ... SKIPPED
* checking re-building of vignette outputs ... SKIPPED
* checking PDF version of manual ... OK
* DONE
Status: 1 NOTE
See
‘/Users/biocbuild/bbs-3.9-bioc/meat/epihet.Rcheck/00check.log’
for details.
epihet.Rcheck/00install.out
############################################################################## ############################################################################## ### ### Running command: ### ### /Library/Frameworks/R.framework/Versions/Current/Resources/bin/R CMD INSTALL epihet ### ############################################################################## ############################################################################## * installing to library ‘/Library/Frameworks/R.framework/Versions/3.6/Resources/library’ * installing *source* package ‘epihet’ ... ** R ** data ** inst ** byte-compile and prepare package for lazy loading ** help *** installing help indices ** building package indices ** installing vignettes ** testing if installed package can be loaded * DONE (epihet)
epihet.Rcheck/epihet-Ex.timings
| name | user | system | elapsed | |
| compMatrix | 0.669 | 0.029 | 0.701 | |
| epiBox | 0.062 | 0.001 | 0.064 | |
| epiMA | 0.009 | 0.002 | 0.010 | |
| epiMap | 0.143 | 0.005 | 0.151 | |
| epiPCA | 0.424 | 0.019 | 0.449 | |
| epiPathway | 15.039 | 1.468 | 17.022 | |
| epiTSNE | 0.324 | 0.022 | 0.353 | |
| jaccard | 0.008 | 0.003 | 0.010 | |
| makeGR | 0.162 | 0.043 | 0.214 | |
| moduleAnno | 0.312 | 0.021 | 0.343 | |
| moduleSim | 0.069 | 0.003 | 0.074 | |
| moduleVisual | 0.134 | 0.003 | 0.141 | |
| readGR | 0.024 | 0.008 | 0.031 | |
| shannon | 0.001 | 0.000 | 0.001 | |
| splitn | 0.000 | 0.000 | 0.001 | |
| summarize | 0.103 | 0.000 | 0.103 | |
| userobj | 0.022 | 0.000 | 0.022 | |