| Back to Multiple platform build/check report for BioC 3.9 |
|
This page was generated on 2019-10-16 12:44:15 -0400 (Wed, 16 Oct 2019).
| Package 503/1741 | Hostname | OS / Arch | INSTALL | BUILD | CHECK | BUILD BIN | ||||||
| enrichTF 1.0.0 Zheng Wei
| malbec2 | Linux (Ubuntu 18.04.2 LTS) / x86_64 | OK | OK | OK | |||||||
| tokay2 | Windows Server 2012 R2 Standard / x64 | [ OK ] | OK | OK | OK | |||||||
| celaya2 | OS X 10.11.6 El Capitan / x86_64 | OK | OK | OK | OK |
| Package: enrichTF |
| Version: 1.0.0 |
| Command: C:\cygwin\bin\curl.exe -O https://malbec2.bioconductor.org/BBS/3.9/bioc/src/contrib/enrichTF_1.0.0.tar.gz && rm -rf enrichTF.buildbin-libdir && mkdir enrichTF.buildbin-libdir && C:\Users\biocbuild\bbs-3.9-bioc\R\bin\R.exe CMD INSTALL --merge-multiarch --build --library=enrichTF.buildbin-libdir enrichTF_1.0.0.tar.gz && C:\Users\biocbuild\bbs-3.9-bioc\R\bin\R.exe CMD INSTALL enrichTF_1.0.0.zip && rm enrichTF_1.0.0.tar.gz enrichTF_1.0.0.zip |
| StartedAt: 2019-10-15 20:43:00 -0400 (Tue, 15 Oct 2019) |
| EndedAt: 2019-10-15 20:44:04 -0400 (Tue, 15 Oct 2019) |
| EllapsedTime: 64.4 seconds |
| RetCode: 0 |
| Status: OK |
##############################################################################
##############################################################################
###
### Running command:
###
### C:\cygwin\bin\curl.exe -O https://malbec2.bioconductor.org/BBS/3.9/bioc/src/contrib/enrichTF_1.0.0.tar.gz && rm -rf enrichTF.buildbin-libdir && mkdir enrichTF.buildbin-libdir && C:\Users\biocbuild\bbs-3.9-bioc\R\bin\R.exe CMD INSTALL --merge-multiarch --build --library=enrichTF.buildbin-libdir enrichTF_1.0.0.tar.gz && C:\Users\biocbuild\bbs-3.9-bioc\R\bin\R.exe CMD INSTALL enrichTF_1.0.0.zip && rm enrichTF_1.0.0.tar.gz enrichTF_1.0.0.zip
###
##############################################################################
##############################################################################
% Total % Received % Xferd Average Speed Time Time Time Current
Dload Upload Total Spent Left Speed
0 0 0 0 0 0 0 0 --:--:-- --:--:-- --:--:-- 0
100 964k 100 964k 0 0 14.4M 0 --:--:-- --:--:-- --:--:-- 15.9M
install for i386
* installing *source* package 'enrichTF' ...
** using staged installation
** R
** inst
** byte-compile and prepare package for lazy loading
** help
*** installing help indices
converting help for package 'enrichTF'
finding HTML links ... done
EnrichStep-class html
GenBackground html
finding level-2 HTML links ... done
MotifsInRegions html
PECA_TF_enrich html
RegionConnectTargetGene html
TFsEnrichInRegions html
** building package indices
** installing vignettes
** testing if installed package can be loaded from temporary location
** testing if installed package can be loaded from final location
** testing if installed package keeps a record of temporary installation path
install for x64
* installing *source* package 'enrichTF' ...
** testing if installed package can be loaded
* MD5 sums
packaged installation of 'enrichTF' as enrichTF_1.0.0.zip
* DONE (enrichTF)
* installing to library 'C:/Users/biocbuild/bbs-3.9-bioc/R/library'
package 'enrichTF' successfully unpacked and MD5 sums checked