| Back to Multiple platform build/check report for BioC 3.9 | 
  | 
This page was generated on 2019-04-09 13:25:55 -0400 (Tue, 09 Apr 2019).
| Package 355/1703 | Hostname | OS / Arch | INSTALL | BUILD | CHECK | BUILD BIN | ||||||
| cqn 1.29.1 Kasper Daniel Hansen 
  | malbec2 | Linux (Ubuntu 18.04.2 LTS) / x86_64 | OK | OK | OK | |||||||
| tokay2 | Windows Server 2012 R2 Standard / x64 | OK | OK | OK | OK | |||||||
| celaya2 | OS X 10.11.6 El Capitan / x86_64 | OK | OK | OK | OK | |||||||
| merida2 | OS X 10.11.6 El Capitan / x86_64 | OK | OK | OK | [ OK ] | 
| Package: cqn | 
| Version: 1.29.1 | 
| Command: rm -rf cqn.buildbin-libdir && mkdir cqn.buildbin-libdir && /Users/biocbuild/BBS/utils/build-universal.sh cqn_1.29.1.tar.gz /Library/Frameworks/R.framework/Versions/Current/Resources/bin/R cqn.buildbin-libdir | 
| StartedAt: 2019-04-09 05:05:07 -0400 (Tue, 09 Apr 2019) | 
| EndedAt: 2019-04-09 05:06:25 -0400 (Tue, 09 Apr 2019) | 
| EllapsedTime: 78.0 seconds | 
| RetCode: 0 | 
| Status: OK | 
| PackageFile: cqn_1.29.1.tgz | 
| PackageFileSize: 1.081 MiB | 
############################################################################## ############################################################################## ### ### Running command: ### ### rm -rf cqn.buildbin-libdir && mkdir cqn.buildbin-libdir && /Users/biocbuild/BBS/utils/build-universal.sh cqn_1.29.1.tar.gz /Library/Frameworks/R.framework/Versions/Current/Resources/bin/R cqn.buildbin-libdir ### ############################################################################## ############################################################################## >>>>>>> >>>>>>> INSTALLATION WITH 'R CMD INSTALL --preclean --no-multiarch --library=cqn.buildbin-libdir cqn_1.29.1.tar.gz' >>>>>>> * installing *source* package ‘cqn’ ... ** R ** data ** inst ** byte-compile and prepare package for lazy loading ** help *** installing help indices ** building package indices ** installing vignettes ** testing if installed package can be loaded * DONE (cqn)