| Back to Multiple platform build/check report for BioC 3.9 |
|
This page was generated on 2019-10-16 12:05:58 -0400 (Wed, 16 Oct 2019).
| Package 325/1741 | Hostname | OS / Arch | INSTALL | BUILD | CHECK | BUILD BIN | ||||||
| coMET 1.16.0 Tiphaine Martin
| malbec2 | Linux (Ubuntu 18.04.2 LTS) / x86_64 | OK | OK | [ OK ] | |||||||
| tokay2 | Windows Server 2012 R2 Standard / x64 | OK | OK | OK | OK | |||||||
| celaya2 | OS X 10.11.6 El Capitan / x86_64 | OK | OK | OK | OK |
| Package: coMET |
| Version: 1.16.0 |
| Command: /home/biocbuild/bbs-3.9-bioc/R/bin/R CMD check --install=check:coMET.install-out.txt --library=/home/biocbuild/bbs-3.9-bioc/R/library --no-vignettes --timings coMET_1.16.0.tar.gz |
| StartedAt: 2019-10-16 00:43:24 -0400 (Wed, 16 Oct 2019) |
| EndedAt: 2019-10-16 00:52:05 -0400 (Wed, 16 Oct 2019) |
| EllapsedTime: 521.0 seconds |
| RetCode: 0 |
| Status: OK |
| CheckDir: coMET.Rcheck |
| Warnings: 0 |
##############################################################################
##############################################################################
###
### Running command:
###
### /home/biocbuild/bbs-3.9-bioc/R/bin/R CMD check --install=check:coMET.install-out.txt --library=/home/biocbuild/bbs-3.9-bioc/R/library --no-vignettes --timings coMET_1.16.0.tar.gz
###
##############################################################################
##############################################################################
* using log directory ‘/home/biocbuild/bbs-3.9-bioc/meat/coMET.Rcheck’
* using R version 3.6.1 (2019-07-05)
* using platform: x86_64-pc-linux-gnu (64-bit)
* using session charset: UTF-8
* using option ‘--no-vignettes’
* checking for file ‘coMET/DESCRIPTION’ ... OK
* checking extension type ... Package
* this is package ‘coMET’ version ‘1.16.0’
* checking package namespace information ... OK
* checking package dependencies ... OK
* checking if this is a source package ... OK
* checking if there is a namespace ... OK
* checking for hidden files and directories ... OK
* checking for portable file names ... OK
* checking for sufficient/correct file permissions ... OK
* checking whether package ‘coMET’ can be installed ... OK
* checking installed package size ... NOTE
installed size is 18.9Mb
sub-directories of 1Mb or more:
data 7.5Mb
extdata 10.7Mb
* checking package directory ... OK
* checking ‘build’ directory ... OK
* checking DESCRIPTION meta-information ... OK
* checking top-level files ... NOTE
File
LICENSE
is not mentioned in the DESCRIPTION file.
* checking for left-over files ... OK
* checking index information ... OK
* checking package subdirectories ... OK
* checking R files for non-ASCII characters ... OK
* checking R files for syntax errors ... OK
* checking whether the package can be loaded ... OK
* checking whether the package can be loaded with stated dependencies ... OK
* checking whether the package can be unloaded cleanly ... OK
* checking whether the namespace can be loaded with stated dependencies ... OK
* checking whether the namespace can be unloaded cleanly ... OK
* checking dependencies in R code ... OK
* checking S3 generic/method consistency ... OK
* checking replacement functions ... OK
* checking foreign function calls ... OK
* checking R code for possible problems ... NOTE
draw.plot.annotation : : no visible global function
definition for 'ggplotGrob'
draw.plot.annotation: no visible global function definition for
'viewTracks'
draw.plot.annotation: no visible global function definition for
'trackList'
eQTL: no visible binding for global variable 'chromosome_stop'
eQTL: no visible binding for global variable 'chromosome_start'
eQTL: no visible binding for global variable 'chromosome_name'
eQTL_GTEx: no visible binding for global variable 'snp_pos'
eQTL_GTEx: no visible binding for global variable 'snp_chrom'
eQTL_GTEx: no visible binding for global variable 'gene_start'
eQTL_GTEx: no visible binding for global variable 'gene_stop'
eQTL_GTEx: no visible binding for global variable 'gene_chr'
geneExpression_GTEx: no visible global function definition for 'as'
metQTL: no visible binding for global variable 'chromosome_stop'
metQTL: no visible binding for global variable 'chromosome_start'
metQTL: no visible binding for global variable 'chromosome_name'
psiQTL_GTEx: no visible binding for global variable 'pos_snp'
psiQTL_GTEx: no visible binding for global variable 'chr_snp'
psiQTL_GTEx: no visible binding for global variable 'pos_middle_exon'
psiQTL_GTEx: no visible binding for global variable 'chr_exon'
Undefined global functions or variables:
as chr_exon chr_snp chromosome_name chromosome_start chromosome_stop
gene_chr gene_start gene_stop ggplotGrob pos_middle_exon pos_snp
snp_chrom snp_pos trackList viewTracks
Consider adding
importFrom("methods", "as")
to your NAMESPACE file (and ensure that your DESCRIPTION Imports field
contains 'methods').
* checking Rd files ... OK
* checking Rd metadata ... OK
* checking Rd cross-references ... OK
* checking for missing documentation entries ... OK
* checking for code/documentation mismatches ... OK
* checking Rd \usage sections ... OK
* checking Rd contents ... OK
* checking for unstated dependencies in examples ... OK
* checking contents of ‘data’ directory ... OK
* checking data for non-ASCII characters ... OK
* checking data for ASCII and uncompressed saves ... OK
* checking files in ‘vignettes’ ... OK
* checking examples ... OK
Examples with CPU or elapsed time > 5s
user system elapsed
comet.web 6.306 0.044 55.753
chromatinHMMAll_UCSC 5.217 0.008 5.226
coMET-package 4.905 0.053 17.497
* checking for unstated dependencies in ‘tests’ ... OK
* checking tests ...
Running ‘runTests.R’
OK
* checking for unstated dependencies in vignettes ... OK
* checking package vignettes in ‘inst/doc’ ... OK
* checking running R code from vignettes ... SKIPPED
* checking re-building of vignette outputs ... SKIPPED
* checking PDF version of manual ... OK
* DONE
Status: 3 NOTEs
See
‘/home/biocbuild/bbs-3.9-bioc/meat/coMET.Rcheck/00check.log’
for details.
coMET.Rcheck/00install.out
############################################################################## ############################################################################## ### ### Running command: ### ### /home/biocbuild/bbs-3.9-bioc/R/bin/R CMD INSTALL coMET ### ############################################################################## ############################################################################## * installing to library ‘/home/biocbuild/bbs-3.9-bioc/R/library’ * installing *source* package ‘coMET’ ... ** using staged installation ** R ** data ** inst ** byte-compile and prepare package for lazy loading ** help *** installing help indices ** building package indices ** installing vignettes ** testing if installed package can be loaded from temporary location ** testing if installed package can be loaded from final location ** testing if installed package keeps a record of temporary installation path * DONE (coMET)
coMET.Rcheck/tests/runTests.Rout
R version 3.6.1 (2019-07-05) -- "Action of the Toes"
Copyright (C) 2019 The R Foundation for Statistical Computing
Platform: x86_64-pc-linux-gnu (64-bit)
R is free software and comes with ABSOLUTELY NO WARRANTY.
You are welcome to redistribute it under certain conditions.
Type 'license()' or 'licence()' for distribution details.
R is a collaborative project with many contributors.
Type 'contributors()' for more information and
'citation()' on how to cite R or R packages in publications.
Type 'demo()' for some demos, 'help()' for on-line help, or
'help.start()' for an HTML browser interface to help.
Type 'q()' to quit R.
> require("coMET") || stop("unable to load Package:coMET")
Loading required package: coMET
Loading required package: grid
Loading required package: biomaRt
Loading required package: Gviz
Loading required package: S4Vectors
Loading required package: stats4
Loading required package: BiocGenerics
Loading required package: parallel
Attaching package: 'BiocGenerics'
The following objects are masked from 'package:parallel':
clusterApply, clusterApplyLB, clusterCall, clusterEvalQ,
clusterExport, clusterMap, parApply, parCapply, parLapply,
parLapplyLB, parRapply, parSapply, parSapplyLB
The following objects are masked from 'package:stats':
IQR, mad, sd, var, xtabs
The following objects are masked from 'package:base':
Filter, Find, Map, Position, Reduce, anyDuplicated, append,
as.data.frame, basename, cbind, colnames, dirname, do.call,
duplicated, eval, evalq, get, grep, grepl, intersect, is.unsorted,
lapply, mapply, match, mget, order, paste, pmax, pmax.int, pmin,
pmin.int, rank, rbind, rownames, sapply, setdiff, sort, table,
tapply, union, unique, unsplit, which, which.max, which.min
Attaching package: 'S4Vectors'
The following object is masked from 'package:base':
expand.grid
Loading required package: IRanges
Loading required package: GenomicRanges
Loading required package: GenomeInfoDb
Loading required package: psych
Attaching package: 'psych'
The following object is masked from 'package:IRanges':
reflect
[1] TRUE
> BiocGenerics:::testPackage("coMET")
RUNIT TEST PROTOCOL -- Wed Oct 16 00:51:57 2019
***********************************************
Number of test functions: 1
Number of errors: 0
Number of failures: 0
1 Test Suite :
coMET RUnit Tests - 1 test function, 0 errors, 0 failures
Number of test functions: 1
Number of errors: 0
Number of failures: 0
>
> proc.time()
user system elapsed
15.790 0.581 16.512
coMET.Rcheck/coMET-Ex.timings
| name | user | system | elapsed | |
| COSMIC_UCSC | 1.712 | 0.004 | 1.717 | |
| ChIPTF_ENCODE | 0.993 | 0.064 | 1.057 | |
| ClinVarCnv_UCSC | 0.473 | 0.044 | 0.517 | |
| ClinVarMain_UCSC | 0.531 | 0.044 | 0.576 | |
| CoreillCNV_UCSC | 0.528 | 0.000 | 0.528 | |
| DNAse_UCSC | 0.601 | 0.000 | 0.601 | |
| DNaseI_FANTOM | 0.732 | 0.000 | 0.732 | |
| DNaseI_RoadMap | 0.264 | 0.004 | 0.268 | |
| GAD_UCSC | 0.510 | 0.012 | 0.522 | |
| GWAScatalog_UCSC | 0.407 | 0.000 | 0.407 | |
| GeneReviews_UCSC | 0.465 | 0.000 | 0.465 | |
| HiCdata2matrix | 0.036 | 0.000 | 0.036 | |
| HistoneAll_UCSC | 4.679 | 0.004 | 4.684 | |
| HistoneOne_UCSC | 0.462 | 0.000 | 0.461 | |
| ISCA_UCSC | 0.586 | 0.004 | 0.590 | |
| TFBS_FANTOM | 0.295 | 0.004 | 0.299 | |
| bindingMotifsBiomart_ENSEMBL | 0.177 | 0.004 | 0.181 | |
| chrUCSC2ENSEMBL | 0 | 0 | 0 | |
| chromHMM_RoadMap | 0.516 | 0.000 | 0.517 | |
| chromatinHMMAll_UCSC | 5.217 | 0.008 | 5.226 | |
| chromatinHMMOne_UCSC | 0.788 | 0.000 | 0.788 | |
| coMET-package | 4.905 | 0.053 | 17.497 | |
| comet | 2.917 | 0.016 | 2.933 | |
| comet.list | 1.286 | 0.004 | 1.302 | |
| comet.web | 6.306 | 0.044 | 55.753 | |
| cpgIslands_UCSC | 0.213 | 0.000 | 0.213 | |
| dgfootprints_RoadMap | 1.223 | 0.020 | 1.243 | |
| eQTL | 0.925 | 0.000 | 0.925 | |
| eQTL_GTEx | 1.795 | 0.007 | 1.803 | |
| gcContent_UCSC | 1.420 | 0.004 | 1.424 | |
| genesName_ENSEMBL | 0.000 | 0.004 | 0.004 | |
| genes_ENSEMBL | 0.935 | 0.000 | 0.935 | |
| imprintedGenes_GTEx | 4.709 | 0.004 | 4.897 | |
| interestGenes_ENSEMBL | 0.922 | 0.000 | 0.923 | |
| interestTranscript_ENSEMBL | 1.085 | 0.000 | 1.106 | |
| knownGenes_UCSC | 1.184 | 0.000 | 1.202 | |
| metQTL | 1.466 | 0.004 | 1.494 | |
| miRNATargetRegionsBiomart_ENSEMBL | 0.098 | 0.000 | 0.099 | |
| otherRegulatoryRegionsBiomart_ENSEMBL | 0.203 | 0.000 | 0.211 | |
| psiQTL_GTEx | 1.255 | 0.004 | 1.281 | |
| refGenes_UCSC | 1.039 | 0.000 | 1.039 | |
| regulationBiomart_ENSEMBL | 0.404 | 0.000 | 0.404 | |
| regulatoryEvidenceBiomart_ENSEMBL | 0.28 | 0.00 | 0.28 | |
| regulatoryFeaturesBiomart_ENSEMBL | 0.270 | 0.000 | 0.272 | |
| regulatorySegmentsBiomart_ENSEMBL | 0.248 | 0.007 | 0.257 | |
| repeatMasker_UCSC | 0.705 | 0.000 | 0.705 | |
| segmentalDups_UCSC | 0.494 | 0.000 | 0.495 | |
| snpBiomart_ENSEMBL | 0.586 | 0.000 | 0.593 | |
| snpLocations_UCSC | 1.165 | 0.000 | 1.166 | |
| structureBiomart_ENSEMBL | 0.486 | 0.000 | 0.486 | |
| transcript_ENSEMBL | 1.506 | 0.000 | 1.506 | |
| xenorefGenes_UCSC | 0.580 | 0.000 | 0.583 | |