| Back to Multiple platform build/check report for BioC 3.9 |
|
This page was generated on 2019-10-16 12:27:25 -0400 (Wed, 16 Oct 2019).
| Package 284/1741 | Hostname | OS / Arch | INSTALL | BUILD | CHECK | BUILD BIN | ||||||
| clipper 1.24.0 Paolo Martini
| malbec2 | Linux (Ubuntu 18.04.2 LTS) / x86_64 | OK | OK | OK | |||||||
| tokay2 | Windows Server 2012 R2 Standard / x64 | [ OK ] | OK | OK | OK | |||||||
| celaya2 | OS X 10.11.6 El Capitan / x86_64 | OK | OK | OK | OK |
| Package: clipper |
| Version: 1.24.0 |
| Command: C:\cygwin\bin\curl.exe -O https://malbec2.bioconductor.org/BBS/3.9/bioc/src/contrib/clipper_1.24.0.tar.gz && rm -rf clipper.buildbin-libdir && mkdir clipper.buildbin-libdir && C:\Users\biocbuild\bbs-3.9-bioc\R\bin\R.exe CMD INSTALL --merge-multiarch --build --library=clipper.buildbin-libdir clipper_1.24.0.tar.gz && C:\Users\biocbuild\bbs-3.9-bioc\R\bin\R.exe CMD INSTALL clipper_1.24.0.zip && rm clipper_1.24.0.tar.gz clipper_1.24.0.zip |
| StartedAt: 2019-10-15 20:48:21 -0400 (Tue, 15 Oct 2019) |
| EndedAt: 2019-10-15 20:49:41 -0400 (Tue, 15 Oct 2019) |
| EllapsedTime: 79.7 seconds |
| RetCode: 0 |
| Status: OK |
##############################################################################
##############################################################################
###
### Running command:
###
### C:\cygwin\bin\curl.exe -O https://malbec2.bioconductor.org/BBS/3.9/bioc/src/contrib/clipper_1.24.0.tar.gz && rm -rf clipper.buildbin-libdir && mkdir clipper.buildbin-libdir && C:\Users\biocbuild\bbs-3.9-bioc\R\bin\R.exe CMD INSTALL --merge-multiarch --build --library=clipper.buildbin-libdir clipper_1.24.0.tar.gz && C:\Users\biocbuild\bbs-3.9-bioc\R\bin\R.exe CMD INSTALL clipper_1.24.0.zip && rm clipper_1.24.0.tar.gz clipper_1.24.0.zip
###
##############################################################################
##############################################################################
% Total % Received % Xferd Average Speed Time Time Time Current
Dload Upload Total Spent Left Speed
0 0 0 0 0 0 0 0 --:--:-- --:--:-- --:--:-- 0
100 418k 100 418k 0 0 1636k 0 --:--:-- --:--:-- --:--:-- 1685k
install for i386
* installing *source* package 'clipper' ...
** using staged installation
** R
** inst
** byte-compile and prepare package for lazy loading
No methods found in package 'GenomicRanges' for request: 'c' when loading 'qpgraph'
** help
*** installing help indices
converting help for package 'clipper'
finding HTML links ... done
clipper html
clipperAllRoots html
cliqueMeanTest html
cliqueMixedTest html
cliquePairedTest html
cliqueVarianceTest html
deleteEdge html
easyClip html
easyLook html
getGraphEntryGenes html
getJunctionTreePaths html
nameCliques html
pathwayTest html
plotInCytoscape html
prunePaths html
** building package indices
** installing vignettes
** testing if installed package can be loaded from temporary location
No methods found in package 'GenomicRanges' for request: 'c' when loading 'qpgraph'
** testing if installed package can be loaded from final location
No methods found in package 'GenomicRanges' for request: 'c' when loading 'qpgraph'
** testing if installed package keeps a record of temporary installation path
install for x64
* installing *source* package 'clipper' ...
** testing if installed package can be loaded
No methods found in package 'GenomicRanges' for request: 'c' when loading 'qpgraph'
* MD5 sums
packaged installation of 'clipper' as clipper_1.24.0.zip
* DONE (clipper)
* installing to library 'C:/Users/biocbuild/bbs-3.9-bioc/R/library'
package 'clipper' successfully unpacked and MD5 sums checked